Workbook

Sheet status_labour
A1: ตาราง 1 จำนวนและร้อยละของประชากรอายุ 15 ปีขึ้นไป จำแนกตามเพศ และสถานภาพแรงงาน พ.ศ. 2569 (รายไตรมาส)
A3: ไตรมาส | C3: ประชากร | E3: กำลังแรงงานรวม | I3: ผู้อยู่นอกกำลังแรงงาน | O3: อัตราการ
B4: เพศ | C4: อายุ 15 ปี | D4: รวม | F4: กำลังแรงงานปัจจุบัน | H4: กำลังแรงงานที่รอฤดูกาล | I4: รวม | L4: เด็ก/ชรา/ป่วย/พิการจนไม่สามารถทำงานได้ | M4: ผู้ดูแลเด็ก/ผู้สูงอายุผู้ป่วย/ผู้พิการ | O4: ว่างงาน
C5: ขึ้นไป | D5: รวม | E5: รวม | F5: ผู้มีงานทำ | G5: ผู้ว่างงาน | J5: ทำงานบ้าน | K5: เรียนหนังสือ | N5: อื่น ๆ
B6: หน่วย : คน
A7: ไตรมาส 1 | B7: รวม | C7: 703186 | D7: 502543.55 | E7: 502135.13 | F7: 494038.34 | G7: 8096.79 | H7: 409 | I7: 200642.45 | J7: 25327.6 | K7: 46537.77 | L7: 93721.97 | M7: 15429.96 | N7: 19625.15 | O7: 1.6111619
B8: ชาย | C8: 340359 | D8: 270506.54 | E8: 270506.54 | F8: 265224.91 | G8: 5281.63 | H8: 0w | I8: 69852.46 | J8: 844.03 | K8: 19968.67 | L8: 35011.85 | M8: 2511.97 | N8: 11515.94 | O8: 1.9524962
B9: หญิง | C9: 362827 | D9: 232037.01 | E9: 231628 | F9: 228813.43 | G9: 2815.16 | H9: 409 | I9: 130789.99 | J9: 24483.57 | K9: 26569.1 | L9: 58710.11 | M9: 12917.99 | N9: 8109.22 | O9: 1.2132375
B10: หน่วย : ร้อยละ
B11: รวม | C11: =C7/$C$7*100 -> 100 | D11: =D7/$C$7*100 -> 71.46666 | E11: =E7/$C$7*100 -> 71.408579 | F11: =F7/$C$7*100 -> 70.257135 | G11: =G7/$C$7*100 -> 1.1514436 | H11: =H7/$C$7*100 -> 0.058163843 | I11: =I7/$C$7*100 -> 28.53334 | J11: =J7/$C$7*100 -> 3.6018351 | ... N11: =N7/$C$7*100 -> 2.7908903 | O11: =O7 -> 1.6111619
B12: ชาย | C12: =C8/$C$8*100 -> 100 | D12: =D8/$C$8*100 -> 79.476829 | E12: =E8/$C$8*100 -> 79.476829 | F12: =F8/$C$8*100 -> 77.925047 | G12: =G8/$C$8*100 -> 1.5517821 | H12: 0w | I12: =I8/$C$8*100 -> 20.523171 | J12: =J8/$C$8*100 -> 0.24798228 | K12: =K8/$C$8*100 -> 5.8669434 | L12: =L8/$C$8*100 -> 10.286741 | M12: =M8/$C$8*100 -> 0.73803543 | N12: =N8/$C$8*100 -> 3.3834686 | O12: =O8 -> 1.9524962
B13: หญิง | C13: =C9/$C$9*100 -> 100 | D13: =D9/$C$9*100 -> 63.95252 | E13: =E9/$C$9*100 -> 63.839791 | F13: =F9/$C$9*100 -> 63.064058 | G13: =G9/$C$9*100 -> 0.77589595 | H13: =H9/$C$9*100 -> 0.1127259 | I13: =I9/$C$9*100 -> 36.04748 | J13: =J9/$C$9*100 -> 6.7480011 | ... N13: =N9/$C$9*100 -> 2.2350101 | O13: =O9 -> 1.2132375
B14: หน่วย : คน
A15: ไตรมาส 2 | B15: รวม | C15: 703609 | D15: 504992.47 | E15: 504491.54 | F15: 494200.62 | G15: 10290.92 | H15: 500 | I15: 198616.54 | J15: 24416.52 | K15: 50198.58 | L15: 90443.27 | M15: 16664.96 | N15: 16893.19 | O15: 2.0378363
B16: ชาย | C16: 340598 | D16: 267622 | E16: 267367.06 | F16: 261783.7 | G16: 5583.36 | H16: 254.95 | I16: 72976 | J16: 1016.7 | K16: 221011 | L16: 35935.47 | M16: 3855.08 | N16: 10068.45 | O16: 2.0862859
B17: หญิง | C17: 363011 | D17: 237370.46 | E17: 237124.5 | F17: 232416.92 | G17: 4707.56 | H17: 245 | I17: 125640.54 | J17: 23399.83 | K17: 28098.27 | L17: 54507.8 | M17: 12809.88 | N17: 6824.77 | O17: 1.9832122
B18: หน่วย : ร้อยละ
B19: รวม | C19: =C15/$C$15*100 -> 100 | D19: =D15/$C$15*100 -> 71.771747 | E19: =E15/$C$15*100 -> 71.700552 | F19: =F15/$C$15*100 -> 70.237962 | G19: =G15/$C$15*100 -> 1.4625907 | H19: =H15/$C$15*100 -> 0.071062195 | I19: =I15/$C$15*100 -> 28.228255 | J19: =J15/$C$15*100 -> 3.470183 | ... N19: =N15/$C$15*100 -> 2.4009343 | O19: 2.0378363
B20: ชาย | C20: =C16/$C$16*100 -> 100 | D20: =D16/$C$16*100 -> 78.574155 | E20: =E16/$C$16*100 -> 78.499304 | F20: =F16/$C$16*100 -> 76.860023 | G20: =G16/$C$16*100 -> 1.6392815 | H20: =H16/$C$16*100 -> 0.07485364 | I20: =I16/$C$16*100 -> 21.425845 | J20: =J16/$C$16*100 -> 0.2985044 | ... N20: =N16/$C$16*100 -> 2.9561095 | O20: 2.0862859
B21: หญิง | C21: =C17/$C$17*100 -> 100 | D21: =D17/$C$17*100 -> 65.38933 | E21: =E17/$C$17*100 -> 65.321574 | F21: =F17/$C$17*100 -> 64.02476 | G21: =G17/$C$17*100 -> 1.2968092 | H21: =H17/$C$17*100 -> 0.067491068 | I21: =I17/$C$17*100 -> 34.61067 | J21: =J17/$C$17*100 -> 6.4460388 | ... N21: =N17/$C$17*100 -> 1.880045 | O21: 1.9832122
B22: หน่วย : คน
A23: ไตรมาส 3 | B23: รวม | C23: 703991 | D23: 500482.95 | E23: 500482.95 | F23: 496439.77 | G23: 4043.18 | H23: 0w | I23: 203508.05 | J23: 23152.73 | K23: 51124.9 | L23: 94192.42 | M23: 14321.85 | N23: 20716.15 | O23: 0.80785569
B24: ชาย | C24: 340825 | D24: 262616.57 | E24: 262616.57 | F24: 260981.9 | G24: 1634.67 | H24: 0w | I24: 78208.43 | J24: 991.23 | K24: 23176.16 | L24: 36736 | M24: 2917.85 | N24: 14386.55 | O24: 0.62245501
B25: หญิง | C25: 363166 | D25: 237866.38 | E25: 237866.38 | F25: 235457.87 | G25: 2408 | H25: 0w | I25: 125299.62 | J25: 22161.5 | K25: 27948.74 | L25: 57455.79 | M25: 11404 | N25: 6329 | O25: 1.0125475
B26: หน่วย : ร้อยละ
B27: รวม | C27: =C23/$C$23*100 -> 100 | D27: =D23/$C$23*100 -> 71.092237 | E27: =E23/$C$23*100 -> 71.092237 | F27: =F23/$C$23*100 -> 70.517914 | G27: =G23/$C$23*100 -> 0.57432268 | H27: 0w | I27: =I23/$C$23*100 -> 28.907763 | J27: =J23/$C$23*100 -> 3.2887821 | K27: =K23/$C$23*100 -> 7.2621525 | L27: =L23/$C$23*100 -> 13.379776 | M27: =M23/$C$23*100 -> 2.0343797 | N27: =N23/$C$23*100 -> 2.9426726 | O27: 0.80785569
B28: ชาย | C28: =C24/$C$24*100 -> 100 | D28: =D24/$C$24*100 -> 77.0532 | E28: =E24/$C$24*100 -> 77.0532 | F28: =F24/$C$24*100 -> 76.573579 | G28: =G24/$C$24*100 -> 0.47962151 | H28: 0w | I28: =I24/$C$24*100 -> 22.9468 | J28: =J24/$C$24*100 -> 0.29083254 | K28: =K24/$C$24*100 -> 6.8000176 | L28: =L24/$C$24*100 -> 10.778552 | M28: =M24/$C$24*100 -> 0.85611384 | N28: =N24/$C$24*100 -> 4.2210959 | O28: 0.62245501
B29: หญิง | C29: =C25/$C$25*100 -> 100 | D29: =D25/$C$25*100 -> 65.497976 | E29: =E25/$C$25*100 -> 65.497976 | F29: =F25/$C$25*100 -> 64.834778 | G29: =G25/$C$25*100 -> 0.66305767 | H29: 0w | I29: =I25/$C$25*100 -> 34.502024 | J29: =J25/$C$25*100 -> 6.1023058 | K29: =K25/$C$25*100 -> 7.6958581 | L29: =L25/$C$25*100 -> 15.820806 | M29: =M25/$C$25*100 -> 3.1401618 | N29: =N25/$C$25*100 -> 1.7427292 | O29: 1.0125475
A30: ที่มา : การสำรวจภาวะการทำงานของประชากร พ.ศ. 2569 สำนักงานสถิติจังหวัดกาญจนบุรี
A31: หมายเหตุ : "0w" ข้อมูลจากการสำรวจตัวอย่างมีค่าเป็น 0
B32: สำรวจจากครัวเรือนตัวอย่างในจังหวัดกาญจนบุรี ทุกเดือน เดือนละ 384 ครัวเรือน ขนาดตัวอย่างจึงไม่สามารถนำเสนอผลในระดับอำเภอได้

Sheet Edu_pop
A1: ตาราง 2 จำนวนและร้อยละของประชากรอายุ 15 ปีขึ้นไป จำแนกตามเพศ และระดับการศึกษาที่สำเร็จ พ.ศ. 2569 (รายไตรมาส)
A3: ไตรมาส | E3: ต่ำกว่า | F3: ประถม | G3: มัธยมศึกษา | H3: มัธยมศึกษาตอนปลาย | J3: อุดมศึกษา
B4: เพศ | C4: รวม | D4: ไม่มีการศึกษา | E4: ประถมศึกษา | F4: ศึกษา | G4: ตอนต้น | H4: สายสามัญ | I4: สายอาชีว- | J4: สายวิชาการ | K4: สายวิชาชีพ | L4: อื่น ๆ | M4: ไม่ทราบ
I5: ศึกษา
B6: หน่วย : คน
A7: ไตรมาส 1 | B7: รวม | C7: 494038.34 | D7: 40449.72 | E7: 64098.28 | F7: 112889.2 | G7: 73548.38 | H7: 71104.39 | I7: 24755.02 | J7: 73415.68 | K7: 31541.99 | L7: 0w | M7: 2235.69
B8: ชาย | C8: 265224.91 | D8: 20194.18 | E8: 27448.76 | F8: 65838.94 | G8: 42069.49 | H8: 41907.13 | I8: 17302.65 | J8: 30451 | K8: 19660.19 | L8: 0w | M8: 353.18
B9: หญิง | C9: 228813.43 | D9: 20255.55 | E9: 36649 | F9: 47050.26 | G9: 31478.89 | H9: 29197.26 | I9: 7452.36 | J9: 42965.29 | K9: 11881.79 | L9: 0w | M9: 1882.51
B10: หน่วย : ร้อยละ
B11: รวม | C11: =C7/$C$7*100 -> 100 | D11: =D7/$C$7*100 -> 8.187567 | E11: =E7/$C$7*100 -> 12.974353 | F11: =F7/$C$7*100 -> 22.850291 | G11: =G7/$C$7*100 -> 14.887181 | H11: =H7/$C$7*100 -> 14.392484 | I11: =I7/$C$7*100 -> 5.0107488 | J11: =J7/$C$7*100 -> 14.86032 | K11: =K7/$C$7*100 -> 6.3845227 | L11: 0w | M11: =M7/$C$7*100 -> 0.4525337
B12: ชาย | C12: =C8/$C$8*100 -> 100 | D12: =D8/$C$8*100 -> 7.6139832 | E12: =E8/$C$8*100 -> 10.349239 | F12: =F8/$C$8*100 -> 24.823815 | G12: =G8/$C$8*100 -> 15.861817 | H12: =H8/$C$8*100 -> 15.800601 | I12: =I8/$C$8*100 -> 6.5237651 | J12: =J8/$C$8*100 -> 11.481199 | K12: =K8/$C$8*100 -> 7.4126484 | L12: 0w | M12: =M8/$C$8*100 -> 0.13316245
B13: หญิง | C13: =C9/$C$9*100 -> 100 | D13: =D9/$C$9*100 -> 8.8524306 | E13: =E9/$C$9*100 -> 16.016979 | F13: =F9/$C$9*100 -> 20.562718 | G13: =G9/$C$9*100 -> 13.757449 | H13: =H9/$C$9*100 -> 12.760291 | I13: =I9/$C$9*100 -> 3.2569592 | J13: =J9/$C$9*100 -> 18.777434 | K13: =K9/$C$9*100 -> 5.1927852 | L13: 0w | M13: =M9/$C$9*100 -> 0.82272706
B14: หน่วย : คน
A15: ไตรมาส 2 | B15: รวม | C15: 703609 | D15: 69209.56 | E15: 121046.8 | F15: 149718.81 | G15: 121956.32 | H15: 97489.19 | I15: 27042.8 | J15: 80031.73 | K15: 33034.49 | L15: 0w | M15: 4079.3
B16: ชาย | C16: 340598 | D16: 25133.7 | E16: 47264.7 | F16: 80393.63 | G16: 68006.52 | H16: 46045.78 | I16: 16989.84 | J16: 35792.2 | K16: 19181.16 | L16: 0w | M16: 1790.47
B17: หญิง | C17: 363011 | D17: 44075.86 | E17: 73782.1 | F17: 69325.19 | G17: 53949.81 | H17: 51443.41 | I17: 10052.96 | J17: 44239.53 | K17: 13853.32 | L17: 0w | M17: 2288.83
B18: หน่วย : ร้อยละ
B19: รวม | C19: =C15/$C$15*100 -> 100 | D19: =D15/$C$15*100 -> 9.8363665 | E19: =E15/$C$15*100 -> 17.203703 | F19: =F15/$C$15*100 -> 21.278695 | G19: =G15/$C$15*100 -> 17.332968 | H19: =H15/$C$15*100 -> 13.855592 | I19: =I15/$C$15*100 -> 3.8434415 | J19: =J15/$C$15*100 -> 11.374461 | K19: =K15/$C$15*100 -> 4.6950067 | L19: 0w | M19: =M15/$C$15*100 -> 0.57976802
B20: ชาย | C20: =C16/$C$16*100 -> 100 | D20: =D16/$C$16*100 -> 7.3792858 | E20: =E16/$C$16*100 -> 13.876975 | F20: =F16/$C$16*100 -> 23.603671 | G20: =G16/$C$16*100 -> 19.9668 | H20: =H16/$C$16*100 -> 13.519099 | I20: =I16/$C$16*100 -> 4.9882383 | J20: =J16/$C$16*100 -> 10.508635 | K20: =K16/$C$16*100 -> 5.6316126 | L20: 0w | M20: =M16/$C$16*100 -> 0.52568424
B21: หญิง | C21: =C17/$C$17*100 -> 100 | D21: =D17/$C$17*100 -> 12.141742 | E21: =E17/$C$17*100 -> 20.325031 | F21: =F17/$C$17*100 -> 19.09727 | G21: =G17/$C$17*100 -> 14.861756 | H21: =H17/$C$17*100 -> 14.171309 | I21: =I17/$C$17*100 -> 2.7693265 | J21: =J17/$C$17*100 -> 12.186829 | K21: =K17/$C$17*100 -> 3.816226 | L21: 0w | M21: =M17/$C$17*100 -> 0.63051257
B22: หน่วย : คน
A23: ไตรมาส 3 | B23: รวม | C23: 703991 | D23: 63971.45 | E23: 119834.13 | F23: 158116.48 | G23: 124759.29 | H23: 93584.45 | I23: 22165.25 | J23: 86447.12 | K23: 34158.38 | L23: 0w | M23: 954.46
B24: ชาย | C24: 340825 | D24: 24383.91 | E24: 49320.74 | F24: 81576.94 | G24: 68751.9 | H24: 43738.38 | I24: 14402.06 | J24: 37839.37 | K24: 20477.21 | L24: 0w | M24: 334.5
B25: หญิง | C25: 363166 | D25: 39587.54 | E25: 70513.39 | F25: 76539.53 | G25: 56007.39 | H25: 49846.07 | I25: 7763.2 | J25: 48607.75 | K25: 13681.17 | L25: 0w | M25: 619.96
B26: หน่วย : ร้อยละ
B27: รวม | C27: =C23/$C$23*100 -> 100 | D27: =D23/$C$23*100 -> 9.0869699 | E27: =E23/$C$23*100 -> 17.022111 | F27: =F23/$C$23*100 -> 22.460014 | G27: =G23/$C$23*100 -> 17.721717 | H27: =H23/$C$23*100 -> 13.293416 | I27: =I23/$C$23*100 -> 3.1485133 | J27: =J23/$C$23*100 -> 12.279577 | K27: =K23/$C$23*100 -> 4.8521046 | L27: 0w | M27: =M23/$C$23*100 -> 0.13557844
B28: ชาย | C28: =C24/$C$24*100 -> 100 | D28: =D24/$C$24*100 -> 7.1543783 | E28: =E24/$C$24*100 -> 14.470987 | F28: =F24/$C$24*100 -> 23.93514 | G28: =G24/$C$24*100 -> 20.1722 | H28: =H24/$C$24*100 -> 12.83309 | I28: =I24/$C$24*100 -> 4.2256466 | J28: =J24/$C$24*100 -> 11.102287 | K28: =K24/$C$24*100 -> 6.0081303 | L28: 0w | M28: =M24/$C$24*100 -> 0.098144209
B29: หญิง | C29: =C25/$C$25*100 -> 100 | D29: =D25/$C$25*100 -> 10.900674 | E29: =E25/$C$25*100 -> 19.416297 | F29: =F25/$C$25*100 -> 21.075632 | G29: =G25/$C$25*100 -> 15.421981 | H29: =H25/$C$25*100 -> 13.725423 | I29: =I25/$C$25*100 -> 2.137645 | J29: =J25/$C$25*100 -> 13.384444 | K29: =K25/$C$25*100 -> 3.7671946 | L29: 0w | M29: =M25/$C$25*100 -> 0.17070981
A31: หมายเหตุ : "0w" ข้อมูลจากการสำรวจตัวอย่างมีค่าเป็น 0
A32: ที่มา : การสำรวจภาวะการทำงานของประชากร พ.ศ. 2569 สำนักงานสถิติจังหวัดกาญจนบุรี

Sheet Edu_labour
A1: ตาราง 3 จำนวนและร้อยละของผู้มีงานทำ จำแนกตามเพศ และระดับการศึกษาที่สำเร็จ พ.ศ. 2569 (รายไตรมาส)
A3: ไตรมาส | E3: ต่ำกว่า | F3: ประถม | G3: มัธยมศึกษา | H3: มัธยมศึกษาตอนปลาย | J3: อุดมศึกษา
B4: เพศ | C4: รวม | D4: ไม่มีการศึกษา | E4: ประถมศึกษา | F4: ศึกษา | G4: ตอนต้น | H4: สายสามัญ | I4: สายอาชีว- | J4: สายวิชาการ | K4: สายวิชาชีพ | L4: อื่น ๆ | M4: ไม่ทราบ
I5: ศึกษา
B6: หน่วย : คน
A7: ไตรมาส 1 | B7: รวม | C7: 494038.34 | D7: 40449.72 | E7: 64098.28 | F7: 112889.2 | G7: 73548.38 | H7: 71104.39 | I7: 24755.02 | J7: 73415.68 | K7: 31541.99 | L7: 0w | M7: 2235.69
B8: ชาย | C8: 265224.91 | D8: 20194.18 | E8: 27448.76 | F8: 65838.94 | G8: 42069.49 | H8: 41907.13 | I8: 17302.65 | J8: 30451 | K8: 19660.19 | L8: 0w | M8: 353.18
B9: หญิง | C9: 228813.43 | D9: 20255.55 | E9: 36649 | F9: 47050.26 | G9: 31478.89 | H9: 29197.26 | I9: 7452.36 | J9: 42965.29 | K9: 11881.79 | L9: 0w | M9: 1882.51
B10: หน่วย : ร้อยละ
B11: รวม | C11: =C7/$C$7*100 -> 100 | D11: =D7/$C$7*100 -> 8.187567 | E11: =E7/$C$7*100 -> 12.974353 | F11: =F7/$C$7*100 -> 22.850291 | G11: =G7/$C$7*100 -> 14.887181 | H11: =H7/$C$7*100 -> 14.392484 | I11: =I7/$C$7*100 -> 5.0107488 | J11: =J7/$C$7*100 -> 14.86032 | K11: =K7/$C$7*100 -> 6.3845227 | L11: 0w | M11: =M7/$C$7*100 -> 0.4525337
B12: ชาย | C12: =C8/$C$8*100 -> 100 | D12: =D8/$C$8*100 -> 7.6139832 | E12: =E8/$C$8*100 -> 10.349239 | F12: =F8/$C$8*100 -> 24.823815 | G12: =G8/$C$8*100 -> 15.861817 | H12: =H8/$C$8*100 -> 15.800601 | I12: =I8/$C$8*100 -> 6.5237651 | J12: =J8/$C$8*100 -> 11.481199 | K12: =K8/$C$8*100 -> 7.4126484 | L12: 0w | M12: =M8/$C$8*100 -> 0.13316245
B13: หญิง | C13: =C9/$C$9*100 -> 100 | D13: =D9/$C$9*100 -> 8.8524306 | E13: =E9/$C$9*100 -> 16.016979 | F13: =F9/$C$9*100 -> 20.562718 | G13: =G9/$C$9*100 -> 13.757449 | H13: =H9/$C$9*100 -> 12.760291 | I13: =I9/$C$9*100 -> 3.2569592 | J13: =J9/$C$9*100 -> 18.777434 | K13: =K9/$C$9*100 -> 5.1927852 | L13: 0w | M13: =M9/$C$9*100 -> 0.82272706
B14: หน่วย : คน
A15: ไตรมาส 2 | B15: รวม | C15: 494200.62 | D15: 37943.49 | E15: 65848.61 | F15: 122023.65 | G15: 77405.95 | H15: 72306.24 | I15: 21615.21 | J15: 64098.45 | K15: 29781.3 | L15: 0w | M15: 3177.71
B16: ชาย | C16: 261783.7 | D16: 19056.78 | E16: 28109.61 | F16: 68713.82 | G16: 46935.4 | H16: 35415.03 | I16: 15287.38 | J16: 29448.38 | K16: 17026.83 | L16: 0w | M16: 1790.47
B17: หญิง | C17: 232416.92 | D17: 18886.71 | E17: 37739.01 | F17: 53309.83 | G17: 30470.55 | H17: 36891.22 | I17: 6327.83 | J17: 34650.07 | K17: 12754.47 | L17: 0w | M17: 1387.24
B18: หน่วย : ร้อยละ
B19: รวม | C19: =C15/$C$15*100 -> 100 | D19: =D15/$C$15*100 -> 7.6777504 | E19: =E15/$C$15*100 -> 13.324267 | F19: =F15/$C$15*100 -> 24.691116 | G19: =G15/$C$15*100 -> 15.66286 | H19: =H15/$C$15*100 -> 14.630949 | I19: =I15/$C$15*100 -> 4.3737723 | J19: =J15/$C$15*100 -> 12.970127 | K19: =K15/$C$15*100 -> 6.0261559 | L19: 0w | M19: =M15/$C$15*100 -> 0.643
B20: ชาย | C20: =C16/$C$16*100 -> 100 | D20: =D16/$C$16*100 -> 7.27959 | E20: =E16/$C$16*100 -> 10.737724 | F20: =F16/$C$16*100 -> 26.248319 | G20: =G16/$C$16*100 -> 17.929077 | H20: =H16/$C$16*100 -> 13.528356 | I20: =I16/$C$16*100 -> 5.839699 | J20: =J16/$C$16*100 -> 11.249127 | K20: =K16/$C$16*100 -> 6.5041597 | L20: 0w | M20: =M16/$C$16*100 -> 0.68395015
B21: หญิง | C21: =C17/$C$17*100 -> 100 | D21: =D17/$C$17*100 -> 8.1262199 | E21: =E17/$C$17*100 -> 16.237635 | F21: =F17/$C$17*100 -> 22.937155 | G21: =G17/$C$17*100 -> 13.110298 | H21: =H17/$C$17*100 -> 15.872863 | I21: =I17/$C$17*100 -> 2.7226202 | J21: =J17/$C$17*100 -> 14.908583 | K21: =K17/$C$17*100 -> 5.4877545 | L21: 0w | M21: =M17/$C$17*100 -> 0.59687565
B22: หน่วย : คน
A23: ไตรมาส 3 | B23: รวม | C23: 496439.77 | D23: 12747.65 | E23: 14137.79 | F23: 16482.7 | G23: 24474.19 | H23: 103916.78 | I23: 133703.11 | J23: 56878.45 | K23: 27692.25 | L23: 106406.85 | M23: 0w
B24: ชาย | C24: 260981.9 | D24: 8598.39 | E24: 3953.6 | F24: 7809.94 | G24: 8006.38 | H24: 38382.12 | I24: 73129.22 | J24: 40348.78 | K24: 23323.83 | L24: 57429.64 | M24: 0w
B25: หญิง | C25: 235457.87 | D25: 4149.25 | E25: 10184.19 | F25: 8672.76 | G25: 16467.8 | H25: 65534.66 | I25: 60573.9 | J25: 16529.67 | K25: 4368.43 | L25: 48977.21 | M25: 0w
B26: หน่วย : ร้อยละ
B27: รวม | C27: =C23/$C$23*100 -> 100 | D27: =D23/$C$23*100 -> 2.567814 | E27: =E23/$C$23*100 -> 2.8478359 | F27: =F23/$C$23*100 -> 3.3201812 | G27: =G23/$C$23*100 -> 4.9299415 | H27: =H23/$C$23*100 -> 20.932404 | I27: =I23/$C$23*100 -> 26.932393 | J27: =J23/$C$23*100 -> 11.457271 | K27: =K23/$C$23*100 -> 5.5781691 | L27: 0w | M27: 0w
B28: ชาย | C28: =C24/$C$24*100 -> 100 | D28: =D24/$C$24*100 -> 3.2946308 | E28: =E24/$C$24*100 -> 1.5148943 | F28: =F24/$C$24*100 -> 2.9925217 | G28: =G24/$C$24*100 -> 3.0677913 | H28: =H24/$C$24*100 -> 14.706813 | I28: =I24/$C$24*100 -> 28.020801 | J28: =J24/$C$24*100 -> 15.460375 | K28: =K24/$C$24*100 -> 8.9369531 | L28: 0w | M28: 0w
B29: หญิง | C29: =C25/$C$25*100 -> 100 | D29: =D25/$C$25*100 -> 1.7622048 | E29: =E25/$C$25*100 -> 4.3252706 | F29: =F25/$C$25*100 -> 3.6833596 | G29: =G25/$C$25*100 -> 6.9939476 | H29: =H25/$C$25*100 -> 27.83286 | I29: =I25/$C$25*100 -> 25.726004 | J29: =J25/$C$25*100 -> 7.020224 | K29: =K25/$C$25*100 -> 1.8552916 | L29: 0w | M29: 0w
A31: หมายเหตุ : "0w" ข้อมูลจากการสำรวจตัวอย่างมีค่าเป็น 0
A32: ที่มา : การสำรวจภาวะการทำงานของประชากร พ.ศ. 2569 สำนักงานสถิติจังหวัดกาญจนบุรี

Sheet occupation
A1: ตาราง 4 จำนวนและร้อยละของผู้มีงานทำ จำแนกตามเพศ และอาชีพ พ.ศ. 2569 (รายไตรมาส)
D3: ผู้จัดการ | E3: ผู้ประกอบ | F3: เจ้าหน้าที่เทคนิค | G3: เสมียน | H3: พนักงานบริการ | I3: ผู้ปฏิบัติงาน | J3: ช่างฝีมือ | K3: ผู้ควบคุม | L3: ผู้ประกอบอาชีพ | M3: คนงาน
A4: ไตรมาส | B4: เพศ | C4: รวม | D4: ข้าราชการอาวุโส | E4: วิชาชีพ | F4: และผู้ประกอบ | H4: และผู้จำหน่าย | I4: ที่มีฝีมือในด้าน | J4: และผู้ปฎิบัติงาน | K4: เครื่องจักรโรงงาน | L4: งานพื้นฐาน | M4: ซึ่งมิได้
D5: และผู้บัญญัติ | E5: ด้านต่าง ๆ | F5: วิชาชีพที่ | H5: สินค้า | I5: การเกษตร ป่าไม้ | J5: ที่เกี่ยวข้องฯ | K5: และเครื่องจักรฯ | M5: จำแนกไว้ใน
D6: กฏหมาย | F6: เกี่ยวข้องฯ | I6: และการประมง | M6: หมวดอื่น
B7: หน่วย : คน
A8: ไตรมาส 1 | B8: รวม | C8: 494038.34 | D8: 14415.79 | E8: 15925.98 | F8: 16976.38 | G8: 23637.14 | H8: 98493.98 | I8: 142636.3 | J8: 51322.7 | K8: 36107 | L8: 94365.52 | M8: 156.92
B9: ชาย | C9: 265224.91 | D9: 9641.51 | E9: 6096.38 | F9: 8542.28 | G9: 6612.86 | H9: 34304.83 | I9: 81000.9 | J9: 38134 | K9: 29878.37 | L9: 51013.78 | M9: 0w
B10: หญิง | C10: 228813.43 | D10: 4774.28 | E10: 9829.61 | F10: 8434.11 | G10: 17024.28 | H10: 64189.14 | I10: 61635.4 | J10: 13188.71 | K10: 6229.26 | L10: 43351.73 | M10: 156.92
B11: หน่วย : ร้อยละ
B12: รวม | C12: =C8/$C$8*100 -> 100 | D12: =D8/$C$8*100 -> 2.9179496 | E12: =E8/$C$8*100 -> 3.2236324 | F12: =F8/$C$8*100 -> 3.4362475 | G12: =G8/$C$8*100 -> 4.7844748 | H12: =H8/$C$8*100 -> 19.936505 | I12: =I8/$C$8*100 -> 28.871504 | J12: =J8/$C$8*100 -> 10.388404 | ... M12: =M8/$C$8*100 -> 0.031762717
B13: ชาย | C13: =C9/$C$9*100 -> 100 | D13: =D9/$C$9*100 -> 3.6352204 | E13: =E9/$C$9*100 -> 2.2985699 | F13: =F9/$C$9*100 -> 3.2207684 | G13: =G9/$C$9*100 -> 2.4933028 | H13: =H9/$C$9*100 -> 12.934241 | I13: =I9/$C$9*100 -> 30.540457 | J13: =J9/$C$9*100 -> 14.377986 | ... L13: =L9/$C$9*100 -> 19.234159 | M13: 0w
B14: หญิง | C14: =C10/$C$10*100 -> 100 | D14: =D10/$C$10*100 -> 2.0865384 | E14: =E10/$C$10*100 -> 4.2959061 | F14: =F10/$C$10*100 -> 3.6860205 | G14: =G10/$C$10*100 -> 7.4402451 | H14: =H10/$C$10*100 -> 28.053047 | I14: =I10/$C$10*100 -> 26.936968 | J14: =J10/$C$10*100 -> 5.763958 | ... M14: =M10/$C$10*100 -> 0.068579891
B15: หน่วย : คน
A16: ไตรมาส 2 | B16: รวม | C16: 494200.62 | D16: 14554.81 | E16: 18681.82 | F16: 13256.09 | G16: 23173.78 | H16: 99353.57 | I16: 149519.86 | J16: 50700.03 | K16: 31234.67 | L16: 93592.24 | M16: 133.75
B17: ชาย | C17: 261783.7 | D17: 9080.58 | E17: 8973.85 | F17: 5178.35 | G17: 8903.02 | H17: 34856.39 | I17: 86888.93 | J17: 38332.32 | K17: 23149.29 | L17: 46287.22 | M17: 133.75
B18: หญิง | C18: 232416.92 | D18: 5474.23 | E18: 9707.97 | F18: 8077.74 | G18: 14270.76 | H18: 64497.18 | I18: 62630.92 | J18: 12367.71 | K18: 8085.38 | L18: 47305.03 | M18: 0w
B19: หน่วย : ร้อยละ
B20: รวม | C20: =C16/$C$16*100 -> 100 | D20: =D16/$C$16*100 -> 2.9451218 | E20: =E16/$C$16*100 -> 3.7802097 | F20: =F16/$C$16*100 -> 2.6823297 | G20: =G16/$C$16*100 -> 4.6891443 | H20: =H16/$C$16*100 -> 20.103894 | I20: =I16/$C$16*100 -> 30.254891 | J20: =J16/$C$16*100 -> 10.258998 | ... M20: =M16/$C$16*100 -> 0.027063908
B21: ชาย | C21: =C17/$C$17*100 -> 100 | D21: =D17/$C$17*100 -> 3.4687339 | E21: =E17/$C$17*100 -> 3.4279636 | F21: =F17/$C$17*100 -> 1.9781025 | G21: =G17/$C$17*100 -> 3.4009069 | H21: =H17/$C$17*100 -> 13.314958 | I21: =I17/$C$17*100 -> 33.191115 | J21: =J17/$C$17*100 -> 14.642745 | ... M21: =M17/$C$17*100 -> 0.051091798
B22: หญิง | C22: =C18/$C$18*100 -> 100 | D22: =D18/$C$18*100 -> 2.3553492 | E22: =E18/$C$18*100 -> 4.1769635 | F22: =F18/$C$18*100 -> 3.4755387 | G22: =G18/$C$18*100 -> 6.1401554 | H22: =H18/$C$18*100 -> 27.750639 | I22: =I18/$C$18*100 -> 26.947659 | J22: =J18/$C$18*100 -> 5.3213467 | ... L22: =L18/$C$18*100 -> 20.353522 | M22: 0w
B23: หน่วย : คน
A24: ไตรมาส 3 | B24: รวม | C24: 496439.77 | D24: 12747.65 | E24: 14137.79 | F24: 16482.7 | G24: 24474.19 | H24: 103916.78 | I24: 133703.11 | J24: 56878.45 | K24: 27692.25 | L24: 106406.85 | M24: 0w
B25: ชาย | C25: 260981.9 | D25: 8598.39 | E25: 3953.6 | F25: 7809.94 | G25: 8006.38 | H25: 38382.12 | I25: 73129.22 | J25: 40348.78 | K25: 23323.83 | L25: 57429.64 | M25: 0w
B26: หญิง | C26: 235457.87 | D26: 4149.25 | E26: 10184.19 | F26: 8672.76 | G26: 16467.8 | H26: 65534.66 | I26: 60573.9 | J26: 16529.67 | K26: 4368.43 | L26: 48977.21 | M26: 0w
B27: หน่วย : ร้อยละ
B28: รวม | C28: =C24/$C$24*100 -> 100 | D28: =D24/$C$24*100 -> 2.567814 | E28: =E24/$C$24*100 -> 2.8478359 | F28: =F24/$C$24*100 -> 3.3201812 | G28: =G24/$C$24*100 -> 4.9299415 | H28: =H24/$C$24*100 -> 20.932404 | I28: =I24/$C$24*100 -> 26.932393 | J28: =J24/$C$24*100 -> 11.457271 | ... L28: =L24/$C$24*100 -> 21.43399 | M28: 0w
B29: ชาย | C29: =C25/$C$25*100 -> 100 | D29: =D25/$C$25*100 -> 3.2946308 | E29: =E25/$C$25*100 -> 1.5148943 | F29: =F25/$C$25*100 -> 2.9925217 | G29: =G25/$C$25*100 -> 3.0677913 | H29: =H25/$C$25*100 -> 14.706813 | I29: =I25/$C$25*100 -> 28.020801 | J29: =J25/$C$25*100 -> 15.460375 | ... L29: =L25/$C$25*100 -> 22.00522 | M29: 0w
B30: หญิง | C30: =C26/$C$26*100 -> 100 | D30: =D26/$C$26*100 -> 1.7622048 | E30: =E26/$C$26*100 -> 4.3252706 | F30: =F26/$C$26*100 -> 3.6833596 | G30: =G26/$C$26*100 -> 6.9939476 | H30: =H26/$C$26*100 -> 27.83286 | I30: =I26/$C$26*100 -> 25.726004 | J30: =J26/$C$26*100 -> 7.020224 | ... L30: =L26/$C$26*100 -> 20.800838 | M30: 0w
A32: หมายเหตุ : "0w" ข้อมูลจากการสำรวจตัวอย่างมีค่าเป็น 0
A33: ที่มา : การสำรวจภาวะการทำงานของประชากร พ.ศ. 2569 สำนักงานสถิติจังหวัดกาญจนบุรี

Sheet Industry
A1: ตาราง 5 จำนวนและร้อยละของผู้มีงานทำ จำแนกตามเพศ และกิจกรรมทางเศรษฐกิจ พ.ศ. 2569 (รายไตรมาส) | P1: ตาราง 5 จำนวนและร้อยละของผู้มีงานทำ จำแนกตามเพศ และอุตสาหกรรม พ.ศ. 2568 (ต่อ)
A3: ไตรมาส | D3: เกษตรกรรม | E3: การทำ | F3: การผลิต | G3: การไฟฟ้า | H3: การจัดหาน้ำ | I3: การ | J3: การขายส่ง | K3: การขนส่ง | L3: ที่พักแรม | M3: ข้อมูลข่าวสาร | N3: กิจการทาง | O3: กิจกรรม | P3: กิจกรรม | Q3: กิจกรรม | R3: การบริหาร | S3: การศึกษา | T3: กิจกรรม | U3: ศิลปะ | V3: กิจกรรม | W3: กิจกรรมการจ้าง- | X3: กิจกรรมของ | Y3: ไม่ทราบ
B4: เพศ | C4: รวม | D4: การป่าไม้และ | E4: เหมืองแร่ | G4: ก๊าซและ | H4: และการ | I4: ก่อสร้าง | J4: และการ | K4: และสถานที่ | L4: และการบริการ | M4: และการ | N4: การเงินและ | O4: อสังหาริมทรัพย์ | P4: ทางวิชาชีพฯ | Q4: การบริหารฯ | R4: ราชการฯ | T4: ด้านสุขภาพฯ | U4: ความบันเทิง | V4: บริการ | W4: งานในครัวเรือน | X4: องค์การระ-
D5: การประมง | E5: เหมืองหิน | G5: ไอน้ำ | H5: บำบัดน้ำเสียฯ | J5: การขายปลีกฯ | K5: เก็บสินค้า | L5: ด้านอาหาร | M5: สื่อสาร | N5: การประกันภัย | U5: และนันทนาการ | V5: ด้านอื่น ๆ | W5: ส่วนบุคคลฯ | X5: หว่างประเทศฯ
B6: หน่วย : คน | N6: หน่วย : คน
A7: ไตรมาส 1 | B7: รวม | C7: 494038.34 | D7: 193235.52 | E7: 1170.71 | F7: 57317.91 | G7: 3328.88 | H7: 1016.97 | I7: 26160.46 | J7: 72027.56 | K7: 9430.62 | L7: 41370.99 | M7: 1752.75 | N7: 6566.31 | O7: 1819 | P7: 3156 | Q7: 5556.66 | R7: 24708.46 | S7: 9381.04 | T7: 5546.7 | U7: 9704.97 | V7: 18807.36 | W7: 1978.19 | X7: 0w | Y7: 0w
B8: ชาย | C8: 265224.91 | D8: 111931.02 | E8: 1170.71 | F8: 32595.1 | G8: 2467.07 | H8: 839.25 | I8: 20119.33 | J8: 34966.69 | K8: 6703.61 | L8: 13657 | M8: 1752.75 | N8: 3368.78 | O8: 625.11 | P8: 1190.43 | Q8: 3464.66 | R8: 12894.05 | S8: 3510.65 | T8: 351.66 | U8: 4279.45 | V8: 9337 | W8: 0w | X8: 0w | Y8: 0w
B9: หญิง | C9: 228813.43 | D9: 81304.5 | E9: 0w | F9: 24722.81 | G9: 861.81 | H9: 177.72 | I9: 6041.13 | J9: 37060.87 | K9: 2727.01 | L9: 27713.99 | M9: 0w | N9: 3197 | O9: 1194.47 | P9: 1966.28 | Q9: 2092 | R9: 11814.4 | S9: 5870.39 | T9: 5195.04 | U9: 5425.52 | V9: 9469.78 | W9: 1978.19 | X9: 0w | Y9: 0w
B10: หน่วย : ร้อยละ | N10: หน่วย : ร้อยละ
B11: รวม | C11: =C7/$C$7*100 -> 100 | D11: =D7/$C$7*100 -> 39.113466 | E11: =E7/$C$7*100 -> 0.23696744 | F11: =F7/$C$7*100 -> 11.601915 | G11: =G7/$C$7*100 -> 0.67381005 | H11: =H7/$C$7*100 -> 0.2058484 | I11: =I7/$C$7*100 -> 5.2952287 | J11: =J7/$C$7*100 -> 14.579346 | ... W11: =W7/$C$7*100 -> 0.40041224 | X11: 0w | Y11: 0w
B12: ชาย | C12: =C8/$C$8*100 -> 100 | D12: =D8/$C$8*100 -> 42.202303 | E12: =E8/$C$8*100 -> 0.44140273 | F12: =F8/$C$8*100 -> 12.289607 | G12: =G8/$C$8*100 -> 0.93018035 | H12: =H8/$C$8*100 -> 0.31642955 | I12: =I8/$C$8*100 -> 7.5857618 | J12: =J8/$C$8*100 -> 13.183788 | ... V12: =V8/$C$8*100 -> 3.5204084 | W12: 0w | X12: 0w | Y12: 0w
B13: หญิง | C13: =C9/$C$9*100 -> 100 | D13: =D9/$C$9*100 -> 35.533098 | E13: 0w | F13: =F9/$C$9*100 -> 10.80479 | G13: =G9/$C$9*100 -> 0.3766431 | H13: =H9/$C$9*100 -> 0.077670266 | I13: =I9/$C$9*100 -> 2.640199 | J13: =J9/$C$9*100 -> 16.196982 | K13: =K9/$C$9*100 -> 1.191805 | L13: =L9/$C$9*100 -> 12.112047 | M13: 0w | N13: =N9/$C$9*100 -> 1.3972082 | O13: =O9/$C$9*100 -> 0.52202792 | P13: =P9/$C$9*100 -> 0.85933767 | Q13: =Q9/$C$9*100 -> 0.914282 | R13: =R9/$C$9*100 -> 5.1633333 | S13: =S9/$C$9*100 -> 2.5655793 | T13: =T9/$C$9*100 -> 2.2704262 | U13: =U9/$C$9*100 -> 2.3711545 | ... W13: =W9/$C$9*100 -> 0.86454278 | X13: 0w | Y13: 0w
B14: หน่วย : คน | N14: หน่วย : คน
A15: ไตรมาส 2 | B15: รวม | C15: 494200.62 | D15: 196534.65 | E15: 1703.99 | F15: 49062.57 | G15: 4410.83 | H15: 1235.1 | I15: 24239.77 | J15: 76719.16 | K15: 10338.9 | L15: 38215.12 | M15: 1472.98 | N15: 5929.07 | O15: 4211.46 | P15: 2089.47 | Q15: 3641.18 | R15: 23390.42 | S15: 10271.31 | T15: 8995.87 | U15: 9439.1 | V15: 18988.47 | W15: 3311.2 | X15: 0w | Y15: 0w
B16: ชาย | C16: 261783.7 | D16: 112718.84 | E16: 1477.38 | F16: 27918.92 | G16: 3566.72 | H16: 576.66 | I16: 19700.48 | J16: 34390.41 | K16: 7469.87 | L16: 11180.76 | M16: 1472.98 | N16: 2855.64 | O16: 2081.7 | P16: 1503.98 | Q16: 1548.4 | R16: 14429.82 | S16: 3913.92 | T16: 1248.07 | U16: 5016.16 | V16: 7927.55 | W16: 785.46 | X16: 0w | Y16: 0w
B17: หญิง | C17: 232416.92 | D17: 83815.82 | E17: 226.61 | F17: 21143.65 | G17: 844.11 | H17: 658.44 | I17: 4539.3 | J17: 42328.74 | K17: 2869.03 | L17: 27034.36 | M17: 0w | N17: 3073.42 | O17: 2129.76 | P17: 585.48 | Q17: 2092.79 | R17: 8960.6 | S17: 6357.39 | T17: 7747.81 | U17: 4422.94 | V17: 11060.92 | W17: 2525.74 | X17: 0w | Y17: 0w
B18: หน่วย : ร้อยละ | N18: หน่วย : ร้อยละ
B19: รวม | C19: =C15/$C$15*100 -> 100 | D19: =D15/$C$15*100 -> 39.768192 | E19: =E15/$C$15*100 -> 0.34479722 | F19: =F15/$C$15*100 -> 9.9276626 | G19: =G15/$C$15*100 -> 0.8925181 | H19: =H15/$C$15*100 -> 0.24991875 | I19: =I15/$C$15*100 -> 4.9048441 | J19: =J15/$C$15*100 -> 15.52389 | ... W19: =W15/$C$15*100 -> 0.6700113 | X19: 0w | Y19: 0w
B20: ชาย | C20: =C16/$C$16*100 -> 100 | D20: =D16/$C$16*100 -> 43.058006 | E20: =E16/$C$16*100 -> 0.56435141 | F20: =F16/$C$16*100 -> 10.664881 | G20: =G16/$C$16*100 -> 1.3624683 | H20: =H16/$C$16*100 -> 0.22028109 | I20: =I16/$C$16*100 -> 7.52548 | J20: =J16/$C$16*100 -> 13.136956 | ... W20: =W16/$C$16*100 -> 0.3000416 | X20: 0w | Y20: 0w
B21: หญิง | C21: =C17/$C$17*100 -> 100 | D21: =D17/$C$17*100 -> 36.062701 | E21: =E17/$C$17*100 -> 0.097501507 | F21: =F17/$C$17*100 -> 9.0972938 | G21: =G17/$C$17*100 -> 0.36318784 | H21: =H17/$C$17*100 -> 0.28330123 | I21: =I17/$C$17*100 -> 1.953085 | J21: =J17/$C$17*100 -> 18.212418 | ... L21: =L17/$C$17*100 -> 11.631838 | M21: 0w | N21: =N17/$C$17*100 -> 1.3223736 | O21: =O17/$C$17*100 -> 0.91635325 | P21: =P17/$C$17*100 -> 0.25190937 | Q21: =Q17/$C$17*100 -> 0.90044649 | R21: =R17/$C$17*100 -> 3.8553992 | S21: =S17/$C$17*100 -> 2.7353387 | T21: =T17/$C$17*100 -> 3.3335826 | U21: =U17/$C$17*100 -> 1.9030198 | ... W21: =W17/$C$17*100 -> 1.0867281 | X21: 0w | Y21: 0w
B22: หน่วย : คน | N22: หน่วย : คน
A23: ไตรมาส 3 | B23: รวม | C23: 496439.77 | D23: 182357.89 | E23: 2217.03 | F23: 53663.43 | G23: 4394.77 | H23: 2048.69 | I23: 22902.95 | J23: 90247.34 | K23: 8672.93 | L23: 42892.73 | M23: 153.71 | N23: 3157.82 | O23: 3893.9 | P23: 1115.35 | Q23: 2710.57 | R23: 22630.96 | S23: 8111.45 | T23: 11907.65 | U23: 5036.63 | V23: 23338.83 | W23: 4985.14 | X23: 0w | Y23: 0w
B24: ชาย | C24: 260981.9 | D24: 103274.28 | E24: 1659.92 | F24: 27689.35 | G24: 3082.71 | H24: 1311.94 | I24: 19342.09 | J24: 48610.25 | K24: 5607.15 | L24: 10450.69 | M24: 0w | N24: 1941.49 | O24: 2167.88 | P24: 149.4 | Q24: 1587.19 | R24: 14070.58 | S24: 1873.57 | T24: 2818.71 | U24: 1833.05 | V24: 12430.35 | W24: 1081.29 | X24: 0w | Y24: 0w
B25: หญิง | C25: 235457.87 | D25: 79083.61 | E25: 557.11 | F25: 25974.08 | G25: 1312.06 | H25: 736.75 | I25: 3560.87 | J25: 41637.09 | K25: 3065.78 | L25: 32442.04 | M25: 153.71 | N25: 1216.33 | O25: 1726.01 | P25: 965.95 | Q25: 1123.38 | R25: 8560.37 | S25: 6237.88 | T25: 9088.94 | U25: 3203.58 | V25: 10908.48 | W25: 3903.85 | X25: 0w | Y25: 0w
B26: หน่วย : ร้อยละ | N26: หน่วย : ร้อยละ
B27: รวม | C27: =C23/$C$23*100 -> 100 | D27: =D23/$C$23*100 -> 36.733135 | E27: =E23/$C$23*100 -> 0.4465859 | F27: =F23/$C$23*100 -> 10.809656 | G27: =G23/$C$23*100 -> 0.88525744 | H27: =H23/$C$23*100 -> 0.41267645 | I27: =I23/$C$23*100 -> 4.6134398 | J27: =J23/$C$23*100 -> 18.17891 | ... W27: =W23/$C$23*100 -> 1.0041782 | X27: 0w | Y27: 0w
B28: ชาย | C28: =C24/$C$23*100 -> 52.570708 | D28: =D24/$C$23*100 -> 20.802983 | E28: =E24/$C$23*100 -> 0.33436483 | F28: =F24/$C$23*100 -> 5.577585 | G28: =G24/$C$23*100 -> 0.62096355 | H28: =H24/$C$23*100 -> 0.26426972 | I28: =I24/$C$23*100 -> 3.8961605 | J28: =J24/$C$23*100 -> 9.7917719 | ... L28: =L24/$C$23*100 -> 2.1051275 | M28: 0w | N28: =N24/$C$23*100 -> 0.39108269 | O28: =O24/$C$23*100 -> 0.4366854 | P28: =P24/$C$23*100 -> 0.030094285 | Q28: =Q24/$C$23*100 -> 0.31971451 | R28: =R24/$C$23*100 -> 2.8342975 | S28: =S24/$C$23*100 -> 0.37740127 | T28: =T24/$C$23*100 -> 0.56778489 | U28: =U24/$C$23*100 -> 0.36923915 | ... W28: =W24/$C$23*100 -> 0.2178089 | X28: 0w | Y28: 0w
B29: หญิง | C29: =C25/$C$23*100 -> 47.429292 | D29: =D25/$C$23*100 -> 15.930152 | E29: =E25/$C$23*100 -> 0.11222107 | F29: =F25/$C$23*100 -> 5.2320708 | G29: =G25/$C$23*100 -> 0.26429389 | H29: =H25/$C$23*100 -> 0.14840672 | I29: =I25/$C$23*100 -> 0.71728137 | J29: =J25/$C$23*100 -> 8.3871383 | ... W29: =W25/$C$23*100 -> 0.78636931 | X29: 0w | Y29: 0w
A31: หมายเหตุ : "0w" ข้อมูลจากการสำรวจตัวอย่างมีค่าเป็น 0
A32: ที่มา : การสำรวจภาวะการทำงานของประชากร พ.ศ. 2569 สำนักงานสถิติจังหวัดกาญจนบุรี

Sheet Worksatatus
A1: ตาราง 6 จำนวนและร้อยละของผู้มีงานทำ จำแนกตามเพศ และสถานภาพการทำงาน พ.ศ. 2569 (รายไตรมาส)
C3: รวม | D3: นายจ้าง | E3: ลูกจ้างรัฐบาล | F3: ลูกจ้างเอกชน | G3: ทำงานส่วนตัว | H3: ช่วยธุรกิจ | I3: การรวมกลุ่ม
A4: ไตรมาส | B4: เพศ | H4: ครัวเรือน
B5: หน่วย : คน
A6: ไตรมาส 1 | B6: รวม | C6: 494038.34 | D6: 14756.04 | E6: 43181.32 | F6: 172476.94 | G6: 170973.81 | H6: 92493.32 | I6: 156.92
B7: ชาย | C7: 265224.91 | D7: 8413.79 | E7: 20851.45 | F7: 99972.96 | G7: 89923.1 | H7: 46063.63 | I7: 0w
B8: หญิง | C8: 228813.43 | D8: 6342.25 | E8: 22329.88 | F8: 72503.98 | G8: 81050.71 | H8: 46429 | I8: 156.92
B9: หน่วย : ร้อยละ
B10: รวม | C10: =C6/$C$6*100 -> 100 | D10: =D6/$C$6*100 -> 2.9868208 | E10: =E6/$C$6*100 -> 8.7404795 | F10: =F6/$C$6*100 -> 34.911651 | G10: =G6/$C$6*100 -> 34.607397 | H10: =H6/$C$6*100 -> 18.721891 | I10: =I6/$C$6*100 -> 0.031762717
B11: ชาย | C11: =C7/$C$7*100 -> 100 | D11: =D7/$C$7*100 -> 3.1723227 | E11: =E7/$C$7*100 -> 7.8617993 | F11: =F7/$C$7*100 -> 37.693654 | G11: =G7/$C$7*100 -> 33.90447 | H11: =H7/$C$7*100 -> 17.367762 | I11: 0w
B12: หญิง | C12: =C8/$C$8*100 -> 100 | D12: =D8/$C$8*100 -> 2.7717997 | E12: =E8/$C$8*100 -> 9.7589901 | F12: =F8/$C$8*100 -> 31.686943 | G12: =G8/$C$8*100 -> 35.422182 | H12: =H8/$C$8*100 -> 20.291204 | I12: =I8/$C$8*100 -> 0.068579891
B13: หน่วย : คน
A14: ไตรมาส 2 | B14: รวม | C14: 494200.62 | D14: 12664.91 | E14: 46970.69 | F14: 177014.93 | G14: 167657.97 | H14: 89892.11 | I14: 0w
B15: ชาย | C15: 261783.7 | D15: 7425.64 | E15: 24673.21 | F15: 98213.58 | G15: 89283.91 | H15: 42187.35 | I15: 0w
B16: หญิง | C16: 232416.92 | D16: 5239.27 | E16: 22297.48 | F16: 78801.35 | G16: 78374.07 | H16: 47704.76 | I16: 0w
B17: หน่วย : ร้อยละ
B18: รวม | C18: =C14/$C$14*100 -> 100 | D18: =D14/$C$14*100 -> 2.5627062 | E18: =E14/$C$14*100 -> 9.504377 | F18: =F14/$C$14*100 -> 35.818435 | G18: =G14/$C$14*100 -> 33.925083 | H18: =H14/$C$14*100 -> 18.189396 | I18: 0w
B19: ชาย | C19: =C15/$C$15*100 -> 100 | D19: =D15/$C$15*100 -> 2.8365555 | E19: =E15/$C$15*100 -> 9.4250368 | F19: =F15/$C$15*100 -> 37.517072 | G19: =G15/$C$15*100 -> 34.105985 | H19: =H15/$C$15*100 -> 16.115346 | I19: 0w
B20: หญิง | C20: =C16/$C$16*100 -> 100 | D20: =D16/$C$16*100 -> 2.254255 | E20: =E16/$C$16*100 -> 9.5937421 | F20: =F16/$C$16*100 -> 33.905169 | G20: =G16/$C$16*100 -> 33.721327 | H20: =H16/$C$16*100 -> 20.525511 | I20: 0w
B21: หน่วย : คน
A22: ไตรมาส 3 | B22: รวม | C22: 496439.77 | D22: 14973.72 | E22: 45188.04 | F22: 175898.96 | G22: 179925.43 | H22: 80453.62 | I22: 0w
B23: ชาย | C23: 260981.9 | D23: 11241.73 | E23: 22255.53 | F23: 96043.83 | G23: 96585.25 | H23: 34855.56 | I23: 0w
B24: หญิง | C24: 235457.87 | D24: 3731.99 | E24: 22932.51 | F24: 79855.13 | G24: 83340.18 | H24: 45598.06 | I24: 0w
B25: หน่วย : ร้อยละ
B26: รวม | C26: =C22/$C$22*100 -> 100 | D26: =D22/$C$22*100 -> 3.0162209 | E26: =E22/$C$22*100 -> 9.1024214 | F26: =F22/$C$22*100 -> 35.432085 | G26: =G22/$C$22*100 -> 36.243154 | H26: =H22/$C$22*100 -> 16.206119 | I26: 0w
B27: ชาย | C27: =C23/$C$22*100 -> 52.570708 | D27: =D23/$C$22*100 -> 2.2644701 | E27: =E23/$C$22*100 -> 4.4830272 | F27: =F23/$C$22*100 -> 19.346522 | G27: =G23/$C$22*100 -> 19.455583 | H27: =H23/$C$22*100 -> 7.0211055 | I27: 0w
B28: หญิง | C28: =C24/$C$22*100 -> 47.429292 | D28: =D24/$C$22*100 -> 0.75175081 | E28: =E24/$C$22*100 -> 4.6193942 | F28: =F24/$C$22*100 -> 16.085563 | G28: =G24/$C$22*100 -> 16.787571 | H28: =H24/$C$22*100 -> 9.1850135 | I28: 0w
A30: หมายเหตุ : "0w" ข้อมูลจากการสำรวจตัวอย่างมีค่าเป็น 0
A31: ที่มา : การสำรวจภาวะการทำงานของประชากร พ.ศ. 2569 สำนักงานสถิติจังหวัดกาญจนบุรี

Sheet hour
A1: ตาราง 7 จำนวนและร้อยละของประชากรอายุ 15 ปีขึ้นไป จำแนกตามเพศ และชั่วโมงการทำงาน พ.ศ. 2569 (รายไตรมาส)
A3: ไตรมาส | B3: เพศ | C3: รวม | D3: น้อยกว่า | E3: 1 - 9 | F3: 10 - 19 | G3: 20 - 29 | H3: 30 - 34 | I3: 35 - 39 | J3: 40 - 49 | K3: 50 ชั่วโมง
D4: 1 ชั่วโมง | E4: ชั่วโมง | F4: ชั่วโมง | G4: ชั่วโมง | H4: ชั่วโมง | I4: ชั่วโมง | J4: ชั่วโมง | K4: ขึ้นไป
B5: หน่วย : คน
A6: ไตรมาส 1 | B6: รวม | C6: 494038.34 | D6: 5337.22 | E6: 2166 | F6: 9763.1 | G6: 34969.33 | H6: 31993.33 | I6: 48974.05 | J6: 234577.67 | K6: 126258.37
B7: ชาย | C7: 265224.91 | D7: 2775.89 | E7: 546.64 | F7: 4475.8 | G7: 20847.11 | H7: 16170.96 | I7: 21334.6 | J7: 131388.14 | K7: 67685
B8: หญิง | C8: 228813.43 | D8: 2561.31 | E8: 1618.63 | F8: 5287.3 | G8: 14122.22 | H8: 15822.38 | I8: 27639.46 | J8: 103189.53 | K8: 58572.6
B9: หน่วย : ร้อยละ
B10: รวม | C10: =C6/$C$6*100 -> 100 | D10: =D6/$C$6*100 -> 1.0803251 | E10: =E6/$C$6*100 -> 0.43842751 | F10: =F6/$C$6*100 -> 1.9761827 | G10: =G6/$C$6*100 -> 7.0782624 | H10: =H6/$C$6*100 -> 6.47588 | I10: =I6/$C$6*100 -> 9.9130059 | J10: =J6/$C$6*100 -> 47.481673 | K10: =K6/$C$6*100 -> 25.556391
B11: ชาย | C11: =C7/$C$7*100 -> 100 | D11: =D7/$C$7*100 -> 1.0466174 | E11: =E7/$C$7*100 -> 0.20610432 | F11: =F7/$C$7*100 -> 1.6875489 | G11: =G7/$C$7*100 -> 7.8601629 | H11: =H7/$C$7*100 -> 6.0970744 | I11: =I7/$C$7*100 -> 8.0439654 | J11: =J7/$C$7*100 -> 49.538386 | K11: =K7/$C$7*100 -> 25.51985
B12: หญิง | C12: =C8/$C$8*100 -> 100 | D12: =D8/$C$8*100 -> 1.119388 | E12: =E8/$C$8*100 -> 0.70740166 | F12: =F8/$C$8*100 -> 2.3107472 | G12: =G8/$C$8*100 -> 6.1719367 | H12: =H8/$C$8*100 -> 6.91497 | I12: =I8/$C$8*100 -> 12.079475 | J12: =J8/$C$8*100 -> 45.097672 | K12: =K8/$C$8*100 -> 25.59841
B13: หน่วย : คน
A14: ไตรมาส 2 | B14: รวม | C14: 494200.62 | D14: 2905.31 | E14: 2727.72 | F14: 7203.4 | G14: 29498.11 | H14: 27662.83 | I14: 59890.11 | J14: 229111.81 | K14: 135201.33
B15: ชาย | C15: 261783.7 | D15: 1280.69 | E15: 962.98 | F15: 3648.28 | G15: 15394.44 | H15: 13465.38 | I15: 29676.2 | J15: 127250.59 | K15: 70105.14
B16: หญิง | C16: 232416.92 | D16: 1624.62 | E16: 1764.74 | F16: 3555.12 | G16: 14103.67 | H16: 14197.45 | I16: 30213.92 | J16: 101861.23 | K16: 65096.18
B17: หน่วย : ร้อยละ
B18: รวม | C18: =C14/$C$14*100 -> 100 | D18: =D14/$C$14*100 -> 0.58788069 | E18: =E14/$C$14*100 -> 0.55194589 | F18: =F14/$C$14*100 -> 1.4575862 | G18: =G14/$C$14*100 -> 5.9688533 | H18: =H14/$C$14*100 -> 5.5974899 | I18: =I14/$C$14*100 -> 12.118583 | J18: =J14/$C$14*100 -> 46.360081 | K18: =K14/$C$14*100 -> 27.35758
B19: ชาย | C19: =C15/$C$15*100 -> 100 | D19: =D15/$C$15*100 -> 0.48921686 | E19: =E15/$C$15*100 -> 0.36785331 | F19: =F15/$C$15*100 -> 1.3936238 | G19: =G15/$C$15*100 -> 5.8805953 | H19: =H15/$C$15*100 -> 5.1437045 | I19: =I15/$C$15*100 -> 11.336153 | J19: =J15/$C$15*100 -> 48.609058 | K19: =K15/$C$15*100 -> 26.779796
B20: หญิง | C20: =C16/$C$16*100 -> 100 | D20: =D16/$C$16*100 -> 0.69901107 | E20: =E16/$C$16*100 -> 0.75929928 | F20: =F16/$C$16*100 -> 1.5296305 | G20: =G16/$C$16*100 -> 6.068263 | H20: =H16/$C$16*100 -> 6.1086129 | I20: =I16/$C$16*100 -> 12.99988 | J20: =J16/$C$16*100 -> 43.826943 | K20: =K16/$C$16*100 -> 28.008365
B21: หน่วย : คน
A22: ไตรมาส 3 | B22: รวม | C22: 496439.77 | D22: 8465.38 | E22: 2168.66 | F22: 11479 | G22: 18582.89 | H22: 31333.23 | I22: 63206.29 | J22: 243451.72 | K22: 117752.62
B23: ชาย | C23: 260981.9 | D23: 3250.07 | E23: 1281.88 | F23: 5407.76 | G23: 10387.17 | H23: 16359.59 | I23: 33106.48 | J23: 129738.55 | K23: 61450.4
B24: หญิง | C24: 235457.87 | D24: 5215.31 | E24: 886.78 | F24: 6071.23 | G24: 8195.71 | H24: 14973.65 | I24: 30099.81 | J24: 113713.16 | K24: 56302.22
B25: หน่วย : ร้อยละ
B26: รวม | C26: =C22/$C$22*100 -> 100 | D26: =D22/$C$14*100 -> 1.712944 | E26: =E22/$C$14*100 -> 0.43882179 | F26: =F22/$C$14*100 -> 2.3227409 | G26: =G22/$C$14*100 -> 3.7601916 | H26: =H22/$C$14*100 -> 6.3401843 | I26: =I22/$C$14*100 -> 12.789602 | J26: =J22/$C$14*100 -> 49.261719 | K26: =K22/$C$14*100 -> 23.826886
B27: ชาย | C27: =C23/$C$22*100 -> 52.570708 | D27: =D23/$C$15*100 -> 1.2415097 | E27: =E23/$C$15*100 -> 0.48967143 | F27: =F23/$C$15*100 -> 2.0657359 | G27: =G23/$C$15*100 -> 3.9678444 | H27: =H23/$C$15*100 -> 6.2492776 | I27: =I23/$C$15*100 -> 12.646502 | J27: =J23/$C$15*100 -> 49.559445 | K27: =K23/$C$15*100 -> 23.47373
B28: หญิง | C28: =C24/$C$22*100 -> 47.429292 | D28: =D24/$C$16*100 -> 2.2439459 | E28: =E24/$C$16*100 -> 0.38154709 | F28: =F24/$C$16*100 -> 2.6122152 | G28: =G24/$C$16*100 -> 3.5262966 | H28: =H24/$C$16*100 -> 6.4425817 | I28: =I24/$C$16*100 -> 12.950783 | J28: =J24/$C$16*100 -> 48.926369 | K28: =K24/$C$16*100 -> 24.224665
A30: หมายเหตุ : "0w" ข้อมูลจากการสำรวจตัวอย่างมีค่าเป็น 0
A31: ที่มา : การสำรวจภาวะการทำงานของประชากร พ.ศ. 2569 สำนักงานสถิติจังหวัดกาญจนบุรี

Sheet Indicator
A1: ตาราง 8 ตัวชี้วัดที่สำคัญด้านแรงงาน จังหวัดกาญจนบุรี รายไตรมาส พ.ศ. 2568 - 2569
A3: ตัวชี้วัด | B3: พ.ศ. 2568 | G3: พ.ศ. 2569
B4: เฉลี่ยปี | C4: Q1 | D4: Q2 | E4: Q3 | F4: Q4 | G4: เฉลี่ยปี | H4: Q1 | I4: Q2 | J4: Q3 | K4: Q4
A5: อัตราการมีส่วนร่วมในกำลังแรงงาน | B5: 69.33 | C5: 69.69 | D5: 70.26 | E5: 68.45 | F5: 68.92 | H5: =status_labour!D7/status_labour!C7*100 -> 71.46666 | I5: =status_labour!D15/status_labour!C15*100 -> 71.771747 | J5: =status_labour!D23/status_labour!C23*100 -> 71.092237
A6: อัตราส่วนของผู้มีงานทำต่อประชากร | B6: 68.86 | C6: 69.53 | D6: 69.76 | E6: 68 | F6: 68.13 | H6: =status_labour!F7/status_labour!C7*100 -> 70.257135 | I6: =status_labour!F15/status_labour!C15*100 -> 70.237962 | J6: =status_labour!F23/status_labour!C23*100 -> 70.517914
A7: อัตราการว่างงาน | B7: 0.68599849 | C7: 0.23563677 | D7: 0.71 | E7: 0.65 | F7: 1.15 | H7: =status_labour!O7 -> 1.6111619 | I7: =status_labour!O15 -> 2.0378363 | J7: =status_labour!O23 -> 0.80785569
A8: อัตราผู้ที่ไม่อยู่ในกำลังแรงงาน | B8: 30.62 | C8: 30.14 | D8: 29.7 | E8: 31.55 | F8: 31.08 | H8: =status_labour!I7/status_labour!C7*100 -> 28.53334 | I8: =status_labour!I15/status_labour!C15*100 -> 28.228255 | J8: =status_labour!I23/status_labour!C23*100 -> 28.907763
A9: ร้อยละของผู้มีงานทำภาคเกษตรกรรม | B9: 40.378775 | C9: 40.818869 | D9: 42.45529 | E9: 39.633191 | F9: 38.550326 | H9: =Industry!D11 -> 39.113466 | I9: =Industry!D19 -> 39.768192 | J9: =Industry!D27 -> 36.733135
A10: ร้อยละของผู้มีงานทำภาคอุตสาหกรรม | B10: 17.95553 | C10: 15.966727 | D10: 17.93585 | E10: 19.041402 | F10: 18.918654 | H10: =Industry!E11+Industry!F11+Industry!G11+Industry!H11 -> 12.718541 | I10: =Industry!E19+Industry!F19+Industry!G19+Industry!H19 -> 11.414897 | J10: =Industry!E27+Industry!F27+Industry!G27+Industry!H27 -> 12.554176
A11: ร้อยละของผู้มีงานทำภาคการบริการและการค้า | B11: 41.665643 | C11: 43.214409 | D11: 39.608864 | E11: 41.325409 | F11: 42.531021 | H11: =Industry!I11+Industry!J11+Industry!K11+Industry!L11+Industry!M11+Industry!N11+Industry!O11+Industry!P11+Industry!Q11+Industry!R11+Industry!S11+Industry!T11+Industry!U11+Industry!V11+Industry!W11 -> 48.167733 | I11: =Industry!I19+Industry!J19+Industry!K19+Industry!L19+Industry!M19+Industry!N19+Industry!O19+Industry!P19+Industry!Q19+Industry!R19+Industry!S19+Industry!T19+Industry!U19+Industry!V19+Industry!W19 -> 48.816912 | J11: =SUM(Industry!I27:W27) -> 50.71269
A12: อัตราการทำงานแบบไม่เต็มเวลา | B12: 17.412578 | C12: 24.490287 | D12: 14.986385 | E12: 12.859874 | F12: 17.224832 | H12: =SUM(hour!D6:H6)/hour!C6*100 -> 17.049078 | I12: =SUM(hour!D14:H14)/hour!C14*100 -> 14.163756 | J12: =SUM(hour!D22:H22)/hour!C22*100 -> 14.509144
A14: ที่มา : การสำรวจภาวะการทำงานของประชากร สำนักงานสถิติจังหวัดกาญจนบุรี

Sheet LP
A1: ตาราง 9 ผลิตภาพของแรงงาน (Labor Productivity) จำแนกตามกิจกรรมทางเศรษฐกิจ พ.ศ. 2569
A3: กิจกรรมทางเศรษฐกิจ | B3: มูลค่าผลิตภัณฑ์มวลรวม1/ | C3: ไตรมาส 1 | E3: ไตรมาส 2 | G3: ไตรมาส 3
C4: ผู้มีงานทำ2/ | D4: ผลิตภาพของแรงงาน3/ | E4: ผู้มีงานทำ2/ | F4: ผลิตภาพของแรงงาน3/ | G4: ผู้มีงานทำ2/ | H4: ผลิตภาพของแรงงาน3/
A5: กาญจนบุรี | B5: 265005 | C5: 494038.34 | D5: =(B5*1000000)/C5 -> 536405.74 | E5: 494200.62 | F5: =(B5*1000000)/E5 -> 536229.6 | G5: 496439.77 | H5: =(B5*1000000)/G5 -> 533810.98
A6: ภาคเกษตรกรรม | B6: 33286.521 | C6: 193235.52 | D6: =(B6*1000000)/C6 -> 172258.81 | E6: 196534.65 | F6: =(B6*1000000)/E6 -> 169367.19 | G6: 182357.89 | H6: =(B6*1000000)/G6 -> 182534.03
A7: เกษตรกรรม การป่าไม้ และการประมง | B7: 33286.521 | C7: =C6 -> 193235.52 | D7: =(B7*1000000)/C7 -> 172258.81 | E7: =E6 -> 196534.65 | F7: =(B7*1000000)/E7 -> 169367.19 | G7: =G6 -> 182357.89 | H7: =(B7*1000000)/G7 -> 182534.03
A8: นอกภาคเกษตรกรรม | B8: 95212.382 | C8: =C9+C14 -> 298823.35 | D8: =(B8*1000000)/C8 -> 318624.3 | E8: =E9+E14 -> 294354.77 | F8: =(B8*1000000)/E8 -> 323461.32 | G8: =G9+G14 -> 281794.92 | H8: =(B8*1000000)/G8 -> 337878.28
A9: ภาคอุตสาหกรรม | B9: 33434.016 | C9: =SUM(C10:C13) -> 62834.47 | D9: =(B9*1000000)/C9 -> 532096.73 | E9: =SUM(E10:E13) -> 56412.49 | F9: =(B9*1000000)/E9 -> 592670.46 | G9: =SUM(G10:G13) -> 62323.92 | H9: =(B9*1000000)/G9 -> 536455.61
A10: การทำเหมืองแร่และเหมืองหิน | B10: 2466.3906 | C10: 1170.71 | D10: =(B10*1000000)/C10 -> 2106747.7 | E10: 1703.99 | F10: =(B10*1000000)/E10 -> 1447420.8 | G10: 2217.03 | H10: =(B10*1000000)/G10 -> 1112475
A11: การผลิต | B11: 27211.104 | C11: 57317.91 | D11: =(B11*1000000)/C11 -> 474739.99 | E11: 49062.57 | F11: =(B11*1000000)/E11 -> 554620.43 | G11: 53663.43 | H11: =(B11*1000000)/G11 -> 507069.78
A12: ไฟฟ้า ก๊าซไอน้ำ และระบบปรับอากาศ | B12: 3401.2036 | C12: 3328.88 | D12: =(B12*1000000)/C12 -> 1021726.1 | E12: 4410.83 | F12: =(B12*1000000)/E12 -> 771102.86 | G12: 4394.77 | H12: =(B12*1000000)/G12 -> 773920.74
A13: การจัดหาน้ำ และการบำบัดน้ำเสีย ของเสีย และสิ่งปฏิกูล | B13: 355.31822 | C13: 1016.97 | D13: =(B13*1000000)/C13 -> 349389.09 | E13: 1235.1 | F13: =(B13*1000000)/E13 -> 287683.77 | G13: 2048.69 | H13: =(B13*1000000)/G13 -> 173436.79
A14: ภาคการค้าและการบริการ | B14: 61778.365 | C14: 235988.88 | D14: =(B14*1000000)/C14 -> 261785.07 | E14: 237942.28 | F14: =(B14*1000000)/E14 -> 259635.93 | G14: 219471 | H14: =(B14*1000000)/G14 -> 281487.6
A15: การก่อสร้าง | B15: 5690.5575 | C15: 26160.46 | D15: =(B15*1000000)/C15 -> 217525.13 | E15: 24239.77 | F15: =(B15*1000000)/E15 -> 234761.2 | G15: 22902.95 | H15: =(B15*1000000)/G15 -> 248463.95
A16: การขายส่ง ขายปลีก ซ่อมยานยนต์และจักรยานยนต์ | B16: 14705.87 | C16: 72027.56 | D16: =(B16*1000000)/C16 -> 204170.05 | E16: 76719.16 | F16: =(B16*1000000)/E16 -> 191684.46 | G16: 90247.34 | H16: =(B16*1000000)/G16 -> 162950.74
A17: การขนส่งและสถานที่เก็บสินค้า | B17: 3868.7115 | C17: 9430.62 | D17: =(B17*1000000)/C17 -> 410228.76 | E17: 10338.9 | F17: =(B17*1000000)/E17 -> 374189.86 | G17: 8672.93 | H17: =(B17*1000000)/G17 -> 446067.42
A18: ที่พักแรมและบริการด้านอาหาร | B18: 4806.256 | C18: 41370.99 | D18: =(B18*1000000)/C18 -> 116174.55 | E18: 38215.12 | F18: =(B18*1000000)/E18 -> 125768.44 | G18: 42892.73 | H18: =(B18*1000000)/G18 -> 112052.93
A19: ข้อมูลข่าวสารและการสื่อสาร | B19: 560.98045 | C19: 1752.75 | D19: =(B19*1000000)/C19 -> 320057.31 | E19: 1472.98 | F19: =(B19*1000000)/E19 -> 380847.29 | G19: 153.71 | H19: =(B19*1000000)/G19 -> 3649602.8
A20: กิจกรรมทางการเงินและการประกันภัย | B20: 5787.9976 | C20: 6566.31 | D20: =(B20*1000000)/C20 -> 881468.83 | E20: 5929.07 | F20: =(B20*1000000)/E20 -> 976206.66 | G20: 3157.82 | H20: =(B20*1000000)/G20 -> 1832909.3
A21: กิจกรรมอสังหาริมทรัพย์ | B21: 3984.9296 | C21: 1819 | D21: =(B21*1000000)/C21 -> 2190725.4 | E21: 4211.46 | F21: =(B21*1000000)/E21 -> 946210.95 | G21: 3893.9 | H21: =(B21*1000000)/G21 -> 1023377.5
... A28: กิจกรรมบริการด้านอื่น ๆ | B28: 794.8529 | C28: 18807.36 | D28: =(B28*1000000)/C28 -> 42262.864 | E28: 18988.47 | F28: =(B28*1000000)/E28 -> 41859.766 | G28: 23338.83 | H28: =(B28*1000000)/G28 -> 34057.101
A30: ที่มา : 1/ สำนักงานพัฒนาการเศรษฐกิจและสังคมแห่งชาติ พ.ศ. 2567P หน่วยล้านบาท
A31: ผลิตภัณฑ์ภาคและจังหวัด พ.ศ. 2567
A32: https://www.nesdc.go.th/info/gross-regional-and-provincial-product/
A33: 2/ การสำรวจภาวะการทำงานของประชากร รายไตรมาส พ.ศ. 2569 สำนักงานสถิติจังหวัดกาญจนบุรี
A34: 3/ สำนักงานสถิติจังหวัดกาญจนบุรี คำนวณจากสูตร ผลิตภาพของแรงงาน (Labor Productivity) หน่วย บาทต่อคน
A35: = (มูลค่าผลิตภัณฑ์มวลรวมแต่ละกิจกรรทางเศรษฐกิจ*1 ล้านบาท/ผู้มีงานทำแต่ละกิจกรรมทางเศรษฐกิจ)

Sheet NOTE
A1: คำอธิบาย ตัวชี้วัดที่สำคัญด้านแรงงาน
A3: อัตราการมีส่วนร่วมในกำลังแรงงาน (Labour Force Participation Rate : LPR)
A4: แนวคิด
A5: เป็นตัวชี้วัดที่แสดงให้เห็นถึงสภาพกำลังแรงงานในตลาดแรงงานในประเทศ
A6: (ผู้มีงานทำ ผู้ว่างงาน และผู้รอฤดูกาล) เมื่อเทียบกับ ประชากรวัยแรงงานทั้งหมด
A7: โดยตัวชี้วัดนี้อยู่ภายใต้ตัวชี้วัดของ ILO (KILM 1)
A8: สูตรการคำนวณ
A9: อัตราการมีส่วนร่วมในกำลังแรงงาน = (จำนวนกำลังแรงงานรวม/จำนวนประชากรอายุ 15 ปีขึ้นไป) x 100
A11: อัตราส่วนของผู้มีงานทำต่อประชากร (Employment to population ratio : EPR)
A12: แนวคิด
A13: เป็นตัวชี้วัดที่แสดงให้เห็นถึงเสถียรภาพทางเศรษฐกิจ ซึ่งภาวะเศรษฐกิจกับการมีงานทำนั้นมีความเกี่ยวข้องสัมพันธ์กัน
A14: เมื่อภาวะเศรษฐกิจตกต่ำ นายจ้างมักจะชะลอการจ้างงานออกไป ทำให้สังคมเผชิญกับปัญหาการ ว่างงาน
... A47: อัตราผู้ที่ไม่อยู่ในกำลังแรงงาน = (จำนวนผู้ที่ไม่อยู่ในกำลังแรงงาน/จำนวนประชากรอายุ 15 ปี) x 100
