Workbook

Sheet ข้อมูล  PC_CI
A1: ชุดข้อมูลผลิตภัณฑ์ที่มีศักยภาพ (Product Champion: PC)/ ประเด็นปัญหาสำคัญ (Critical Issue:CI)
A4: ยุทธศาสตร์ | B4: ผลิตภัณฑ์ที่มีศักยภาพ (Product Champion: PC)/ ประเด็นปัญหาสำคัญ (Critical Issue:CI) | C4: ห่วงโซ่คุณค่า (VC) | D4: ปัจจัยแห่งความสำเร็จ (CSF) | E4: ตัวชี้วัด KPI | F4: รายการสถิติทางการ | G4: หน่วยวัด | H4: ข้อมูล | O4: หน่วยงานเจ้าของข้อมูล | P4: หมายเหตุ
H5: 2557 | I5: 2558 | J5: 2559 | K5: 2560 | L5: 2561 | M5: 2562 | N5: 2563
A6: ยุทธศาสตร์ที่ 1 พัฒนาศักยภาพที่มุ่งเน้นการผลิตสินค้าเกษตรและอาหารปลอดภัย | B6: ผลิตภัณฑ์ที่มีศักยภาพ (Product Champion: PC)) : อ้อยโรงงาน | C6: 1.1 การวิจัยและพัฒนา (R&D) | D6: CSF1.1 การวิจัยและพัฒนาพันธุ์อ้อยที่ดีและเหมาะสมกับพื้นที่ | E6: 1.1.1 ชนิดพันธุ์อ้อยคุณภาพดีและทนต่อโรคเหมาะกับพื้นที่ | F6: 1.1.1.1.ชนิดพันธุ์อ้อยคุณภาพดีและทนต่อโรคเหมาะกับพื้นที่ | G6: ชนิดพันธุ์ | H6: 9 | I6: 9 | J6: 9 | K6: 9 | L6: 9 | M6: 9 | O6: ศูนย์วิจัยและพัฒนาการเกษตรกาฬสินธุ์
A7: ยุทธศาสตร์ที่ 1 พัฒนาศักยภาพที่มุ่งเน้นการผลิตสินค้าเกษตรและอาหารปลอดภัย | B7: ผลิตภัณฑ์ที่มีศักยภาพ (Product Champion: PC)) : อ้อยโรงงาน | C7: 1.1 การวิจัยและพัฒนา (R&D) | D7: CSF1.1 การวิจัยและพัฒนาพันธุ์อ้อยที่ดีและเหมาะสมกับพื้นที่ | E7: 1.1.2.พันธุ์อ้อยที่เกษตรกรนิยมปลูก | F7: 1.1.2.1.พันธุ์อ้อยที่เกษตรกรนิยมปลูก | G7: พันธุ์ | H7: 9 | I7: 9 | J7: 9 | K7: 5 | L7: 5 | M7: 5 | O7: ศูนย์วิจัยและพัฒนาการเกษตรกาฬสินธุ์
A8: ยุทธศาสตร์ที่ 1 พัฒนาศักยภาพที่มุ่งเน้นการผลิตสินค้าเกษตรและอาหารปลอดภัย | B8: ผลิตภัณฑ์ที่มีศักยภาพ (Product Champion: PC)) : อ้อยโรงงาน | C8: 1.1 การวิจัยและพัฒนา (R&D) | D8: CSF1.1 การวิจัยและพัฒนาพันธุ์อ้อยที่ดีและเหมาะสมกับพื้นที่ | E8: 1.1.3.จำนวนแหล่งวิจัยและผลิตพันธุ์อ้อยคุณภาพดีและทนต่อโรค | F8: 1.1.3.1.จำนวนแหล่งวิจัยและผลิตพันธุ์อ้อยคุณภาพดีและทนต่อโรค | G8: แหล่ง | H8: 2 | I8: 2 | J8: 3 | K8: 5 | L8: 5 | M8: 5 | O8: ศูนย์วิจัยและพัฒนาการเกษตรกาฬสินธุ์
A9: ยุทธศาสตร์ที่ 1 พัฒนาศักยภาพที่มุ่งเน้นการผลิตสินค้าเกษตรและอาหารปลอดภัย | B9: ผลิตภัณฑ์ที่มีศักยภาพ (Product Champion: PC)) : อ้อยโรงงาน | C9: 1.1 การวิจัยและพัฒนา (R&D) | D9: CSF1.2 การจัดทำข้อมูลต้นทุนการผลิต | E9: 1.1.4 โครงการงานวิจัยเพื่อลดต้นทุนการผลิต | F9: 1.1.4.1 โครงการงานวิจัยเพื่อลดต้นทุนการผลิต | G9: เรื่อง | H9: 3 | I9: 3 | J9: 2 | K9: 1 | L9: 5 | O9: สนง.คณะกรรมการอ้อยและน้ำตาลทราย
A10: ยุทธศาสตร์ที่ 1 พัฒนาศักยภาพที่มุ่งเน้นการผลิตสินค้าเกษตรและอาหารปลอดภัย | B10: ผลิตภัณฑ์ที่มีศักยภาพ (Product Champion: PC)) : อ้อยโรงงาน | C10: 1.1 การวิจัยและพัฒนา (R&D) | D10: CSF1.3 การวิจัยเทคโนโลยีและนวัตกรรมเพื่อเพิ่มผลผลิต | E10: 1.1.5 งานวิจัยเทคโนโลยีและนวัตกรรมเพื่อเพิ่มผลผลิตที่เหมาะสมกับการปลูกอ้อยในพื้นที่ | F10: 1.1.5.1 งานวิจัยเทคโนโลยีและนวัตกรรมเพื่อเพิ่มผลผลิตที่เหมาะสมกับการปลูกอ้อยในพื้นที่ | G10: เรื่อง | H10: 3 | I10: 2 | J10: 1 | K10: 3 | L10: 4 | O10: สนง.คณะกรรมการอ้อยและน้ำตาลทราย
A11: ยุทธศาสตร์ที่ 1 พัฒนาศักยภาพที่มุ่งเน้นการผลิตสินค้าเกษตรและอาหารปลอดภัย | B11: ผลิตภัณฑ์ที่มีศักยภาพ (Product Champion: PC)) : อ้อยโรงงาน | C11: 1.1 การวิจัยและพัฒนา (R&D) | D11: CSF1.4 การวิเคราะห์ความต้องการของตลาดและแนวโน้มสถานการณ์อ้อย ทั้งในและต่างประเทศ | E11: 1.1.6 รายงานการศึกษาความต้องการของตลาดและแนวโน้มสถานการณ์อ้อย ทั้งในและต่างประเทศ | F11: 1.1.6.1 รายงานการศึกษาความต้องการของตลาดและแนวโน้มสถานการณ์อ้อย ทั้งในและต่างประเทศ | G11: เรื่อง | H11: 11 | I11: 5 | J11: 2 | K11: 12 | L11: 6 | O11: สนง.คณะกรรมการอ้อยและน้ำตาลทราย
A12: ยุทธศาสตร์ที่ 1 พัฒนาศักยภาพที่มุ่งเน้นการผลิตสินค้าเกษตรและอาหารปลอดภัย | B12: ผลิตภัณฑ์ที่มีศักยภาพ (Product Champion: PC)) : อ้อยโรงงาน | C12: 1.2 ปัจจัยพื้นฐานและการพัฒนาเกษตรกร | D12: CSF2.1 การบริหารจัดการน้ำเพื่อการเพาะปลูก | E12: 1.2.1 ร้อยละที่เพิ่มขึ้นของจำนวนพื้นที่ที่ได้รับการพัฒนาระบบกักเก็บน้ำและ ระบบชลประทาน | F12: 1.2.1.1พื้นที่เกษตรกรรมภายในเขตชลประทาน | G12: ตร.กม./ไร่ | H12: 422330 | I12: 402025 | J12: 396151 | K12: 520153 | L12: 522353 | O12: โครงการชลประทานจังหวัด
A13: ยุทธศาสตร์ที่ 1 พัฒนาศักยภาพที่มุ่งเน้นการผลิตสินค้าเกษตรและอาหารปลอดภัย | B13: ผลิตภัณฑ์ที่มีศักยภาพ (Product Champion: PC)) : อ้อยโรงงาน | C13: 1.2 ปัจจัยพื้นฐานและการพัฒนาเกษตรกร | D13: CSF2.2 การบริหารจัดการ การใช้ที่ดิน (Zoning) | E13: 1.2.2 เนื้อที่เกษตรกรรมโดยรวมของจังหวัด | F13: 1.2.2.1.เนื้อที่เกษตรกรรมโดยรวมของจังหวัด | G13: ตร.กม./ไร่ | H13: 2833408 | I13: 2833408 | J13: 2833181 | K13: 2833181 | L13: 2833269 | O13: เกษตรจังหวัด
A14: ยุทธศาสตร์ที่ 1 พัฒนาศักยภาพที่มุ่งเน้นการผลิตสินค้าเกษตรและอาหารปลอดภัย | B14: ผลิตภัณฑ์ที่มีศักยภาพ (Product Champion: PC)) : อ้อยโรงงาน | C14: 1.2 ปัจจัยพื้นฐานและการพัฒนาเกษตรกร | D14: CSF2.2 การบริหารจัดการ การใช้ที่ดิน (Zoning) | E14: 1.2.3 สัดส่วนของจำนวนพื้นที่ที่เหมาะกับการเพาะปลูกพืชแต่ละชนิด (ข้าว อ้อย มันสำปะหลัง) | F14: 1.2.3.1จำนวนพื้นที่ที่เหมาะกับการเพาะปลูกพืชแต่ละชนิด (ข้าว อ้อย มันสำปะหลัง) | G14: ตำบล | H14: 116 | I14: 116 | J14: 116 | K14: 116 | L14: 116 | O14: เกษตรจังหวัด
A15: ยุทธศาสตร์ที่ 1 พัฒนาศักยภาพที่มุ่งเน้นการผลิตสินค้าเกษตรและอาหารปลอดภัย | B15: ผลิตภัณฑ์ที่มีศักยภาพ (Product Champion: PC)) : อ้อยโรงงาน | C15: 1.2 ปัจจัยพื้นฐานและการพัฒนาเกษตรกร | D15: CSF2.2 การบริหารจัดการ การใช้ที่ดิน (Zoning) | E15: 1.2.3 สัดส่วนของจำนวนพื้นที่ที่เหมาะกับการเพาะปลูกพืชแต่ละชนิด (ข้าว อ้อย มันสำปะหลัง) | F15: 1.2.3.2 จำนวนเนื้อที่ปลูก อ้อย | G15: ตร.กม./ไร่ | H15: 422330 | I15: 435000 | J15: 412366 | K15: 440091 | L15: 432111 | O15: เกษตรจังหวัด
A16: ยุทธศาสตร์ที่ 1 พัฒนาศักยภาพที่มุ่งเน้นการผลิตสินค้าเกษตรและอาหารปลอดภัย | B16: ผลิตภัณฑ์ที่มีศักยภาพ (Product Champion: PC)) : อ้อยโรงงาน | C16: 1.2 ปัจจัยพื้นฐานและการพัฒนาเกษตรกร | D16: CSF2.2 การบริหารจัดการ การใช้ที่ดิน (Zoning) | E16: 1.2.4 จำนวนเกษตรกรที่ขึ้นทะเบียน จำแนกตามการจัดพื้นที่เกษตรของจังหวัด (Zoning) | F16: 1.2.4.1 จำนวนเกษตรกรที่ขึ้นทะเบียน จำแนกตามการจัดพื้นที่เกษตรของจังหวัด (Zoning) | G16: ราย | H16: 66458 | I16: 59254 | J16: 55879 | K16: 49319 | L16: 43800 | O16: เกษตรจังหวัด
A17: ยุทธศาสตร์ที่ 1 พัฒนาศักยภาพที่มุ่งเน้นการผลิตสินค้าเกษตรและอาหารปลอดภัย | B17: ผลิตภัณฑ์ที่มีศักยภาพ (Product Champion: PC)) : อ้อยโรงงาน | C17: 1.2 ปัจจัยพื้นฐานและการพัฒนาเกษตรกร | D17: CSF2.2 การบริหารจัดการ การใช้ที่ดิน (Zoning) | E17: 1.2.4 จำนวนเกษตรกรที่ขึ้นทะเบียน จำแนกตามการจัดพื้นที่เกษตรของจังหวัด (Zoning) | F17: 1.2.4.2 จำนวนเกษตรกรทั้งสิ้นในจังหวัด | G17: ราย | H17: 251975 | I17: 248849 | J17: 220130 | K17: 246453 | L17: 292092 | O17: เกษตรจังหวัด
A18: ยุทธศาสตร์ที่ 1 พัฒนาศักยภาพที่มุ่งเน้นการผลิตสินค้าเกษตรและอาหารปลอดภัย | B18: ผลิตภัณฑ์ที่มีศักยภาพ (Product Champion: PC)) : อ้อยโรงงาน | C18: 1.2 ปัจจัยพื้นฐานและการพัฒนาเกษตรกร | D18: CSF2.3 การจัดหาและกระจายพันธุ์อ้อยที่ดีให้เกษตรกร | E18: 1.2.5 ร้อยละที่เพิ่มขึ้นของเกษตรกรที่ได้รับการสนับสนุนเมล็ดพันธุ์ที่ดี | F18: 1.2.5.1 จำนวนเกษตรกรที่ได้รับการสนับสนุนพันธุ์ที่ดี | G18: ราย | H18: 0 | I18: 0 | J18: 0 | K18: 0 | L18: 0 | M18: - | O18: เกษตรจังหวัด
A19: ยุทธศาสตร์ที่ 1 พัฒนาศักยภาพที่มุ่งเน้นการผลิตสินค้าเกษตรและอาหารปลอดภัย | B19: ผลิตภัณฑ์ที่มีศักยภาพ (Product Champion: PC)) : อ้อยโรงงาน | C19: 1.2 ปัจจัยพื้นฐานและการพัฒนาเกษตรกร | D19: CSF2.3 การจัดหาและกระจายพันธุ์อ้อยที่ดีให้เกษตรกร | E19: 1.2.5 ร้อยละที่เพิ่มขึ้นของเกษตรกรที่ได้รับการสนับสนุนเมล็ดพันธุ์ที่ดี | F19: 1.2.5.2 .จำนวนเกษตรกรที่ปลูกอ้อยทั้งสิ้นในจังหวัด | G19: ราย | H19: 29004 | I19: 31640 | J19: 28566 | K19: 26992 | L19: 19443 | O19: เกษตรจังหวัด
A20: ยุทธศาสตร์ที่ 1 พัฒนาศักยภาพที่มุ่งเน้นการผลิตสินค้าเกษตรและอาหารปลอดภัย | B20: ผลิตภัณฑ์ที่มีศักยภาพ (Product Champion: PC)) : อ้อยโรงงาน | C20: 1.2 ปัจจัยพื้นฐานและการพัฒนาเกษตรกร | D20: CSF2.3 การจัดหาและกระจายพันธุ์อ้อยที่ดีให้เกษตรกร | E20: 1.2.6 ร้อยละที่เพิ่มขึ้นของจำนวนพื้นที่ปลูกอ้อยที่ได้รับการสนับสนุนเมล็ดพันธ์ที่ดี | F20: 1.2.6.1 จำนวนพื้นที่ปลูกอ้อยที่ได้รับการสนับสนุนเมล็ดพันธ์ที่ดี | G20: ตร.กม./ไร่ | H20: 0 | O20: เกษตรจังหวัด
A21: ยุทธศาสตร์ที่ 1 พัฒนาศักยภาพที่มุ่งเน้นการผลิตสินค้าเกษตรและอาหารปลอดภัย | B21: ผลิตภัณฑ์ที่มีศักยภาพ (Product Champion: PC)) : อ้อยโรงงาน | C21: 1.2 ปัจจัยพื้นฐานและการพัฒนาเกษตรกร | D21: CSF2.3 การจัดหาและกระจายพันธุ์อ้อยที่ดีให้เกษตรกร | E21: 1.2.6 ร้อยละที่เพิ่มขึ้นของจำนวนพื้นที่ปลูกอ้อยที่ได้รับการสนับสนุนเมล็ดพันธ์ที่ดี | F21: 1.2.6.2 จำนวนเนื้อที่ปลูกอ้อยทั้งสิ้นในจังหวัด | G21: ตร.กม./ไร่ | H21: 422330 | I21: 435000 | J21: 412366 | K21: 440091 | L21: 432111 | O21: เกษตรจังหวัด
A22: ยุทธศาสตร์ที่ 1 พัฒนาศักยภาพที่มุ่งเน้นการผลิตสินค้าเกษตรและอาหารปลอดภัย | B22: ผลิตภัณฑ์ที่มีศักยภาพ (Product Champion: PC)) : อ้อยโรงงาน | C22: 1.2 ปัจจัยพื้นฐานและการพัฒนาเกษตรกร | D22: CSF2.3 การจัดหาและกระจายพันธุ์อ้อยที่ดีให้เกษตรกร | E22: 1.2.7.จำนวนร้านค้า/สถานประกอบการที่จำหน่ายพันธุ์อ้อย | F22: 1.2.7.1 จำนวนร้านค้า/สถานประกอบการที่จำหน่ายพันธุ์อ้อย | G22: แห่ง | H22: 1 | I22: 1 | J22: 1 | K22: 1 | L22: 1 | O22: เกษตรจังหวัด
A23: ยุทธศาสตร์ที่ 1 พัฒนาศักยภาพที่มุ่งเน้นการผลิตสินค้าเกษตรและอาหารปลอดภัย | B23: ผลิตภัณฑ์ที่มีศักยภาพ (Product Champion: PC)) : อ้อยโรงงาน | C23: 1.2 ปัจจัยพื้นฐานและการพัฒนาเกษตรกร | D23: CSF2.4 การเตรียมพื้นที่เพาะปลูก และปรับปรุงคุณภาพดิน | E23: 1.2.8.ร้อยละที่เพิ่มขึ้นของจำนวนพื้นที่ที่มีความเหมาะสมในการเพาะปลูก | F23: 1.2.8.1จำนวนพื้นที่ที่มีความเหมาะสมในการเพาะปลูก | G23: ตร.กม./ไร่ | H23: 4341715.6 | I23: 2832413 | J23: 2833181 | K23: 2833181 | L23: 2833269 | O23: เกษตรจังหวัด
A24: ยุทธศาสตร์ที่ 1 พัฒนาศักยภาพที่มุ่งเน้นการผลิตสินค้าเกษตรและอาหารปลอดภัย | B24: ผลิตภัณฑ์ที่มีศักยภาพ (Product Champion: PC)) : อ้อยโรงงาน | C24: 1.2 ปัจจัยพื้นฐานและการพัฒนาเกษตรกร | D24: CSF2.4 การเตรียมพื้นที่เพาะปลูก และปรับปรุงคุณภาพดิน | E24: 1.2.8.ร้อยละที่เพิ่มขึ้นของจำนวนพื้นที่ที่มีความเหมาะสมในการเพาะปลูก | F24: 1.2.8.2 .จำนวนเนื้อที่ทั้งสิ้นในจังหวัด | G24: ตร.กม./ไร่ | H24: 627409.67 | I24: 627409.67 | J24: 627409.67 | K24: 627409.67 | L24: 627409.67 | M24: 627409.67 | O24: เกษตรจังหวัด
A25: ยุทธศาสตร์ที่ 1 พัฒนาศักยภาพที่มุ่งเน้นการผลิตสินค้าเกษตรและอาหารปลอดภัย | B25: ผลิตภัณฑ์ที่มีศักยภาพ (Product Champion: PC)) : อ้อยโรงงาน | C25: 1.2 ปัจจัยพื้นฐานและการพัฒนาเกษตรกร | D25: CSF2.4 การเตรียมพื้นที่เพาะปลูก และปรับปรุงคุณภาพดิน | E25: 1.2.9 ร้อยละที่เพิ่มขึ้นของพื้นที่ที่ได้รับการปรับปรุงคุณภาพดิน | F25: 1.2.9.1 พื้นที่ที่ได้รับการปรับปรุงคุณภาพดิน | G25: ตร.กม./ไร่ | H25: 12000 | I25: 10000 | J25: 13000 | K25: 12000 | L25: 11000 | M25: 11000 | O25: สถานีพัฒนาที่ดินจังหวัด
A26: ยุทธศาสตร์ที่ 1 พัฒนาศักยภาพที่มุ่งเน้นการผลิตสินค้าเกษตรและอาหารปลอดภัย | B26: ผลิตภัณฑ์ที่มีศักยภาพ (Product Champion: PC)) : อ้อยโรงงาน | C26: 1.2 ปัจจัยพื้นฐานและการพัฒนาเกษตรกร | D26: CSF2.4 การเตรียมพื้นที่เพาะปลูก และปรับปรุงคุณภาพดิน | E26: 1.2.10 .จำนวนพื้นที่ ที่คุณภาพดินและลักษณะพื้นที่ มีความเหมาะสมในการเพาะปลูกพืชผลการเกษตร | F26: 1.2.10.1 จำนวนพื้นที่ ที่คุณภาพดินและลักษณะพื้นที่ มีความเหมาะสมในการเพาะปลูกพืชผลการเกษตร | G26: ตร.กม./ไร่ | H26: 701171 | I26: 274013 | J26: 274013 | K26: 274013 | L26: 274013 | M26: 274037 | O26: สถานีพัฒนาที่ดินจังหวัด
A27: ยุทธศาสตร์ที่ 1 พัฒนาศักยภาพที่มุ่งเน้นการผลิตสินค้าเกษตรและอาหารปลอดภัย | B27: ผลิตภัณฑ์ที่มีศักยภาพ (Product Champion: PC)) : อ้อยโรงงาน | C27: 1.2 ปัจจัยพื้นฐานและการพัฒนาเกษตรกร | D27: CSF2.4 การเตรียมพื้นที่เพาะปลูก และปรับปรุงคุณภาพดิน | E27: 1.2.11.สัดส่วนพื้นที่ที่ได้รับการพัฒนาคุณภาพดิน | F27: 1.2.11.1 จำนวนพื้นที่ที่ได้รับการพัฒนาคุณภาพดิน | G27: ตร.กม./ไร่ | H27: 12000 | I27: 10000 | J27: 13000 | K27: 12000 | L27: 11000 | M27: 11000 | O27: สถานีพัฒนาที่ดินจังหวัด
A28: ยุทธศาสตร์ที่ 1 พัฒนาศักยภาพที่มุ่งเน้นการผลิตสินค้าเกษตรและอาหารปลอดภัย | B28: ผลิตภัณฑ์ที่มีศักยภาพ (Product Champion: PC)) : อ้อยโรงงาน | C28: 1.2 ปัจจัยพื้นฐานและการพัฒนาเกษตรกร | D28: CSF2.4 การเตรียมพื้นที่เพาะปลูก และปรับปรุงคุณภาพดิน | E28: 1.2.11.สัดส่วนพื้นที่ที่ได้รับการพัฒนาคุณภาพดิน | F28: 1.2.11.2 เนื้อที่เกษตรกรรมทั้งหมดของจังหวัด | G28: ตร.กม./ไร่ | H28: 4341715.6 | I28: 2832413 | J28: 2833181 | K28: 2833181 | L28: 2833269 | O28: เกษตรจังหวัด
A29: ยุทธศาสตร์ที่ 1 พัฒนาศักยภาพที่มุ่งเน้นการผลิตสินค้าเกษตรและอาหารปลอดภัย | B29: ผลิตภัณฑ์ที่มีศักยภาพ (Product Champion: PC)) : อ้อยโรงงาน | C29: 1.2 ปัจจัยพื้นฐานและการพัฒนาเกษตรกร | D29: CSF2.4 การเตรียมพื้นที่เพาะปลูก และปรับปรุงคุณภาพดิน | E29: 1.2.12 ร้อยละที่ลดลงของพื้นที่ดินเค็ม | F29: 1.2.12.1 จำนวนเนื้อที่ดินเค็ม (ตารางกิโลเมตร/ไร่) | G29: ตร.กม./ไร่ | H29: 301275 | I29: 301275 | J29: 301275 | K29: 301275 | L29: 301275 | M29: 301275 | O29: สถานีพัฒนาที่ดินจังหวัด
A30: ยุทธศาสตร์ที่ 1 พัฒนาศักยภาพที่มุ่งเน้นการผลิตสินค้าเกษตรและอาหารปลอดภัย | B30: ผลิตภัณฑ์ที่มีศักยภาพ (Product Champion: PC)) : อ้อยโรงงาน | C30: 1.2 ปัจจัยพื้นฐานและการพัฒนาเกษตรกร | D30: CSF2.4 การเตรียมพื้นที่เพาะปลูก และปรับปรุงคุณภาพดิน | E30: 1.2.12 ร้อยละที่ลดลงของพื้นที่ดินเค็ม | F30: 1.2.12.2 จำนวนเนื้อที่ทั้งสิ้นในจังหวัด | G30: ตร.กม./ไร่ | H30: 627409.67 | I30: 627409.67 | J30: 627409.67 | K30: 627409.67 | L30: 627409.67 | M30: 627409.67 | O30: สถานีพัฒนาที่ดินจังหวัด
A31: ยุทธศาสตร์ที่ 1 พัฒนาศักยภาพที่มุ่งเน้นการผลิตสินค้าเกษตรและอาหารปลอดภัย | B31: ผลิตภัณฑ์ที่มีศักยภาพ (Product Champion: PC)) : อ้อยโรงงาน | C31: 1.2 ปัจจัยพื้นฐานและการพัฒนาเกษตรกร | D31: CSF2.4 การเตรียมพื้นที่เพาะปลูก และปรับปรุงคุณภาพดิน | E31: 1.2.13สัดส่วนพื้นที่ที่ได้รับการพัฒนาลดปัญหาดินเค็มต่อพื้นที่เกษตรกรรมทั้งหมดของจังหวัด | F31: 1.2.13.1 พื้นที่ที่ได้รับการพัฒนาลดปัญหาดินเค็ม | G31: ตร.กม./ไร่ | H31: 2500 | I31: 4000 | J31: 4000 | K31: 4000 | L31: 3100 | M31: 3050 | O31: สถานีพัฒนาที่ดินจังหวัด
A32: ยุทธศาสตร์ที่ 1 พัฒนาศักยภาพที่มุ่งเน้นการผลิตสินค้าเกษตรและอาหารปลอดภัย | B32: ผลิตภัณฑ์ที่มีศักยภาพ (Product Champion: PC)) : อ้อยโรงงาน | C32: 1.2 ปัจจัยพื้นฐานและการพัฒนาเกษตรกร | D32: CSF2.4 การเตรียมพื้นที่เพาะปลูก และปรับปรุงคุณภาพดิน | E32: 1.2.13สัดส่วนพื้นที่ที่ได้รับการพัฒนาลดปัญหาดินเค็มต่อพื้นที่เกษตรกรรมทั้งหมดของจังหวัด | F32: 1.2.13.2 พื้นที่เกษตรกรรมทั้งหมดของจังหวัด | G32: ตร.กม./ไร่ | H32: 2833408 | I32: 2832413 | J32: 2833181 | K32: 2833181 | L32: 2833269 | O32: เกษตรจังหวัด
A33: ยุทธศาสตร์ที่ 1 พัฒนาศักยภาพที่มุ่งเน้นการผลิตสินค้าเกษตรและอาหารปลอดภัย | B33: ผลิตภัณฑ์ที่มีศักยภาพ (Product Champion: PC)) : อ้อยโรงงาน | C33: 1.2 ปัจจัยพื้นฐานและการพัฒนาเกษตรกร | D33: CSF2.5 การรวมกลุ่มเกษตรกรและสร้างเครือข่าย | E33: 1.2.14 ร้อยละที่เพิ่มขึ้นของกลุ่มเกษตรกร และจำนวนสมาชิก จำแนกตามประเภทการจัดตั้ง และเขตการปกครอง | F33: 1.2.14.1 จำนวนกลุ่มเกษตรกร และจำนวนสมาชิก จำแนกตามประเภทการจัดตั้ง และเขตการปกครอง | G33: กลุ่ม/ราย | I33: 92กลุ่ม/143,069 ราย | J33: 73กลุ่ม/143,711ราย | K33: 68กลุ่ม/143,350ราย | L33: 58กลุ่ม/140,044ราย | O33: เกษตรจังหวัด/สหกรณ์จังหวัด
A34: ยุทธศาสตร์ที่ 1 พัฒนาศักยภาพที่มุ่งเน้นการผลิตสินค้าเกษตรและอาหารปลอดภัย | B34: ผลิตภัณฑ์ที่มีศักยภาพ (Product Champion: PC)) : อ้อยโรงงาน | C34: 1.2 ปัจจัยพื้นฐานและการพัฒนาเกษตรกร | D34: CSF2.6 การสร้างองค์ความรู้และขีดความสามารถให้เกษตรกร | E34: 1.2.15 .ร้อยละที่เพิ่มขึ้นของเกษตรกรที่ได้รับองค์ความรู้และเพิ่มขีดความสามารถด้านเกษตรกรรม | F34: 1.2.15.1 จำนวนเกษตรกรที่ได้รับองค์ความรู้และเพิ่มขีดความสามารถด้านเกษตรกรรม | G34: ราย | I34: 400 | O34: เกษตรจังหวัด/โรงงานอ้อย
A35: ยุทธศาสตร์ที่ 1 พัฒนาศักยภาพที่มุ่งเน้นการผลิตสินค้าเกษตรและอาหารปลอดภัย | B35: ผลิตภัณฑ์ที่มีศักยภาพ (Product Champion: PC)) : อ้อยโรงงาน | C35: 1.2 ปัจจัยพื้นฐานและการพัฒนาเกษตรกร | D35: CSF2.6 การสร้างองค์ความรู้และขีดความสามารถให้เกษตรกร | E35: 1.2.16 จำนวนโครงการด้านองค์ความรู้และเพิ่มขีดความสามารถด้านเกษตรกรรม | F35: 1.2.16.1 จำนวนโครงการด้านองค์ความรู้และเพิ่มขีดความสามารถด้านเกษตรกรรม | G35: โครงการ | I35: 1 | O35: เกษตรจังหวัด/โรงงานอ้อย
A36: ยุทธศาสตร์ที่ 1 พัฒนาศักยภาพที่มุ่งเน้นการผลิตสินค้าเกษตรและอาหารปลอดภัย | B36: ผลิตภัณฑ์ที่มีศักยภาพ (Product Champion: PC)) : อ้อยโรงงาน | C36: 1.2 ปัจจัยพื้นฐานและการพัฒนาเกษตรกร | D36: CSF2.7 มีเครือข่ายสถาบันการเงิน/กองทุนเพื่อช่วยเหลือด้านการเงินให้เกษตรกร | E36: 1.2.17 .ร้อยละที่เพิ่มขึ้นของจำนวนเกษตรกรที่ได้รับสินเชื่อ/เงินทุนเพื่อช่วยเหลือด้านการเงินให้เกษตรกร | F36: 1.2.17.1 .โครงการสินเชื่อ/กองทุนเพื่อช่วยเหลือด้านการเงินให้เกษตรกร | G36: โครงการ | H36: 1 | I36: 1 | J36: 1 | K36: 1 | L36: 1 | M36: 1 | O36: ธกส.
A37: ยุทธศาสตร์ที่ 1 พัฒนาศักยภาพที่มุ่งเน้นการผลิตสินค้าเกษตรและอาหารปลอดภัย | B37: ผลิตภัณฑ์ที่มีศักยภาพ (Product Champion: PC)) : อ้อยโรงงาน | C37: 1.2 ปัจจัยพื้นฐานและการพัฒนาเกษตรกร | D37: CSF2.7 มีเครือข่ายสถาบันการเงิน/กองทุนเพื่อช่วยเหลือด้านการเงินให้เกษตรกร | E37: 1.2.17 .ร้อยละที่เพิ่มขึ้นของจำนวนเกษตรกรที่ได้รับสินเชื่อ/เงินทุนเพื่อช่วยเหลือด้านการเงินให้เกษตรกร | F37: 1.2.17.2 จำนวนวงเงินสินเชื่อ/กองทุนเพื่อช่วยเหลือด้านการเงินให้เกษตรกร | G37: บาท | H37: 2137680054 | I37: 2634491217 | J37: 1435095420 | K37: 4219272673 | L37: 4591552279 | M37: 5193418864 | O37: ธกส.
A38: ยุทธศาสตร์ที่ 1 พัฒนาศักยภาพที่มุ่งเน้นการผลิตสินค้าเกษตรและอาหารปลอดภัย | B38: ผลิตภัณฑ์ที่มีศักยภาพ (Product Champion: PC)) : อ้อยโรงงาน | C38: 1.3 การเพิ่มผลผลิต พัฒนาคุณภาพ และลดต้นทุน | D38: CSF3.1 ส่งเสริมระบบการผลิตที่ดีและเหมาะสม (GAP) | E38: 1.3.1 ร้อยละที่เพิ่มขึ้นของจำนวนเกษตรกรที่ได้รับการส่งเสริมกระบวนการผลิตตามวิธีการเกษตรดีที่เหมาะสม (GAP) | F38: 1.3.1.1.จำนวนเกษตรกรที่ได้รับการส่งเสริมกระบวนการผลิตตามวิธีการเกษตรดีที่เหมาะสม (GAP) | G38: ราย | H38: - | I38: 400 | O38: เกษตรจังหวัด
A39: ยุทธศาสตร์ที่ 1 พัฒนาศักยภาพที่มุ่งเน้นการผลิตสินค้าเกษตรและอาหารปลอดภัย | B39: ผลิตภัณฑ์ที่มีศักยภาพ (Product Champion: PC)) : อ้อยโรงงาน | C39: 1.3 การเพิ่มผลผลิต พัฒนาคุณภาพ และลดต้นทุน | D39: CSF3.1 ส่งเสริมระบบการผลิตที่ดีและเหมาะสม (GAP) | E39: 1.3.1 ร้อยละที่เพิ่มขึ้นของจำนวนเกษตรกรที่ได้รับการส่งเสริมกระบวนการผลิตตามวิธีการเกษตรดีที่เหมาะสม (GAP) | F39: 1.3.1.2 จำนวนเกษตรกรทั้งสิ้นในจังหวัด | G39: ราย | H39: 251975 | I39: 248849 | J39: 220130 | K39: 246453 | L39: 292092 | O39: เกษตรจังหวัด
A40: ยุทธศาสตร์ที่ 1 พัฒนาศักยภาพที่มุ่งเน้นการผลิตสินค้าเกษตรและอาหารปลอดภัย | B40: ผลิตภัณฑ์ที่มีศักยภาพ (Product Champion: PC)) : อ้อยโรงงาน | C40: 1.3 การเพิ่มผลผลิต พัฒนาคุณภาพ และลดต้นทุน | D40: CSF3.2 การใส่ปุ๋ย การใช้สารเคมี และการกำจัดศัตรูพืช | E40: 1.3.2.ร้อยละที่เพิ่มขึ้นของจำนวนเกษตรกรที่ที่ใช้สารอินทรีย์ / ลดการใช้สารเคมีทางการเกษตร | F40: 1.3.2.1 จำนวนเกษตรกรที่ที่ใช้สารอินทรีย์ / ลดการใช้สารเคมีทางการเกษตร | G40: ราย | H40: - | I40: 400 | O40: เกษตรจังหวัด
A41: ยุทธศาสตร์ที่ 1 พัฒนาศักยภาพที่มุ่งเน้นการผลิตสินค้าเกษตรและอาหารปลอดภัย | B41: ผลิตภัณฑ์ที่มีศักยภาพ (Product Champion: PC)) : อ้อยโรงงาน | C41: 1.3 การเพิ่มผลผลิต พัฒนาคุณภาพ และลดต้นทุน | D41: CSF3.3 เกษตรกรมีแผนการผลิตและแผนการเก็บเกี่ยวที่เหมาะสม (Crop Planning) | E41: 1.3.3การคัดเลือกพันธุ์อ้อยที่เหมาะสมกับฤดูกาลเพาะปลูกและให้ผลผลิตต่อไร่สูง | F41: 1.3.3.1 จำนวนชนิดพันธุ์อ้อยที่เหมาะสมกับฤดูกาลเพาะปลูกและให้ผลผลิตต่อไร่สูง | G41: ชนิดพันธุ์ | H41: 9 | I41: 9 | J41: 9 | K41: 5 | L41: 5 | O41: ศูนย์วิจัยและพัฒนาการเกษตรกาฬสินธุ์
A42: ยุทธศาสตร์ที่ 1 พัฒนาศักยภาพที่มุ่งเน้นการผลิตสินค้าเกษตรและอาหารปลอดภัย | B42: ผลิตภัณฑ์ที่มีศักยภาพ (Product Champion: PC)) : อ้อยโรงงาน | C42: 1.3 การเพิ่มผลผลิต พัฒนาคุณภาพ และลดต้นทุน | D42: CSF3.4 การเพิ่มผลิตภาพการปลูกอ้อย | E42: 1.3.4.ร้อยละที่เพิ่มขึ้นของผลิตภาพการปลูกอ้อย | F42: 1.3.4.1 .จำนวนผลผลิตของพืชผลการเกษตร (อ้อย) จำแนกตาม อำเภอ ตำบล | G42: ตัน | H42: 3708766 | I42: 4158440 | J42: 4115022 | K42: 4147590 | L42: 4936871 | O42: เกษตรจังหวัด
A43: ยุทธศาสตร์ที่ 1 พัฒนาศักยภาพที่มุ่งเน้นการผลิตสินค้าเกษตรและอาหารปลอดภัย | B43: ผลิตภัณฑ์ที่มีศักยภาพ (Product Champion: PC)) : อ้อยโรงงาน | C43: 1.3 การเพิ่มผลผลิต พัฒนาคุณภาพ และลดต้นทุน | D43: CSF3.4 การเพิ่มผลิตภาพการปลูกอ้อย | E43: 1.3.4.ร้อยละที่เพิ่มขึ้นของผลิตภาพการปลูกอ้อย | F43: 1.3.4.2 จำนวนผลผลิตต่อไร่ของพืชผลการเกษตร (อ้อย) จำแนกตาม อำเภอ ตำบล | G43: ตัน/ไร่ | H43: 12190 | I43: 11180 | J43: 11080 | K43: 10264 | L43: 10157 | O43: เกษตรจังหวัด
A44: ยุทธศาสตร์ที่ 1 พัฒนาศักยภาพที่มุ่งเน้นการผลิตสินค้าเกษตรและอาหารปลอดภัย | B44: ผลิตภัณฑ์ที่มีศักยภาพ (Product Champion: PC)) : อ้อยโรงงาน | C44: 1.4 การแปรรูปและสร้างมูลค่าเพิ่ม | D44: CSF4.1 การส่งเสริมมาตรฐานการผลิตเกษตรอุตสาหกรรม (GMP) | E44: 1.4.1 ร้อยละที่เพิ่มขึ้นของโรงสีชุมชน โรงสีสหกรณ์ โรงงานอ้อย และโรงงานอุตสาหกรรม ที่ได้รับการส่งเสริมและพัฒนาให้มีความพร้อมเข้าสู่มาตรฐาน GMP | F44: 1.4.1.1 จำนวนโรงสีชุมชน โรงสีสหกรณ์ โรงงานอ้อย และโรงงานอุตสาหกรรม ที่ได้รับการส่งเสริมและพัฒนาให้มีความพร้อมเข้าสู่มาตรฐาน GMP | G44: แห่ง | H44: 2 | I44: 2 | J44: 2 | K44: 2 | L44: 2 | M44: 2 | O44: อุตสาหกรรมจังหวัด
A45: ยุทธศาสตร์ที่ 1 พัฒนาศักยภาพที่มุ่งเน้นการผลิตสินค้าเกษตรและอาหารปลอดภัย | B45: ผลิตภัณฑ์ที่มีศักยภาพ (Product Champion: PC)) : อ้อยโรงงาน | C45: 1.4 การแปรรูปและสร้างมูลค่าเพิ่ม | D45: CSF4.1 การส่งเสริมมาตรฐานการผลิตเกษตรอุตสาหกรรม (GMP) | E45: 1.4.1 ร้อยละที่เพิ่มขึ้นของโรงสีชุมชน โรงสีสหกรณ์ โรงงานอ้อย และโรงงานอุตสาหกรรม ที่ได้รับการส่งเสริมและพัฒนาให้มีความพร้อมเข้าสู่มาตรฐาน GMP | F45: 1.4.1.2 โรงงานอ้อย แทั้งสิ้นในจังหวัด | G45: แห่ง | H45: 2 | I45: 2 | J45: 2 | K45: 2 | L45: 2 | M45: 2 | O45: อุตสาหกรรมจังหวัด
A46: ยุทธศาสตร์ที่ 1 พัฒนาศักยภาพที่มุ่งเน้นการผลิตสินค้าเกษตรและอาหารปลอดภัย | B46: ผลิตภัณฑ์ที่มีศักยภาพ (Product Champion: PC)) : อ้อยโรงงาน | C46: 1.4 การแปรรูปและสร้างมูลค่าเพิ่ม | D46: CSF4.1 การส่งเสริมมาตรฐานการผลิตเกษตรอุตสาหกรรม (GMP) | E46: 1.4.2.ร้อยละที่เพิ่มขึ้นของจำนวนเกษตรกรที่ได้มาตรฐาน GMP/HACCP | F46: 1.4.2.1 .จำนวนเกษตรกรที่ได้ที่ได้มาตรฐาน GMP/HACCP | G46: ราย | H46: - | O46: สาธารณสุขจังหวัด
A47: ยุทธศาสตร์ที่ 1 พัฒนาศักยภาพที่มุ่งเน้นการผลิตสินค้าเกษตรและอาหารปลอดภัย | B47: ผลิตภัณฑ์ที่มีศักยภาพ (Product Champion: PC)) : อ้อยโรงงาน | C47: 1.4 การแปรรูปและสร้างมูลค่าเพิ่ม | D47: CSF4.1 การส่งเสริมมาตรฐานการผลิตเกษตรอุตสาหกรรม (GMP) | E47: 1.4.2.ร้อยละที่เพิ่มขึ้นของจำนวนเกษตรกรที่ได้มาตรฐาน GMP/HACCP | F47: 1.4.2.2 จำนวนเกษตรกรทั้งสิ้นในจังหวัด | G47: ราย | H47: 251975 | I47: 248849 | J47: 220130 | K47: 246453 | L47: 292092 | O47: เกษตรจังหวัด
A48: ยุทธศาสตร์ที่ 1 พัฒนาศักยภาพที่มุ่งเน้นการผลิตสินค้าเกษตรและอาหารปลอดภัย | B48: ผลิตภัณฑ์ที่มีศักยภาพ (Product Champion: PC)) : อ้อยโรงงาน | C48: 1.4 การแปรรูปและสร้างมูลค่าเพิ่ม | D48: CSF4.2 สนับสนุนให้นำระบบเกษตรวัสดุเหลือใช้ (Zero Waste) มาปฏิบัติ | E48: 1.4.3ร้อยละที่เพิ่มขึ้นของโรงสีชุมชน โรงสีสหกรณ์ โรงงานอ้อย และโรงงานอุตสาหกรรม ที่ได้รับการส่งเสริมและพัฒนาให้นำระบบเกษตรวัสดุเหลือใช้ (Zero Waste) มาปฏิบัติ | F48: 1.4.3.1 .จำนวนโรงงานอ้อย ที่ได้รับการส่งเสริมและพัฒนาให้นำระบบเกษตรวัสดุเหลือใช้ (Zero Waste) มาปฏิบัติ | G48: แห่ง | H48: 1 | I48: 1 | J48: 1 | K48: 2 | L48: 2 | O48: อุตสาหกรรมจังหวัด
A49: ยุทธศาสตร์ที่ 1 พัฒนาศักยภาพที่มุ่งเน้นการผลิตสินค้าเกษตรและอาหารปลอดภัย | B49: ผลิตภัณฑ์ที่มีศักยภาพ (Product Champion: PC)) : อ้อยโรงงาน | C49: 1.4 การแปรรูปและสร้างมูลค่าเพิ่ม | D49: CSF4.2 สนับสนุนให้นำระบบเกษตรวัสดุเหลือใช้ (Zero Waste) มาปฏิบัติ | E49: 1.4.3ร้อยละที่เพิ่มขึ้นของโรงสีชุมชน โรงสีสหกรณ์ โรงงานอ้อย และโรงงานอุตสาหกรรม ที่ได้รับการส่งเสริมและพัฒนาให้นำระบบเกษตรวัสดุเหลือใช้ (Zero Waste) มาปฏิบัติ | F49: 1.4.3.2 จำนวนของโรงงานอ้อยทั้งสิ้นในจังหวัด | G49: แห่ง | H49: 2 | I49: 2 | J49: 2 | K49: 2 | L49: 2 | O49: อุตสาหกรรมจังหวัด
A50: ยุทธศาสตร์ที่ 1 พัฒนาศักยภาพที่มุ่งเน้นการผลิตสินค้าเกษตรและอาหารปลอดภัย | B50: ผลิตภัณฑ์ที่มีศักยภาพ (Product Champion: PC)) : อ้อยโรงงาน | C50: 1.4 การแปรรูปและสร้างมูลค่าเพิ่ม | D50: CSF4.2 สนับสนุนให้นำระบบเกษตรวัสดุเหลือใช้ (Zero Waste) มาปฏิบัติ | E50: 1.4.4ร้อยละที่เพิ่มขึ้นของเกษตรกรที่นำระบบเกษตรวัสดุเหลือใช้ (Zero Waste) ไปปฏิบัติ | F50: 1.4.4.1 จำนวนเกษตรกรที่นำระบบเกษตรวัสดุเหลือใช้ (Zero Waste) ไปปฏิบัติ | G50: ราย | O50: เกษตรจังหวัด
A51: ยุทธศาสตร์ที่ 1 พัฒนาศักยภาพที่มุ่งเน้นการผลิตสินค้าเกษตรและอาหารปลอดภัย | B51: ผลิตภัณฑ์ที่มีศักยภาพ (Product Champion: PC)) : อ้อยโรงงาน | C51: 1.4 การแปรรูปและสร้างมูลค่าเพิ่ม | D51: CSF4.2 สนับสนุนให้นำระบบเกษตรวัสดุเหลือใช้ (Zero Waste) มาปฏิบัติ | E51: 1.4.4ร้อยละที่เพิ่มขึ้นของเกษตรกรที่นำระบบเกษตรวัสดุเหลือใช้ (Zero Waste) ไปปฏิบัติ | F51: 1.4.4.2 จำนวนของเกษตรกรทั้งสิ้นในจังหวัด | G51: ราย | H51: 251975 | I51: 248849 | J51: 220130 | K51: 246453 | L51: 292092 | O51: เกษตรจังหวัด
A52: ยุทธศาสตร์ที่ 1 พัฒนาศักยภาพที่มุ่งเน้นการผลิตสินค้าเกษตรและอาหารปลอดภัย | B52: ผลิตภัณฑ์ที่มีศักยภาพ (Product Champion: PC)) : อ้อยโรงงาน | C52: 1.4 การแปรรูปและสร้างมูลค่าเพิ่ม | D52: CSF4.3 ส่งเสริมการแปรรูปเพื่อสร้างมูลค่าเพิ่ม | E52: 1.4.5จำนวนผู้ประกอบการภาคอุตสาหกรรมที่แปรรูปผลผลิตทางการเกษตรในรูปแบบต่างๆ จำแนกตามกลุ่มผลิตภัณฑ์ และประเภทผู้ประกอบการ | F52: 1.4.5.1 จำนวนผู้ประกอบการภาคอุตสาหกรรมที่แปรรูปผลผลิตทางการเกษตรในรูปแบบต่างๆ จำแนกตามกลุ่มผลิตภัณฑ์อาหาร และประเภทผู้ประกอบการ | G52: ราย | H52: 135 | I52: 149 | J52: 151 | K52: 153 | L52: 154 | M52: 45 | O52: อุตสาหกรรมจังหวัด
A53: ยุทธศาสตร์ที่ 1 พัฒนาศักยภาพที่มุ่งเน้นการผลิตสินค้าเกษตรและอาหารปลอดภัย | B53: ผลิตภัณฑ์ที่มีศักยภาพ (Product Champion: PC)) : อ้อยโรงงาน | C53: 1.4 การแปรรูปและสร้างมูลค่าเพิ่ม | D53: 5.1.1จำนวนสถานีขนส่งและกระจายสินค้าที่ปลอดภัยและมีมาตรฐาน | E53: 1.4.6จำนวนผลิตภัณฑ์ในภาคอุตสาหกรรมแปรรูปผลผลิตทางการเกษตรในรูปแบบต่างๆ จำแนกตามประเภท/หมวดผลิตภัณฑ์อุตสาหกรรม | F53: 1.4.6.1 จำนวนผลิตภัณฑ์ในภาคอุตสาหกรรมแปรรูปผลผลิตทางการอาหารรในรูปแบบต่างๆ จำแนกตามประเภท/หมวดผลิตภัณฑ์อุตสาหกรรม | G53: ประเภท | H53: 135 | I53: 149 | J53: 151 | K53: 153 | L53: 154 | M53: 45 | O53: อุตสาหกรรมจังหวัด
A54: ยุทธศาสตร์ที่ 1 พัฒนาศักยภาพที่มุ่งเน้นการผลิตสินค้าเกษตรและอาหารปลอดภัย | B54: ผลิตภัณฑ์ที่มีศักยภาพ (Product Champion: PC)) : อ้อยโรงงาน | C54: 1.5 การขนส่งและบริหารจัดการสินค้า (Logistics) | D54: CSF6.1 พัฒนาตลาดกลางและศูนย์จำหน่ายสินค้า | E54: 1.5.1จำนวนสถานีขนส่งและกระจายสินค้าที่ปลอดภัยและมีมาตรฐาน | F54: 1.5.1.1 จำนวนสถานีขนส่งและกระจายสินค้าที่ปลอดภัยและมีมาตรฐาน | G54: แห่ง | H54: - | I54: - | J54: - | K54: - | L54: - | O54: เกษตรจังหวัด
A55: ยุทธศาสตร์ที่ 1 พัฒนาศักยภาพที่มุ่งเน้นการผลิตสินค้าเกษตรและอาหารปลอดภัย | B55: ผลิตภัณฑ์ที่มีศักยภาพ (Product Champion: PC)) : อ้อยโรงงาน | C55: 1.6 การพัฒนาระบบการตลาด | D55: CSF6.1 พัฒนาตลาดกลางและศูนย์จำหน่ายสินค้า | E55: 1.6.1 จำนวนผู้ซื้อ/ผู้ขายในตลาดกลางของสินค้าเกษตร (อ้อย) | F55: 1.6.1.1 จำนวนผู้ซื้อ/ผู้ขายในตลาดกลางของสินค้าเกษตร (อ้อย) | G55: ราย | H55: 51 | O55: สนง.คณะกรรมการอ้อยและน้ำตาลทราย
A56: ยุทธศาสตร์ที่ 1 พัฒนาศักยภาพที่มุ่งเน้นการผลิตสินค้าเกษตรและอาหารปลอดภัย | B56: ผลิตภัณฑ์ที่มีศักยภาพ (Product Champion: PC)) : อ้อยโรงงาน | C56: 1.6 การพัฒนาระบบการตลาด | D56: CSF6.1 พัฒนาตลาดกลางและศูนย์จำหน่ายสินค้า | E56: 1.6.2 ราคาอ้อยต่อหน่วย จำแนกตามประเภทอ้อย และหลักเกณฑ์ซื้อขายข้าวแต่ละชนิด | F56: 1.6.2.1 ราคาอ้อยต่อหน่วย จำแนกตามประเภทอ้อย และหลักเกณฑ์ซื้อขายอ้อยแต่ละชนิด | G56: ซี.ซี.เอส/10.00 | H56: 952.24 | I56: 808 | J56: 1050 | K56: 1050 | L56: 680 | O56: สนง.คณะกรรมการอ้อยและน้ำตาลทราย
A57: ยุทธศาสตร์ที่ 1 พัฒนาศักยภาพที่มุ่งเน้นการผลิตสินค้าเกษตรและอาหารปลอดภัย | B57: ผลิตภัณฑ์ที่มีศักยภาพ (Product Champion: PC)) : อ้อยโรงงาน | C57: 1.6 การพัฒนาระบบการตลาด | D57: CSF6.1 พัฒนาตลาดกลางและศูนย์จำหน่ายสินค้า | E57: 1.6.3 จำนวนตลาดกลางและศูนย์จำหน่ายสินค้าในพื้นที่ | F57: 1.6.3.1 จำนวนตลาดกลางและศูนย์จำหน่ายสินค้าในพื้นที่ | G57: แห่ง | H57: 2 | I57: 2 | J57: 2 | K57: 2 | L57: 2 | M57: 2 | O57: อุตสาหกรรมจังหวัด
A58: ยุทธศาสตร์ที่ 1 พัฒนาศักยภาพที่มุ่งเน้นการผลิตสินค้าเกษตรและอาหารปลอดภัย | B58: ผลิตภัณฑ์ที่มีศักยภาพ (Product Champion: PC)) : อ้อยโรงงาน | C58: 1.6 การพัฒนาระบบการตลาด | D58: CSF6.1 พัฒนาตลาดกลางและศูนย์จำหน่ายสินค้า | E58: 1.6.4 เครือข่ายความร่วมมือในการส่งเสริมการตลาด ทั้งในประเทศและต่างประเทศ | F58: 1.6.4.1 จำนวนเครือข่ายตลาดสินค้าต่างประเทศ | G58: เครือข่าย | H58: 6 | I58: 6 | J58: 6 | K58: 6 | L58: 6 | O58: กรมศุลกากร
A59: ยุทธศาสตร์ที่ 1 พัฒนาศักยภาพที่มุ่งเน้นการผลิตสินค้าเกษตรและอาหารปลอดภัย | B59: ผลิตภัณฑ์ที่มีศักยภาพ (Product Champion: PC)) : มันสำปะหลัง | C59: 1.1. การวิจัยและพัฒนา (R&D) | E59: =[1]ยุทธศาสตร์!C57 -> 1.1.1.ชนิดพันธุ์มันสำปะหลังคุณภาพดีและทนต่อโรคเหมาะกับพื้นที่ | F59: =[1]ยุทธศาสตร์!D57 -> 1.1.1.1 ชนิดพันธุ์มันสำปะหลังคุณภาพดีและทนต่อโรคเหมาะกับพื้นที่ | G59: =[1]ยุทธศาสตร์!E57 -> ชนิดพันธุ์ | H59: =[1]ยุทธศาสตร์!H57 -> 14 | I59: =[1]ยุทธศาสตร์!I57 -> 14 | J59: =[1]ยุทธศาสตร์!J57 -> 14 | K59: =[1]ยุทธศาสตร์!K57 -> 10 | L59: =[1]ยุทธศาสตร์!L57 -> 10 | O59: ศูนย์วิจัยและพัฒนาการเกษตรกาฬสินธุ์
A60: ยุทธศาสตร์ที่ 1 พัฒนาศักยภาพที่มุ่งเน้นการผลิตสินค้าเกษตรและอาหารปลอดภัย | B60: ผลิตภัณฑ์ที่มีศักยภาพ (Product Champion: PC)) : มันสำปะหลัง | C60: 1.1. การวิจัยและพัฒนา (R&D) | E60: =[1]ยุทธศาสตร์!C58 -> 1.1.2.พันธุ์มันสำปะหลังที่เกษตรกรนิยมปลูก | F60: =[1]ยุทธศาสตร์!D58 -> 1.1.2.1 พันธุ์มันสำปะหลังที่เกษตรกรนิยมปลูก | G60: =[1]ยุทธศาสตร์!E58 -> พันธุ์ | H60: =[1]ยุทธศาสตร์!H58 -> 3 | I60: =[1]ยุทธศาสตร์!I58 -> 3 | J60: =[1]ยุทธศาสตร์!J58 -> 4 | K60: =[1]ยุทธศาสตร์!K58 -> 6 | L60: =[1]ยุทธศาสตร์!L58 -> 6 | O60: ศูนย์วิจัยและพัฒนาการเกษตรกาฬสินธุ์
A61: ยุทธศาสตร์ที่ 1 พัฒนาศักยภาพที่มุ่งเน้นการผลิตสินค้าเกษตรและอาหารปลอดภัย | B61: ผลิตภัณฑ์ที่มีศักยภาพ (Product Champion: PC)) : มันสำปะหลัง | C61: 1.1. การวิจัยและพัฒนา (R&D) | E61: =[1]ยุทธศาสตร์!C59 -> 1.1.3.จำนวนแหล่งวิจัยและผลิตพันธุ์มันสำปะหลังคุณภาพดีและทนต่อโรค | F61: =[1]ยุทธศาสตร์!D59 -> 1.1.3.1 จำนวนแหล่งวิจัยและผลิตพันธุ์มันสำปะหลังคุณภาพดีและทนต่อโรค | G61: =[1]ยุทธศาสตร์!E59 -> แหล่ง | H61: =[2]Cassava!W8 -> 1 | I61: =[2]Cassava!X8 -> 1 | J61: =[2]Cassava!Y8 -> 1 | K61: =[2]Cassava!Z8 -> 1 | L61: 1 | O61: ศูนย์วิจัยและพัฒนาการเกษตรกาฬสินธุ์
A62: ยุทธศาสตร์ที่ 1 พัฒนาศักยภาพที่มุ่งเน้นการผลิตสินค้าเกษตรและอาหารปลอดภัย | B62: ผลิตภัณฑ์ที่มีศักยภาพ (Product Champion: PC)) : มันสำปะหลัง | C62: 1.1. การวิจัยและพัฒนา (R&D) | E62: =[1]ยุทธศาสตร์!C60 -> 1.1.4 โครงการงานวิจัยเพื่อลดต้นทุนการผลิต | F62: =[1]ยุทธศาสตร์!D60 -> 1.1.4.1 โครงการงานวิจัยเพื่อลดต้นทุนการผลิต | G62: =[1]ยุทธศาสตร์!E60 -> เรื่อง | H62: =[2]Cassava!W9 -> 7 | I62: =[2]Cassava!X9 -> 6 | J62: =[2]Cassava!Y9 -> 1 | K62: =[2]Cassava!Z9 -> 2 | L62: 2 | O62: ศูนย์วิจัยและพัฒนาการเกษตรกาฬสินธุ์
A63: ยุทธศาสตร์ที่ 1 พัฒนาศักยภาพที่มุ่งเน้นการผลิตสินค้าเกษตรและอาหารปลอดภัย | B63: ผลิตภัณฑ์ที่มีศักยภาพ (Product Champion: PC)) : มันสำปะหลัง | C63: 1.1. การวิจัยและพัฒนา (R&D) | E63: =[1]ยุทธศาสตร์!C61 -> 1.1.5 งานวิจัยเทคโนโลยีและนวัตกรรมเพื่อเพิ่มผลผลิตที่เหมาะสมกับการปลูกมันสำปะหลังในพื้นที่ | F63: =[1]ยุทธศาสตร์!D61 -> 1.1.5.1 งานวิจัยเทคโนโลยีและนวัตกรรมเพื่อเพิ่มผลผลิตที่เหมาะสมกับการปลูกมันสำปะหลังในพื้นที่ | G63: =[1]ยุทธศาสตร์!E61 -> เรื่อง | H63: =[1]ยุทธศาสตร์!H61 -> 8 | I63: =[1]ยุทธศาสตร์!I61 -> 7 | J63: =[1]ยุทธศาสตร์!J61 -> 1 | K63: =[1]ยุทธศาสตร์!K61 -> 2 | L63: =[1]ยุทธศาสตร์!L61 -> 1 | O63: ศูนย์วิจัยและพัฒนาการเกษตรกาฬสินธุ์
A64: ยุทธศาสตร์ที่ 1 พัฒนาศักยภาพที่มุ่งเน้นการผลิตสินค้าเกษตรและอาหารปลอดภัย | B64: ผลิตภัณฑ์ที่มีศักยภาพ (Product Champion: PC)) : มันสำปะหลัง | C64: 1.1. การวิจัยและพัฒนา (R&D) | E64: =[1]ยุทธศาสตร์!C62 -> 1.1.6 รายงานการศึกษาความต้องการของตลาดและแนวโน้มสถานการณ์มันสำปะหลัง ทั้งในและต่างประเทศ | F64: =[1]ยุทธศาสตร์!D62 -> 1.1.6.1 รายงานการศึกษาความต้องการของตลาดและแนวโน้มสถานการณ์มันสำปะหลัง ทั้งในและต่างประเทศ | G64: =[1]ยุทธศาสตร์!E62 -> เรื่อง | O64: ศูนย์วิจัยและพัฒนาการเกษตรกาฬสินธุ์
A65: ยุทธศาสตร์ที่ 1 พัฒนาศักยภาพที่มุ่งเน้นการผลิตสินค้าเกษตรและอาหารปลอดภัย | B65: ผลิตภัณฑ์ที่มีศักยภาพ (Product Champion: PC)) : มันสำปะหลัง | C65: =[1]ยุทธศาสตร์!B63 -> 1.2. ปัจจัยพื้นฐานและการพัฒนาเกษตรกร | E65: =[1]ยุทธศาสตร์!C63 -> 1.2.1 ร้อยละที่เพิ่มขึ้นของจำนวนพื้นที่ที่ได้รับการพัฒนาระบบกักเก็บน้ำและ ระบบชลประทาน | F65: =[1]ยุทธศาสตร์!D63 -> 1.2.1.1 พื้นที่เกษตรกรรมภายใต้ระบบชลประทานและไม่อยู่ในระบบชลประทาน | G65: =[1]ยุทธศาสตร์!E63 -> ตร.กม./ไร่ | H65: =[1]ยุทธศาสตร์!H63 -> 422330 | I65: =[1]ยุทธศาสตร์!I63 -> 402025 | J65: =[1]ยุทธศาสตร์!J63 -> 396151 | K65: =[1]ยุทธศาสตร์!K63 -> 520153 | L65: =[1]ยุทธศาสตร์!L63 -> 522353 | O65: โครงการชลประทานจังหวัด
A66: ยุทธศาสตร์ที่ 1 พัฒนาศักยภาพที่มุ่งเน้นการผลิตสินค้าเกษตรและอาหารปลอดภัย | B66: ผลิตภัณฑ์ที่มีศักยภาพ (Product Champion: PC)) : มันสำปะหลัง | C66: =[1]ยุทธศาสตร์!B64 -> 1.2. ปัจจัยพื้นฐานและการพัฒนาเกษตรกร | E66: =[1]ยุทธศาสตร์!C64 -> 1.2.2 เนื้อที่เกษตรกรรมโดยรวมของจังหวัด | F66: =[1]ยุทธศาสตร์!D64 -> 1.2.2.1 เนื้อที่เกษตรกรรมโดยรวมของจังหวัด | G66: =[1]ยุทธศาสตร์!E64 -> ตร.กม./ไร่ | H66: =[1]ยุทธศาสตร์!H64 -> 2833408 | I66: =[1]ยุทธศาสตร์!I64 -> 2833408 | J66: =[1]ยุทธศาสตร์!J64 -> 2833181 | K66: =[1]ยุทธศาสตร์!K64 -> 2833181 | L66: =[1]ยุทธศาสตร์!L64 -> 2833269 | O66: เกษตรจังหวัด
A67: ยุทธศาสตร์ที่ 1 พัฒนาศักยภาพที่มุ่งเน้นการผลิตสินค้าเกษตรและอาหารปลอดภัย | B67: ผลิตภัณฑ์ที่มีศักยภาพ (Product Champion: PC)) : มันสำปะหลัง | C67: =[1]ยุทธศาสตร์!B65 -> 1.2. ปัจจัยพื้นฐานและการพัฒนาเกษตรกร | E67: =[1]ยุทธศาสตร์!C65 -> 1.2.3 สัดส่วนของจำนวนพื้นที่ที่เหมาะกับการเพาะปลูกพืชแต่ละชนิด (ข้าว อ้อย มันสำปะหลัง) | F67: =[1]ยุทธศาสตร์!D65 -> 1.2.3.1 จำนวนพื้นที่ที่เหมาะกับการเพาะปลูกพืชแต่ละชนิด ( มันสำปะหลัง) | G67: =[1]ยุทธศาสตร์!E65 -> ตำบล | H67: =[2]Cassava!W18 -> 116 | I67: =[2]Cassava!X18 -> 116 | J67: =[2]Cassava!Y18 -> 116 | K67: =[2]Cassava!Z18 -> 116 | L67: =[2]Cassava!AA18 -> 116 | O67: เกษตรจังหวัด
A68: ยุทธศาสตร์ที่ 1 พัฒนาศักยภาพที่มุ่งเน้นการผลิตสินค้าเกษตรและอาหารปลอดภัย | B68: ผลิตภัณฑ์ที่มีศักยภาพ (Product Champion: PC)) : มันสำปะหลัง | C68: =[1]ยุทธศาสตร์!B66 -> 1.2. ปัจจัยพื้นฐานและการพัฒนาเกษตรกร | E68: =[1]ยุทธศาสตร์!C66 -> 1.2.3 สัดส่วนของจำนวนพื้นที่ที่เหมาะกับการเพาะปลูกพืชแต่ละชนิด (ข้าว อ้อย มันสำปะหลัง) | F68: =[1]ยุทธศาสตร์!D66 -> 1.2.3.2 จำนวนเนื้อที่ที่เหมาะกับการเพาะปลูกมันสำปะหลัง | G68: =[1]ยุทธศาสตร์!E66 -> ตร.กม./ไร่ | H68: =[1]ยุทธศาสตร์!H66 -> 248801 | I68: =[1]ยุทธศาสตร์!I66 -> 248801 | J68: =[1]ยุทธศาสตร์!J66 -> 276818 | K68: =[1]ยุทธศาสตร์!K66 -> 252183 | L68: =[1]ยุทธศาสตร์!L66 -> 241523 | O68: เกษตรจังหวัด
A69: ยุทธศาสตร์ที่ 1 พัฒนาศักยภาพที่มุ่งเน้นการผลิตสินค้าเกษตรและอาหารปลอดภัย | B69: ผลิตภัณฑ์ที่มีศักยภาพ (Product Champion: PC)) : มันสำปะหลัง | C69: =[1]ยุทธศาสตร์!B67 -> 1.2. ปัจจัยพื้นฐานและการพัฒนาเกษตรกร | E69: =[1]ยุทธศาสตร์!C67 -> 1.2.4 จำนวนเกษตรกรที่ขึ้นทะเบียน จำแนกตามการจัดพื้นที่เกษตรของจังหวัด (Zoning) | F69: =[1]ยุทธศาสตร์!D67 -> 1.2.4.1 จำนวนเกษตรกรที่ขึ้นทะเบียน จำแนกตามการจัดพื้นที่เกษตรของจังหวัด (Zoning) | G69: =[1]ยุทธศาสตร์!E67 -> ราย | H69: =[2]Cassava!W20 -> 29004 | I69: =[2]Cassava!X20 -> 182870 | J69: =[2]Cassava!Y20 -> 159675 | K69: =[2]Cassava!Z20 -> 220130 | O69: เกษตรจังหวัด
A70: ยุทธศาสตร์ที่ 1 พัฒนาศักยภาพที่มุ่งเน้นการผลิตสินค้าเกษตรและอาหารปลอดภัย | B70: ผลิตภัณฑ์ที่มีศักยภาพ (Product Champion: PC)) : มันสำปะหลัง | C70: =[1]ยุทธศาสตร์!B68 -> 1.2. ปัจจัยพื้นฐานและการพัฒนาเกษตรกร | E70: =[1]ยุทธศาสตร์!C68 -> 1.2.4 จำนวนเกษตรกรที่ขึ้นทะเบียน จำแนกตามการจัดพื้นที่เกษตรของจังหวัด (Zoning) | F70: =[1]ยุทธศาสตร์!D68 -> 1.2.4.2 จำนวนเกษตรกรทั้งสิ้นในจังหวัด | G70: =[1]ยุทธศาสตร์!E68 -> ราย | H70: =[2]Cassava!W21 -> 251975 | I70: =[2]Cassava!X21 -> 248849 | J70: =[2]Cassava!Y21 -> 220130 | K70: =[2]Cassava!Z21 -> 246453 | L70: =[2]Cassava!AA21 -> 292092 | O70: เกษตรจังหวัด
A71: ยุทธศาสตร์ที่ 1 พัฒนาศักยภาพที่มุ่งเน้นการผลิตสินค้าเกษตรและอาหารปลอดภัย | B71: ผลิตภัณฑ์ที่มีศักยภาพ (Product Champion: PC)) : มันสำปะหลัง | C71: =[1]ยุทธศาสตร์!B69 -> 1.2. ปัจจัยพื้นฐานและการพัฒนาเกษตรกร | E71: =[1]ยุทธศาสตร์!C69 -> 1.2.5 ร้อยละที่เพิ่มขึ้นของเกษตรกรที่ได้รับการสนับสนุนเมล็ดพันธุ์มันสำปะหลังที่ดี | F71: =[1]ยุทธศาสตร์!D69 -> 1.2.5.1 จำนวนเกษตรกรที่ได้รับการสนับสนุนพันธุ์มันสำปะหลังที่ดี | G71: =[1]ยุทธศาสตร์!E69 -> ราย | O71: เกษตรจังหวัด
A72: ยุทธศาสตร์ที่ 1 พัฒนาศักยภาพที่มุ่งเน้นการผลิตสินค้าเกษตรและอาหารปลอดภัย | B72: ผลิตภัณฑ์ที่มีศักยภาพ (Product Champion: PC)) : มันสำปะหลัง | C72: =[1]ยุทธศาสตร์!B70 -> 1.2. ปัจจัยพื้นฐานและการพัฒนาเกษตรกร | E72: =[1]ยุทธศาสตร์!C70 -> 1.2.5 ร้อยละที่เพิ่มขึ้นของเกษตรกรที่ได้รับการสนับสนุนเมล็ดพันธุ์มันสำปะหลังที่ดี | F72: =[1]ยุทธศาสตร์!D70 -> 1.2.5.2 จำนวนเกษตรกรที่ปลูกมันสำปะหลังทั้งสิ้นในจังหวัด | G72: =[1]ยุทธศาสตร์!E70 -> ราย | H72: 31744 | I72: 28225 | J72: 27137 | K72: 32106 | L72: 23390 | O72: เกษตรจังหวัด
A73: ยุทธศาสตร์ที่ 1 พัฒนาศักยภาพที่มุ่งเน้นการผลิตสินค้าเกษตรและอาหารปลอดภัย | B73: ผลิตภัณฑ์ที่มีศักยภาพ (Product Champion: PC)) : มันสำปะหลัง | C73: =[1]ยุทธศาสตร์!B71 -> 1.2. ปัจจัยพื้นฐานและการพัฒนาเกษตรกร | E73: =[1]ยุทธศาสตร์!C71 -> 1.2.6 ร้อยละที่เพิ่มขึ้นของจำนวนพื้นที่ปลูกมันสำปะหลังที่ได้รับการสนับสนุนเมล็ดพันธ์ที่ดี | F73: =[1]ยุทธศาสตร์!D71 -> 1.2.6.1 จำนวนพื้นที่ปลูกมันสำปะหลังที่ได้รับการสนับสนุนพันธ์มันสำปะหลังที่ดี | G73: =[1]ยุทธศาสตร์!E71 -> ตร.กม./ไร่ | O73: เกษตรจังหวัด
A74: ยุทธศาสตร์ที่ 1 พัฒนาศักยภาพที่มุ่งเน้นการผลิตสินค้าเกษตรและอาหารปลอดภัย | B74: ผลิตภัณฑ์ที่มีศักยภาพ (Product Champion: PC)) : มันสำปะหลัง | C74: =[1]ยุทธศาสตร์!B72 -> 1.2. ปัจจัยพื้นฐานและการพัฒนาเกษตรกร | E74: =[1]ยุทธศาสตร์!C72 -> 1.2.6 ร้อยละที่เพิ่มขึ้นของจำนวนพื้นที่ปลูกมันสำปะหลังที่ได้รับการสนับสนุนเมล็ดพันธ์ที่ดี | F74: =[1]ยุทธศาสตร์!D72 -> 1.2.6.2 จำนวนเนื้อที่ปลูกมันสำปะหลังทั้งสิ้นในจังหวัด | G74: =[1]ยุทธศาสตร์!E72 -> ตร.กม./ไร่ | H74: 203589 | I74: 248801 | J74: 224366 | K74: 252183 | L74: 241523 | O74: เกษตรจังหวัด
A75: ยุทธศาสตร์ที่ 1 พัฒนาศักยภาพที่มุ่งเน้นการผลิตสินค้าเกษตรและอาหารปลอดภัย | B75: ผลิตภัณฑ์ที่มีศักยภาพ (Product Champion: PC)) : มันสำปะหลัง | C75: =[1]ยุทธศาสตร์!B73 -> 1.2. ปัจจัยพื้นฐานและการพัฒนาเกษตรกร | E75: =[1]ยุทธศาสตร์!C73 -> 1.2.7 จำนวนร้านค้า/สถานประกอบการที่จำหน่ายพันธุ์มันสำปะหลัง | F75: =[1]ยุทธศาสตร์!D73 -> 1.2.7.1 จำนวนร้านค้า/สถานประกอบการที่จำหน่ายพันธุ์มันสำปะหลัง | G75: =[1]ยุทธศาสตร์!E73 -> แห่ง | H75: 9 | I75: 9 | J75: 9 | K75: 9 | L75: 9 | O75: เกษตรจังหวัด
A76: ยุทธศาสตร์ที่ 1 พัฒนาศักยภาพที่มุ่งเน้นการผลิตสินค้าเกษตรและอาหารปลอดภัย | B76: ผลิตภัณฑ์ที่มีศักยภาพ (Product Champion: PC)) : มันสำปะหลัง | C76: =[1]ยุทธศาสตร์!B74 -> 1.2. ปัจจัยพื้นฐานและการพัฒนาเกษตรกร | E76: =[1]ยุทธศาสตร์!C74 -> 1.2.8 ร้อยละที่เพิ่มขึ้นของจำนวนพื้นที่ที่มีความเหมาะสมในการเพาะปลูก | F76: =[1]ยุทธศาสตร์!D74 -> 1.2.8.1 จำนวนพื้นที่ที่มีความเหมาะสมในการเพาะปลูกมันสำปะหลัง | G76: =[1]ยุทธศาสตร์!E74 -> ตร.กม./ไร่ | H76: 4341715.6 | I76: 3211271 | J76: 3211271 | K76: 3211271 | L76: 3211271 | O76: เกษตรจังหวัด
A77: ยุทธศาสตร์ที่ 1 พัฒนาศักยภาพที่มุ่งเน้นการผลิตสินค้าเกษตรและอาหารปลอดภัย | B77: ผลิตภัณฑ์ที่มีศักยภาพ (Product Champion: PC)) : มันสำปะหลัง | C77: =[1]ยุทธศาสตร์!B75 -> 1.2. ปัจจัยพื้นฐานและการพัฒนาเกษตรกร | E77: =[1]ยุทธศาสตร์!C75 -> 1.2.8 ร้อยละที่เพิ่มขึ้นของจำนวนพื้นที่ที่มีความเหมาะสมในการเพาะปลูก | F77: =[1]ยุทธศาสตร์!D75 -> 1.2.8.2 จำนวนพื้นที่ทั้งสิ้นในจังหวัด | G77: =[1]ยุทธศาสตร์!E75 -> ตร.กม./ไร่ | H77: 627409.67 | I77: 627409.67 | J77: 627409.67 | K77: 627409.67 | L77: 627409.67 | M77: 627409.67 | O77: เกษตรจังหวัด
A78: ยุทธศาสตร์ที่ 1 พัฒนาศักยภาพที่มุ่งเน้นการผลิตสินค้าเกษตรและอาหารปลอดภัย | B78: ผลิตภัณฑ์ที่มีศักยภาพ (Product Champion: PC)) : มันสำปะหลัง | C78: =[1]ยุทธศาสตร์!B76 -> 1.2. ปัจจัยพื้นฐานและการพัฒนาเกษตรกร | E78: =[1]ยุทธศาสตร์!C76 -> 1.2.9 ร้อยละที่เพิ่มขึ้นของพื้นที่ที่ได้รับการปรับปรุงคุณภาพดิน | F78: =[1]ยุทธศาสตร์!D76 -> 1.2.9.1 พื้นที่ที่ได้รับการปรับปรุงคุณภาพดิน | G78: =[1]ยุทธศาสตร์!E76 -> ตร.กม./ไร่ | H78: 12000 | I78: 10000 | J78: 13000 | K78: 12000 | L78: 11000 | M78: 11000 | O78: สถานีพัฒนาที่ดินจังหวัด
A79: ยุทธศาสตร์ที่ 1 พัฒนาศักยภาพที่มุ่งเน้นการผลิตสินค้าเกษตรและอาหารปลอดภัย | B79: ผลิตภัณฑ์ที่มีศักยภาพ (Product Champion: PC)) : มันสำปะหลัง | C79: =[1]ยุทธศาสตร์!B77 -> 1.2. ปัจจัยพื้นฐานและการพัฒนาเกษตรกร | E79: =[1]ยุทธศาสตร์!C77 -> 1.2.10.จำนวนพื้นที่ ที่คุณภาพดินและลักษณะพื้นที่ มีความเหมาะสมในการเพาะปลูกพืชผลการเกษตร | F79: =[1]ยุทธศาสตร์!D77 -> 1.2.10.1 จำนวนพื้นที่ ที่คุณภาพดินและลักษณะพื้นที่ มีความเหมาะสมในการเพาะปลูกพืชผลการเกษตร | G79: =[1]ยุทธศาสตร์!E77 -> ตร.กม./ไร่ | H79: 274013 | I79: 274013 | J79: 274013 | K79: 274013 | L79: 274013 | M79: 274013 | O79: สถานีพัฒนาที่ดินจังหวัด
A80: ยุทธศาสตร์ที่ 1 พัฒนาศักยภาพที่มุ่งเน้นการผลิตสินค้าเกษตรและอาหารปลอดภัย | B80: ผลิตภัณฑ์ที่มีศักยภาพ (Product Champion: PC)) : มันสำปะหลัง | C80: =[1]ยุทธศาสตร์!B78 -> 1.2. ปัจจัยพื้นฐานและการพัฒนาเกษตรกร | E80: =[1]ยุทธศาสตร์!C78 -> 1.2.11 สัดส่วนพื้นที่ที่ได้รับการพัฒนาคุณภาพดิน | F80: =[1]ยุทธศาสตร์!D78 -> 1.2.11.1 จำนวนพื้นที่ที่ได้รับการพัฒนาคุณภาพดิน | G80: =[1]ยุทธศาสตร์!E78 -> ตร.กม./ไร่ | H80: 12000 | I80: 10000 | J80: 13000 | K80: 12000 | L80: 11000 | M80: 11000 | O80: สถานีพัฒนาที่ดินจังหวัด
A81: ยุทธศาสตร์ที่ 1 พัฒนาศักยภาพที่มุ่งเน้นการผลิตสินค้าเกษตรและอาหารปลอดภัย | B81: ผลิตภัณฑ์ที่มีศักยภาพ (Product Champion: PC)) : มันสำปะหลัง | C81: =[1]ยุทธศาสตร์!B79 -> 1.2. ปัจจัยพื้นฐานและการพัฒนาเกษตรกร | E81: =[1]ยุทธศาสตร์!C79 -> 1.2.11 สัดส่วนพื้นที่ที่ได้รับการพัฒนาคุณภาพดิน | F81: =[1]ยุทธศาสตร์!D79 -> 1.2.11.2 พื้นที่เกษตรกรรมทั้งหมดของจังหวัด | G81: =[1]ยุทธศาสตร์!E79 -> ตร.กม./ไร่ | H81: 4341715.6 | I81: 3211271 | J81: 3211271 | K81: 4341716 | L81: 4341716 | O81: สถานีพัฒนาที่ดินจังหวัด
A82: ยุทธศาสตร์ที่ 1 พัฒนาศักยภาพที่มุ่งเน้นการผลิตสินค้าเกษตรและอาหารปลอดภัย | B82: ผลิตภัณฑ์ที่มีศักยภาพ (Product Champion: PC)) : มันสำปะหลัง | C82: =[1]ยุทธศาสตร์!B80 -> 1.2. ปัจจัยพื้นฐานและการพัฒนาเกษตรกร | E82: =[1]ยุทธศาสตร์!C80 -> 1.2.12 ร้อยละที่ลดลงของพื้นที่ดินเค็ม | F82: =[1]ยุทธศาสตร์!D80 -> 1.2.12.1 จำนวนเนื้อที่ดินเค็ม (ตารางกิโลเมตร/ไร่) | G82: =[1]ยุทธศาสตร์!E80 -> ตร.กม./ไร่ | H82: 301275 | I82: 301275 | J82: 301275 | K82: 301275 | L82: 301275 | M82: 301275 | O82: สถานีพัฒนาที่ดินจังหวัด
A83: ยุทธศาสตร์ที่ 1 พัฒนาศักยภาพที่มุ่งเน้นการผลิตสินค้าเกษตรและอาหารปลอดภัย | B83: ผลิตภัณฑ์ที่มีศักยภาพ (Product Champion: PC)) : มันสำปะหลัง | C83: 1.2. ปัจจัยพื้นฐานและการพัฒนาเกษตรกร | E83: 1.2.12 ร้อยละที่ลดลงของพื้นที่ดินเค็ม | F83: 1.2.12.2 จำนวนเนื้อที่ทั้งสิ้นในจังหวัด | G83: ตร.กม./ไร่ | H83: 627409.67 | I83: 627409.67 | J83: 627409.67 | K83: 627409.67 | L83: 627409.67 | M83: 627409.67 | O83: สถานีพัฒนาที่ดินจังหวัด
A84: ยุทธศาสตร์ที่ 1 พัฒนาศักยภาพที่มุ่งเน้นการผลิตสินค้าเกษตรและอาหารปลอดภัย | B84: ผลิตภัณฑ์ที่มีศักยภาพ (Product Champion: PC)) : มันสำปะหลัง | C84: 1.2. ปัจจัยพื้นฐานและการพัฒนาเกษตรกร | E84: 1.2.13 สัดส่วนพื้นที่ที่ได้รับการพัฒนาลดปัญหาดินเค็มต่อพื้นที่เกษตรกรรมทั้งหมดของจังหวัด | F84: 1.2.13.1 พื้นที่ที่ได้รับการพัฒนาลดปัญหาดินเค็ม | G84: ตร.กม./ไร่ | H84: 2500 | I84: 4000 | J84: 4000 | K84: 4000 | L84: 3100 | M84: 3050 | O84: สถานีพัฒนาที่ดินจังหวัด
A85: ยุทธศาสตร์ที่ 1 พัฒนาศักยภาพที่มุ่งเน้นการผลิตสินค้าเกษตรและอาหารปลอดภัย | B85: ผลิตภัณฑ์ที่มีศักยภาพ (Product Champion: PC)) : มันสำปะหลัง | C85: 1.2. ปัจจัยพื้นฐานและการพัฒนาเกษตรกร | E85: 1.2.13 สัดส่วนพื้นที่ที่ได้รับการพัฒนาลดปัญหาดินเค็มต่อพื้นที่เกษตรกรรมทั้งหมดของจังหวัด | F85: 1.2.13.2 พื้นที่เกษตรกรรมทั้งหมดของจังหวัด | G85: ตร.กม./ไร่ | H85: 4341715.6 | I85: 3211271 | J85: 3211271 | K85: 4341716 | L85: 4341716 | O85: เกษตรจังหวัด
A86: ยุทธศาสตร์ที่ 1 พัฒนาศักยภาพที่มุ่งเน้นการผลิตสินค้าเกษตรและอาหารปลอดภัย | B86: ผลิตภัณฑ์ที่มีศักยภาพ (Product Champion: PC)) : มันสำปะหลัง | C86: 1.2. ปัจจัยพื้นฐานและการพัฒนาเกษตรกร | E86: 1.2.14 ร้อยละที่เพิ่มขึ้นของกลุ่มเกษตรกร และจำนวนสมาชิก จำแนกตามประเภทการจัดตั้ง และเขตการปกครอง | F86: 1.2.14.1 จำนวนกลุ่มเกษตรกร และจำนวนสมาชิก จำแนกตามประเภทการจัดตั้ง และเขตการปกครอง | G86: กลุ่ม/ราย | H86: - | I86: 92กลุ่ม/143,069 ราย | J86: 73กลุ่ม/143,711ราย | K86: 68กลุ่ม/143,350ราย | L86: 58กลุ่ม/140,044ราย | O86: เกษตรจังหวัด/สหกรณ์จังหวัด
A87: ยุทธศาสตร์ที่ 1 พัฒนาศักยภาพที่มุ่งเน้นการผลิตสินค้าเกษตรและอาหารปลอดภัย | B87: ผลิตภัณฑ์ที่มีศักยภาพ (Product Champion: PC)) : มันสำปะหลัง | C87: 1.2. ปัจจัยพื้นฐานและการพัฒนาเกษตรกร | E87: 1.2.15 ร้อยละที่เพิ่มขึ้นของเกษตรกรที่ได้รับองค์ความรู้และเพิ่มขีดความสามารถด้านเกษตรกรรม | F87: 1.2.15.1 จำนวนเกษตรกรที่ได้รับองค์ความรู้และเพิ่มขีดความสามารถด้านเกษตรกรรม | G87: ราย | H87: - | O87: เกษตรจังหวัด/โรงงานมัน
A88: ยุทธศาสตร์ที่ 1 พัฒนาศักยภาพที่มุ่งเน้นการผลิตสินค้าเกษตรและอาหารปลอดภัย | B88: ผลิตภัณฑ์ที่มีศักยภาพ (Product Champion: PC)) : มันสำปะหลัง | C88: 1.2. ปัจจัยพื้นฐานและการพัฒนาเกษตรกร | E88: 1.2.16 จำนวนโครงการด้านองค์ความรู้และเพิ่มขีดความสามารถด้านเกษตรกรรม | F88: 1.2.16.1 จำนวนโครงการด้านองค์ความรู้และเพิ่มขีดความสามารถด้านมันสำปะหลัง | G88: โครงการ | H88: - | O88: เกษตรจังหวัด/โรงงานมัน
A89: ยุทธศาสตร์ที่ 1 พัฒนาศักยภาพที่มุ่งเน้นการผลิตสินค้าเกษตรและอาหารปลอดภัย | B89: ผลิตภัณฑ์ที่มีศักยภาพ (Product Champion: PC)) : มันสำปะหลัง | C89: 1.2. ปัจจัยพื้นฐานและการพัฒนาเกษตรกร | E89: 1.2.17 ร้อยละที่เพิ่มขึ้นของจำนวนเกษตรกรที่ได้รับสินเชื่อ/เงินทุนเพื่อช่วยเหลือด้านการเงินให้เกษตรกร | F89: 1.2.17.1 โครงการสินเชื่อ/กองทุนเพื่อช่วยเหลือด้านการเงินให้เกษตรกรที่ปลูกมันสำปะหลัง | G89: โครงการ | H89: 1 | I89: 1 | J89: 1 | K89: 1 | O89: ธกส.
A90: ยุทธศาสตร์ที่ 1 พัฒนาศักยภาพที่มุ่งเน้นการผลิตสินค้าเกษตรและอาหารปลอดภัย | B90: ผลิตภัณฑ์ที่มีศักยภาพ (Product Champion: PC)) : มันสำปะหลัง | C90: 1.2. ปัจจัยพื้นฐานและการพัฒนาเกษตรกร | E90: 1.2.17 ร้อยละที่เพิ่มขึ้นของจำนวนเกษตรกรที่ได้รับสินเชื่อ/เงินทุนเพื่อช่วยเหลือด้านการเงินให้เกษตรกร | F90: 1.2.17.2 จำนวนวงเงินสินเชื่อ/กองทุนเพื่อช่วยเหลือด้านการเงินให้เกษตรกรที่ปลูกมันสำปะหลัง | G90: บาท | H90: 293623188 | I90: 701354424 | J90: 397884132 | K90: 1042964119 | O90: ธกส.
A91: ยุทธศาสตร์ที่ 1 พัฒนาศักยภาพที่มุ่งเน้นการผลิตสินค้าเกษตรและอาหารปลอดภัย | B91: ผลิตภัณฑ์ที่มีศักยภาพ (Product Champion: PC)) : มันสำปะหลัง | C91: 1.3. การเพิ่มผลผลิต พัฒนาคุณภาพ และลดต้นทุน | E91: 1.3.1 ร้อยละที่เพิ่มขึ้นของจำนวนเกษตรกรที่ได้รับการส่งเสริมกระบวนการผลิตตามวิธีการเกษตรดีที่เหมาะสม (GAP) | F91: 1.3.1.1จำนวนเกษตรกรที่ได้รับการส่งเสริมกระบวนการผลิตตามวิธีการเกษตรดีที่เหมาะสม (GAP) | G91: ราย | H91: 18 | I91: 24 | J91: 19 | K91: 19 | O91: เกษตรจังหวัด
A92: ยุทธศาสตร์ที่ 1 พัฒนาศักยภาพที่มุ่งเน้นการผลิตสินค้าเกษตรและอาหารปลอดภัย | B92: ผลิตภัณฑ์ที่มีศักยภาพ (Product Champion: PC)) : มันสำปะหลัง | C92: 1.3. การเพิ่มผลผลิต พัฒนาคุณภาพ และลดต้นทุน | E92: 1.3.1 ร้อยละที่เพิ่มขึ้นของจำนวนเกษตรกรที่ได้รับการส่งเสริมกระบวนการผลิตตามวิธีการเกษตรดีที่เหมาะสม (GAP) | F92: 1.3.1.2 จำนวนเกษตรกรทั้งสิ้นในจังหวัด | G92: ราย | H92: 251975 | I92: 248849 | J92: 220130 | K92: 246453 | L92: 292092 | O92: เกษตรจังหวัด
A93: ยุทธศาสตร์ที่ 1 พัฒนาศักยภาพที่มุ่งเน้นการผลิตสินค้าเกษตรและอาหารปลอดภัย | B93: ผลิตภัณฑ์ที่มีศักยภาพ (Product Champion: PC)) : มันสำปะหลัง | C93: 1.3. การเพิ่มผลผลิต พัฒนาคุณภาพ และลดต้นทุน | E93: 1.3.2 ร้อยละที่เพิ่มขึ้นของจำนวนเกษตรกรที่ที่ใช้สารอินทรีย์ / ลดการใช้สารเคมีทางการเกษตร | F93: 1.3.2.1 จำนวนเกษตรกรที่ที่ใช้สารอินทรีย์ / ลดการใช้สารเคมีทางการเกษตร | G93: ราย | H93: - | O93: เกษตรจังหวัด
A94: ยุทธศาสตร์ที่ 1 พัฒนาศักยภาพที่มุ่งเน้นการผลิตสินค้าเกษตรและอาหารปลอดภัย | B94: ผลิตภัณฑ์ที่มีศักยภาพ (Product Champion: PC)) : มันสำปะหลัง | C94: 1.3. การเพิ่มผลผลิต พัฒนาคุณภาพ และลดต้นทุน | E94: 1.3.3 การคัดเลือกพันธุ์มันสำปะหลังที่เหมาะสมกับฤดูกาลเพาะปลูกและให้ผลผลิตต่อไร่สูง | F94: 1.3.3.1 จำนวนชนิดพันธุ์มันสำปะหลังที่เหมาะสมกับฤดูกาลเพาะปลูกและให้ผลผลิตต่อไร่สูง | G94: ชนิดพันธุ์ | H94: 7 | I94: 7 | J94: 7 | K94: 7 | L94: 7 | O94: ศูนย์วิจัยและพัฒนาการเกษตรกาฬสินธุ์
A95: ยุทธศาสตร์ที่ 1 พัฒนาศักยภาพที่มุ่งเน้นการผลิตสินค้าเกษตรและอาหารปลอดภัย | B95: ผลิตภัณฑ์ที่มีศักยภาพ (Product Champion: PC)) : มันสำปะหลัง | C95: 1.3. การเพิ่มผลผลิต พัฒนาคุณภาพ และลดต้นทุน | E95: 1.3.4. ร้อยละที่เพิ่มขึ้นของผลิตภาพการปลูกมันสำปะหลัง | F95: 1.3.4.1 จำนวนผลผลิตของพืชผลการเกษตร (มันสำปะหลัง) จำแนกตาม อำเภอ ตำบล | G95: ตัน | H95: 761860 | I95: 894612 | J95: 871010 | K95: 880668 | L95: 856325 | O95: เกษตรจังหวัด
A96: ยุทธศาสตร์ที่ 1 พัฒนาศักยภาพที่มุ่งเน้นการผลิตสินค้าเกษตรและอาหารปลอดภัย | B96: ผลิตภัณฑ์ที่มีศักยภาพ (Product Champion: PC)) : มันสำปะหลัง | C96: 1.3. การเพิ่มผลผลิต พัฒนาคุณภาพ และลดต้นทุน | E96: 1.3.4. ร้อยละที่เพิ่มขึ้นของผลิตภาพการปลูกมันสำปะหลัง | F96: 1.3.4.2 จำนวนผลผลิตต่อไร่ของพืชผลการเกษตร (มันสำปะหลัง) จำแนกตาม อำเภอ ตำบล | G96: ตัน/ไร่ | H96: 3.38 | I96: 3.37 | J96: 3.3 | K96: 3.61 | L96: 3.58 | O96: เกษตรจังหวัด
A97: ยุทธศาสตร์ที่ 1 พัฒนาศักยภาพที่มุ่งเน้นการผลิตสินค้าเกษตรและอาหารปลอดภัย | B97: ผลิตภัณฑ์ที่มีศักยภาพ (Product Champion: PC)) : มันสำปะหลัง | C97: 1.4 การแปรรูปและสร้างมูลค่าเพิ่ม | E97: 1.4.1 ร้อยละที่เพิ่มขึ้นของโรงสีชุมชน โรงสีสหกรณ์ โรงงานอ้อย และโรงงานอุตสาหกรรม ที่ได้รับการส่งเสริมและพัฒนาให้มีความพร้อมเข้าสู่มาตรฐาน GMP | F97: 1.4.1.1 จำนวนโรงแป้งมัน ที่ได้รับการส่งเสริมและพัฒนาให้มีความพร้อมเข้าสู่มาตรฐาน GMP | G97: แห่ง | H97: 9 | I97: 9 | J97: 9 | K97: 10 | L97: 10 | O97: อุตสากรรม/สาธรณสุขจังหวัด
A98: ยุทธศาสตร์ที่ 1 พัฒนาศักยภาพที่มุ่งเน้นการผลิตสินค้าเกษตรและอาหารปลอดภัย | B98: ผลิตภัณฑ์ที่มีศักยภาพ (Product Champion: PC)) : มันสำปะหลัง | C98: 1.4 การแปรรูปและสร้างมูลค่าเพิ่ม | E98: 1.4.1 ร้อยละที่เพิ่มขึ้นของโรงสีชุมชน โรงสีสหกรณ์ โรงงานอ้อย และโรงงานอุตสาหกรรม ที่ได้รับการส่งเสริมและพัฒนาให้มีความพร้อมเข้าสู่มาตรฐาน GMP | F98: 1.4.1.2 จำนวนโรงงานมันสำปะหลัง ทั้งสิ้นในจังหวัด | G98: แห่ง | H98: 9 | I98: 9 | J98: 9 | K98: 10 | L98: 10 | O98: อุตสาหกรรมจังหวัด
A99: ยุทธศาสตร์ที่ 1 พัฒนาศักยภาพที่มุ่งเน้นการผลิตสินค้าเกษตรและอาหารปลอดภัย | B99: ผลิตภัณฑ์ที่มีศักยภาพ (Product Champion: PC)) : มันสำปะหลัง | C99: 1.4 การแปรรูปและสร้างมูลค่าเพิ่ม | E99: 1.4.2 ร้อยละที่เพิ่มขึ้นของจำนวนเกษตรกรที่ได้มาตรฐาน GMP/HACCP | F99: 1.4.2.1 จำนวนเกษตรกรที่ได้ที่ได้มาตรฐาน GMP/HACCP | G99: ราย | H99: - | O99: เกษตร/สาธรณสุขจังหวัด
A100: ยุทธศาสตร์ที่ 1 พัฒนาศักยภาพที่มุ่งเน้นการผลิตสินค้าเกษตรและอาหารปลอดภัย | B100: ผลิตภัณฑ์ที่มีศักยภาพ (Product Champion: PC)) : มันสำปะหลัง | C100: 1.4 การแปรรูปและสร้างมูลค่าเพิ่ม | E100: 1.4.2 ร้อยละที่เพิ่มขึ้นของจำนวนเกษตรกรที่ได้มาตรฐาน GMP/HACCP | F100: 1.4.2.2 จำนวนเกษตรกรทั้งสิ้นในจังหวัด | G100: ราย | H100: 251975 | I100: 248849 | J100: 220130 | K100: 246453 | L100: 292092 | O100: เกษตรจังหวัด
A101: ยุทธศาสตร์ที่ 1 พัฒนาศักยภาพที่มุ่งเน้นการผลิตสินค้าเกษตรและอาหารปลอดภัย | B101: ผลิตภัณฑ์ที่มีศักยภาพ (Product Champion: PC)) : มันสำปะหลัง | C101: 1.4 การแปรรูปและสร้างมูลค่าเพิ่ม | E101: 1.4.3 ร้อยละที่เพิ่มขึ้นของโรงสีชุมชน โรงสีสหกรณ์ โรงงานอ้อย และโรงงานอุตสาหกรรม ที่ได้รับการส่งเสริมและพัฒนาให้นำระบบเกษตรวัสดุเหลือใช้ (Zero Waste) มาปฏิบัติ | F101: 1.4.3.1 จำนวนโรงงานมันสำปะหลัง ที่ได้รับการส่งเสริมและพัฒนาให้นำระบบเกษตรวัสดุเหลือใช้ (Zero Waste) มาปฏิบัติ | G101: แห่ง | H101: 9 | I101: 9 | J101: 9 | K101: 10 | L101: 10 | O101: อุตสาหกรรมจังหวัด
A102: ยุทธศาสตร์ที่ 1 พัฒนาศักยภาพที่มุ่งเน้นการผลิตสินค้าเกษตรและอาหารปลอดภัย | B102: ผลิตภัณฑ์ที่มีศักยภาพ (Product Champion: PC)) : มันสำปะหลัง | C102: 1.4 การแปรรูปและสร้างมูลค่าเพิ่ม | E102: 1.4.3 ร้อยละที่เพิ่มขึ้นของโรงสีชุมชน โรงสีสหกรณ์ โรงงานอ้อย และโรงงานอุตสาหกรรม ที่ได้รับการส่งเสริมและพัฒนาให้นำระบบเกษตรวัสดุเหลือใช้ (Zero Waste) มาปฏิบัติ | F102: 1.4.3.2 จำนวนของโรงสีชุมชน โรงสีสหกรณ์ โรงงานมันสำปะหลังและโรงงานอุตสาหกรรม ทั้งสิ้นในจังหวัด | G102: แห่ง | H102: 521 | I102: 548 | J102: 567 | K102: 590 | L102: 603 | O102: อุตสาหกรรมจังหวัด
...

Sheet สรุป
A1: Row Labels | B1: Count of รายการสถิติทางการ
A2: ยุทธศาสตร์ที่ 1 พัฒนาศักยภาพที่มุ่งเน้นการผลิตสินค้าเกษตรและอาหารปลอดภัย | B2: 106
A3: ผลิตภัณฑ์ที่มีศักยภาพ (Product Champion: PC)) : อ้อยโรงงาน | B3: 53
A4: 1.1 การวิจัยและพัฒนา (R&D) | B4: 6
A5: CSF1.1 การวิจัยและพัฒนาพันธุ์อ้อยที่ดีและเหมาะสมกับพื้นที่ | B5: 3
A6: 1.1.1 ชนิดพันธุ์อ้อยคุณภาพดีและทนต่อโรคเหมาะกับพื้นที่ | B6: 1
A7: 1.1.2.พันธุ์อ้อยที่เกษตรกรนิยมปลูก | B7: 1
A8: 1.1.3.จำนวนแหล่งวิจัยและผลิตพันธุ์อ้อยคุณภาพดีและทนต่อโรค | B8: 1
A9: CSF1.2 การจัดทำข้อมูลต้นทุนการผลิต | B9: 1
A10: 1.1.4 โครงการงานวิจัยเพื่อลดต้นทุนการผลิต | B10: 1
A11: CSF1.3 การวิจัยเทคโนโลยีและนวัตกรรมเพื่อเพิ่มผลผลิต | B11: 1
A12: 1.1.5 งานวิจัยเทคโนโลยีและนวัตกรรมเพื่อเพิ่มผลผลิตที่เหมาะสมกับการปลูกอ้อยในพื้นที่ | B12: 1
A13: CSF1.4 การวิเคราะห์ความต้องการของตลาดและแนวโน้มสถานการณ์อ้อย ทั้งในและต่างประเทศ | B13: 1
... A320: Grand Total | B320: 271

Sheet สรุป 1_63
A1: Row Labels | B1: Count of รายการสถิติทางการ | D1: Row Labels | E1: Count of รายการสถิติทางการ
A2: ประเด็นปัญหาสำคัญ (Critical Issue : CI) : กาฬสินธุ์ 3 ดี "คนดี สุขภาพดี รายได้ดี" | B2: 77 | D2: ยุทธศาสตร์ที่ 1 พัฒนาศักยภาพที่มุ่งเน้นการผลิตสินค้าเกษตรและอาหารปลอดภัย | E2: 106
A3: ประเด็นปัญหาสำคัญ (Critical Issue : CI) : ท่องเที่ยวภูไท | B3: 60 | D3: ผลิตภัณฑ์ที่มีศักยภาพ (Product Champion: PC)) : มันสำปะหลัง | E3: 53
A4: ประเด็นปัญหาสำคัญ (Critical Issue : CI) : บริหารจัดการน้ำ | B4: 28 | D4: 1.1. การวิจัยและพัฒนา (R&D) | E4: 6
A5: ผลิตภัณฑ์ที่มีศักยภาพ (Product Champion: PC)) : แพรวาสู่สากล | B5: 37 | D5: (blank) | E5: 6
A6: ผลิตภัณฑ์ที่มีศักยภาพ (Product Champion: PC)) : มันสำปะหลัง | B6: 53 | D6: 1.1.1.ชนิดพันธุ์มันสำปะหลังคุณภาพดีและทนต่อโรคเหมาะกับพื้นที่ | E6: 1
A7: ผลิตภัณฑ์ที่มีศักยภาพ (Product Champion: PC)) : อ้อยโรงงาน | B7: 53 | D7: 1.1.2.พันธุ์มันสำปะหลังที่เกษตรกรนิยมปลูก | E7: 1
A8: Grand Total | B8: 308 | D8: 1.1.3.จำนวนแหล่งวิจัยและผลิตพันธุ์มันสำปะหลังคุณภาพดีและทนต่อโรค | E8: 1
D9: 1.1.4 โครงการงานวิจัยเพื่อลดต้นทุนการผลิต | E9: 1
A10: Row Labels | B10: Count of หน่วยวัด | D10: 1.1.5 งานวิจัยเทคโนโลยีและนวัตกรรมเพื่อเพิ่มผลผลิตที่เหมาะสมกับการปลูกมันสำปะหลังในพื้นที่ | E10: 1
A11: c | B11: 1 | D11: 1.1.6 รายงานการศึกษาความต้องการของตลาดและแนวโน้มสถานการณ์มันสำปะหลัง ทั้งในและต่างประเทศ | E11: 1
A12: ก.ก | B12: 2 | D12: 1.2. ปัจจัยพื้นฐานและการพัฒนาเกษตรกร | E12: 26
A13: กม | B13: 2 | D13: (blank) | E13: 26
A14: กลุ่ม | B14: 1 | D14: 1.2.1 ร้อยละที่เพิ่มขึ้นของจำนวนพื้นที่ที่ได้รับการพัฒนาระบบกักเก็บน้ำและ ระบบชลประทาน | E14: 1
A15: กลุ่ม/ราย | B15: 2 | D15: 1.2.10.จำนวนพื้นที่ ที่คุณภาพดินและลักษณะพื้นที่ มีความเหมาะสมในการเพาะปลูกพืชผลการเกษตร | E15: 1
A16: กิจกรรม | B16: 11 | D16: 1.2.11 สัดส่วนพื้นที่ที่ได้รับการพัฒนาคุณภาพดิน | E16: 2
A17: คดี | B17: 4 | D17: 1.2.12 ร้อยละที่ลดลงของพื้นที่ดินเค็ม | E17: 2
A18: คน | B18: 28 | D18: 1.2.13 สัดส่วนพื้นที่ที่ได้รับการพัฒนาลดปัญหาดินเค็มต่อพื้นที่เกษตรกรรมทั้งหมดของจังหวัด | E18: 2
A19: ครั้ง | B19: 2 | D19: 1.2.14 ร้อยละที่เพิ่มขึ้นของกลุ่มเกษตรกร และจำนวนสมาชิก จำแนกตามประเภทการจัดตั้ง และเขตการปกครอง | E19: 1
A20: ครัวเรือน | B20: 16 | D20: 1.2.15 ร้อยละที่เพิ่มขึ้นของเกษตรกรที่ได้รับองค์ความรู้และเพิ่มขีดความสามารถด้านเกษตรกรรม | E20: 1
A21: คะแนน | B21: 1 | D21: 1.2.16 จำนวนโครงการด้านองค์ความรู้และเพิ่มขีดความสามารถด้านเกษตรกรรม | E21: 1
A22: ค่า DO | B22: 3 | D22: 1.2.17 ร้อยละที่เพิ่มขึ้นของจำนวนเกษตรกรที่ได้รับสินเชื่อ/เงินทุนเพื่อช่วยเหลือด้านการเงินให้เกษตรกร | E22: 2
... A55: อันดับ | B55: 7 | D55: CSF1.1 การวิจัยและพัฒนาพันธุ์อ้อยที่ดีและเหมาะสมกับพื้นที่ | E55: 3
A56: (blank) | D56: 1.1.1 ชนิดพันธุ์อ้อยคุณภาพดีและทนต่อโรคเหมาะกับพื้นที่ | E56: 1
A57: Grand Total | B57: 307 | D57: 1.1.2.พันธุ์อ้อยที่เกษตรกรนิยมปลูก | E57: 1
D58: 1.1.3.จำนวนแหล่งวิจัยและผลิตพันธุ์อ้อยคุณภาพดีและทนต่อโรค | E58: 1
A59: Row Labels | B59: Count of หน่วยงานเจ้าของข้อมูล | D59: CSF1.2 การจัดทำข้อมูลต้นทุนการผลิต | E59: 1
A60: กรมศุลกากร | B60: 3 | D60: 1.1.4 โครงการงานวิจัยเพื่อลดต้นทุนการผลิต | E60: 1
A61: กลุ่มยุทธศาสตร์สำนักงานจังหวัด | B61: 4 | D61: CSF1.3 การวิจัยเทคโนโลยีและนวัตกรรมเพื่อเพิ่มผลผลิต | E61: 1
A62: กลุ่มยุทธศาสตร์สำนักงานจังหวัด/แขวงการทาง/ทางหลวงชนบท | B62: 2 | D62: 1.1.5 งานวิจัยเทคโนโลยีและนวัตกรรมเพื่อเพิ่มผลผลิตที่เหมาะสมกับการปลูกอ้อยในพื้นที่ | E62: 1
A63: เกษตร/สาธรณสุขจังหวัด | B63: 1 | D63: CSF1.4 การวิเคราะห์ความต้องการของตลาดและแนวโน้มสถานการณ์อ้อย ทั้งในและต่างประเทศ | E63: 1
A64: เกษตรจังหวัด | B64: 44 | D64: 1.1.6 รายงานการศึกษาความต้องการของตลาดและแนวโน้มสถานการณ์อ้อย ทั้งในและต่างประเทศ | E64: 1
A65: เกษตรจังหวัด/ขนส่งจังหวัด | B65: 1 | D65: 1.2 ปัจจัยพื้นฐานและการพัฒนาเกษตรกร | E65: 26
A66: เกษตรจังหวัด/โรงงานมัน | B66: 2 | D66: CSF2.1 การบริหารจัดการน้ำเพื่อการเพาะปลูก | E66: 1
A67: เกษตรจังหวัด/โรงงานอ้อย | B67: 2 | D67: 1.2.1 ร้อยละที่เพิ่มขึ้นของจำนวนพื้นที่ที่ได้รับการพัฒนาระบบกักเก็บน้ำและ ระบบชลประทาน | E67: 1
A68: เกษตรจังหวัด/สหกรณ์จังหวัด | B68: 2 | D68: CSF2.2 การบริหารจัดการ การใช้ที่ดิน (Zoning) | E68: 5
A69: เขตพื้นที่การศึกษา 1 /เขต2/เขต3/มัธยมที่24/กศน. | B69: 7 | D69: 1.2.2 เนื้อที่เกษตรกรรมโดยรวมของจังหวัด | E69: 1
A70: เขตพื้นที่การศึกษา 1, 2, 3 และ กศน. | B70: 1 | D70: 1.2.3 สัดส่วนของจำนวนพื้นที่ที่เหมาะกับการเพาะปลูกพืชแต่ละชนิด (ข้าว อ้อย มันสำปะหลัง) | E70: 2
A71: เขตพื้นที่การศึกษา เขต1 | B71: 1 | D71: 1.2.4 จำนวนเกษตรกรที่ขึ้นทะเบียน จำแนกตามการจัดพื้นที่เกษตรของจังหวัด (Zoning) | E71: 2
... A114: Grand Total | B114: 308 | D114: CSF6.1 พัฒนาตลาดกลางและศูนย์จำหน่ายสินค้า | E114: 4
D115: 1.6.1 จำนวนผู้ซื้อ/ผู้ขายในตลาดกลางของสินค้าเกษตร (อ้อย) | E115: 1
D116: 1.6.2 ราคาอ้อยต่อหน่วย จำแนกตามประเภทอ้อย และหลักเกณฑ์ซื้อขายข้าวแต่ละชนิด | E116: 1
D117: 1.6.3 จำนวนตลาดกลางและศูนย์จำหน่ายสินค้าในพื้นที่ | E117: 1
D118: 1.6.4 เครือข่ายความร่วมมือในการส่งเสริมการตลาด ทั้งในประเทศและต่างประเทศ | E118: 1
D119: ยุทธศาสตร์ที่ 2 ยกระดับคุณภาพและรายได้ด้านการท่องเที่ยว และส่งเสริมการค้า การลงทุนและอุตสาหกรรมอาหารปลอดภัย | E119: 97
D120: ประเด็นปัญหาสำคัญ (Critical Issue : CI) : ท่องเที่ยวภูไท | E120: 60
D121: 2.1 วางยุทธศาสตร์ / แผนการท่องเที่ยว | E121: 12
D122: CSF1.1 การวางแผนและกำหนดตำแหน่งเชิงยุทธ-ศาสตร์ สำหรับการท่องเที่ยวเชิงอนุรักษ์และวัฒนธรรม | E122: 3
D123: 2.1.1 ระดับความสำเร็จของการจัดทำแผนยุทธศาสตร์ด้านการท่องเที่ยวของกาฬสินธุ์ | E123: 1
D124: 2.1.2 สัดส่วนของงบประมาณที่ได้รับจัดสรรด้านการท่องเที่ยวต่องบประมาณทั้งหมด | E124: 2
D125: CSF1.2 การกำหนดนักท่องเที่ยวกลุ่มเป้าหมาย | E125: 1
D126: 2.1.3 จำนวนรายงานการวิเคราะห์ นักท่องเที่ยวกลุ่มเป้าหมายและประมาณการจำนวนนักท่องเที่ยวตามกลุ่มเป้าหมาย | E126: 1
... D376: Grand Total | E376: 308
