Workbook

Sheet ข้อมูล  PC_CI
A1: ชุดข้อมูลผลิตภัณฑ์ที่มีศักยภาพ (Product Champion: PC)/ ประเด็นปัญหาสำคัญ (Critical Issue:CI)
A4: ยุทธศาสตร์ | B4: ผลิตภัณฑ์ที่มีศักยภาพ (Product Champion: PC)/ ประเด็นปัญหาสำคัญ (Critical Issue:CI) | C4: ห่วงโซ่คุณค่า (VC) | D4: ปัจจัยแห่งความสำเร็จ (CSF) | E4: ตัวชี้วัด KPI | F4: รายการสถิติทางการ | G4: หน่วยวัด | H4: ข้อมูล | O4: หน่วยงานเจ้าของข้อมูล | P4: หมายเหตุ
H5: 2557 | I5: 2558 | J5: 2559 | K5: 2560 | L5: 2561 | M5: 2562 | N5: 2563
A6: ยุทธศาสตร์ที่ 1 พัฒนาศักยภาพที่มุ่งเน้นการผลิตสินค้าเกษตรและอาหารปลอดภัย | B6: ผลิตภัณฑ์ที่มีศักยภาพ (Product Champion: PC)) : อ้อยโรงงาน | C6: 1.1 การวิจัยและพัฒนา (R&D) | D6: CSF1.1 การวิจัยและพัฒนาพันธุ์อ้อยที่ดีและเหมาะสมกับพื้นที่ | E6: 1.1.1 ชนิดพันธุ์อ้อยคุณภาพดีและทนต่อโรคเหมาะกับพื้นที่ | F6: 1.1.1.1.ชนิดพันธุ์อ้อยคุณภาพดีและทนต่อโรคเหมาะกับพื้นที่ | G6: ชนิดพันธุ์ | H6: 9 | I6: 9 | J6: 9 | K6: 9 | L6: 9 | M6: 9 | O6: ศูนย์วิจัยและพัฒนาการเกษตรกาฬสินธุ์
A7: ยุทธศาสตร์ที่ 1 พัฒนาศักยภาพที่มุ่งเน้นการผลิตสินค้าเกษตรและอาหารปลอดภัย | B7: ผลิตภัณฑ์ที่มีศักยภาพ (Product Champion: PC)) : อ้อยโรงงาน | C7: 1.1 การวิจัยและพัฒนา (R&D) | D7: CSF1.1 การวิจัยและพัฒนาพันธุ์อ้อยที่ดีและเหมาะสมกับพื้นที่ | E7: 1.1.2.พันธุ์อ้อยที่เกษตรกรนิยมปลูก | F7: 1.1.2.1.พันธุ์อ้อยที่เกษตรกรนิยมปลูก | G7: พันธุ์ | H7: 9 | I7: 9 | J7: 9 | K7: 5 | L7: 5 | M7: 5 | O7: ศูนย์วิจัยและพัฒนาการเกษตรกาฬสินธุ์
A8: ยุทธศาสตร์ที่ 1 พัฒนาศักยภาพที่มุ่งเน้นการผลิตสินค้าเกษตรและอาหารปลอดภัย | B8: ผลิตภัณฑ์ที่มีศักยภาพ (Product Champion: PC)) : อ้อยโรงงาน | C8: 1.1 การวิจัยและพัฒนา (R&D) | D8: CSF1.1 การวิจัยและพัฒนาพันธุ์อ้อยที่ดีและเหมาะสมกับพื้นที่ | E8: 1.1.3.จำนวนแหล่งวิจัยและผลิตพันธุ์อ้อยคุณภาพดีและทนต่อโรค | F8: 1.1.3.1.จำนวนแหล่งวิจัยและผลิตพันธุ์อ้อยคุณภาพดีและทนต่อโรค | G8: แหล่ง | H8: 2 | I8: 2 | J8: 3 | K8: 5 | L8: 5 | M8: 5 | O8: ศูนย์วิจัยและพัฒนาการเกษตรกาฬสินธุ์
A9: ยุทธศาสตร์ที่ 1 พัฒนาศักยภาพที่มุ่งเน้นการผลิตสินค้าเกษตรและอาหารปลอดภัย | B9: ผลิตภัณฑ์ที่มีศักยภาพ (Product Champion: PC)) : อ้อยโรงงาน | C9: 1.1 การวิจัยและพัฒนา (R&D) | D9: CSF1.2 การจัดทำข้อมูลต้นทุนการผลิต | E9: 1.1.4 โครงการงานวิจัยเพื่อลดต้นทุนการผลิต | F9: 1.1.4.1 โครงการงานวิจัยเพื่อลดต้นทุนการผลิต | G9: เรื่อง | H9: 3 | I9: 3 | J9: 2 | K9: 1 | L9: 5 | O9: สนง.คณะกรรมการอ้อยและน้ำตาลทราย
A10: ยุทธศาสตร์ที่ 1 พัฒนาศักยภาพที่มุ่งเน้นการผลิตสินค้าเกษตรและอาหารปลอดภัย | B10: ผลิตภัณฑ์ที่มีศักยภาพ (Product Champion: PC)) : อ้อยโรงงาน | C10: 1.1 การวิจัยและพัฒนา (R&D) | D10: CSF1.3 การวิจัยเทคโนโลยีและนวัตกรรมเพื่อเพิ่มผลผลิต | E10: 1.1.5 งานวิจัยเทคโนโลยีและนวัตกรรมเพื่อเพิ่มผลผลิตที่เหมาะสมกับการปลูกอ้อยในพื้นที่ | F10: 1.1.5.1 งานวิจัยเทคโนโลยีและนวัตกรรมเพื่อเพิ่มผลผลิตที่เหมาะสมกับการปลูกอ้อยในพื้นที่ | G10: เรื่อง | H10: 3 | I10: 2 | J10: 1 | K10: 3 | L10: 4 | O10: สนง.คณะกรรมการอ้อยและน้ำตาลทราย
A11: ยุทธศาสตร์ที่ 1 พัฒนาศักยภาพที่มุ่งเน้นการผลิตสินค้าเกษตรและอาหารปลอดภัย | B11: ผลิตภัณฑ์ที่มีศักยภาพ (Product Champion: PC)) : อ้อยโรงงาน | C11: 1.1 การวิจัยและพัฒนา (R&D) | D11: CSF1.4 การวิเคราะห์ความต้องการของตลาดและแนวโน้มสถานการณ์อ้อย ทั้งในและต่างประเทศ | E11: 1.1.6 รายงานการศึกษาความต้องการของตลาดและแนวโน้มสถานการณ์อ้อย ทั้งในและต่างประเทศ | F11: 1.1.6.1 รายงานการศึกษาความต้องการของตลาดและแนวโน้มสถานการณ์อ้อย ทั้งในและต่างประเทศ | G11: เรื่อง | H11: 11 | I11: 5 | J11: 2 | K11: 12 | L11: 6 | O11: สนง.คณะกรรมการอ้อยและน้ำตาลทราย
A12: ยุทธศาสตร์ที่ 1 พัฒนาศักยภาพที่มุ่งเน้นการผลิตสินค้าเกษตรและอาหารปลอดภัย | B12: ผลิตภัณฑ์ที่มีศักยภาพ (Product Champion: PC)) : อ้อยโรงงาน | C12: 1.2 ปัจจัยพื้นฐานและการพัฒนาเกษตรกร | D12: CSF2.1 การบริหารจัดการน้ำเพื่อการเพาะปลูก | E12: 1.2.1 ร้อยละที่เพิ่มขึ้นของจำนวนพื้นที่ที่ได้รับการพัฒนาระบบกักเก็บน้ำและ ระบบชลประทาน | F12: 1.2.1.1พื้นที่เกษตรกรรมภายในเขตชลประทาน | G12: ตร.กม./ไร่ | H12: 422330 | I12: 402025 | J12: 396151 | K12: 520153 | L12: 522353 | O12: โครงการชลประทานจังหวัด
A13: ยุทธศาสตร์ที่ 1 พัฒนาศักยภาพที่มุ่งเน้นการผลิตสินค้าเกษตรและอาหารปลอดภัย | B13: ผลิตภัณฑ์ที่มีศักยภาพ (Product Champion: PC)) : อ้อยโรงงาน | C13: 1.2 ปัจจัยพื้นฐานและการพัฒนาเกษตรกร | D13: CSF2.2 การบริหารจัดการ การใช้ที่ดิน (Zoning) | E13: 1.2.2 เนื้อที่เกษตรกรรมโดยรวมของจังหวัด | F13: 1.2.2.1.เนื้อที่เกษตรกรรมโดยรวมของจังหวัด | G13: ตร.กม./ไร่ | H13: 2833408 | I13: 2833408 | J13: 2833181 | K13: 2833181 | L13: 2833269 | O13: เกษตรจังหวัด
A14: ยุทธศาสตร์ที่ 1 พัฒนาศักยภาพที่มุ่งเน้นการผลิตสินค้าเกษตรและอาหารปลอดภัย | B14: ผลิตภัณฑ์ที่มีศักยภาพ (Product Champion: PC)) : อ้อยโรงงาน | C14: 1.2 ปัจจัยพื้นฐานและการพัฒนาเกษตรกร | D14: CSF2.2 การบริหารจัดการ การใช้ที่ดิน (Zoning) | E14: 1.2.3 สัดส่วนของจำนวนพื้นที่ที่เหมาะกับการเพาะปลูกพืชแต่ละชนิด (ข้าว อ้อย มันสำปะหลัง) | F14: 1.2.3.1จำนวนพื้นที่ที่เหมาะกับการเพาะปลูกพืชแต่ละชนิด (ข้าว อ้อย มันสำปะหลัง) | G14: ตำบล | H14: 116 | I14: 116 | J14: 116 | K14: 116 | L14: 116 | O14: เกษตรจังหวัด
A15: ยุทธศาสตร์ที่ 1 พัฒนาศักยภาพที่มุ่งเน้นการผลิตสินค้าเกษตรและอาหารปลอดภัย | B15: ผลิตภัณฑ์ที่มีศักยภาพ (Product Champion: PC)) : อ้อยโรงงาน | C15: 1.2 ปัจจัยพื้นฐานและการพัฒนาเกษตรกร | D15: CSF2.2 การบริหารจัดการ การใช้ที่ดิน (Zoning) | E15: 1.2.3 สัดส่วนของจำนวนพื้นที่ที่เหมาะกับการเพาะปลูกพืชแต่ละชนิด (ข้าว อ้อย มันสำปะหลัง) | F15: 1.2.3.2 จำนวนเนื้อที่ปลูก อ้อย | G15: ตร.กม./ไร่ | H15: 422330 | I15: 435000 | J15: 412366 | K15: 440091 | L15: 432111 | O15: เกษตรจังหวัด
A16: ยุทธศาสตร์ที่ 1 พัฒนาศักยภาพที่มุ่งเน้นการผลิตสินค้าเกษตรและอาหารปลอดภัย | B16: ผลิตภัณฑ์ที่มีศักยภาพ (Product Champion: PC)) : อ้อยโรงงาน | C16: 1.2 ปัจจัยพื้นฐานและการพัฒนาเกษตรกร | D16: CSF2.2 การบริหารจัดการ การใช้ที่ดิน (Zoning) | E16: 1.2.4 จำนวนเกษตรกรที่ขึ้นทะเบียน จำแนกตามการจัดพื้นที่เกษตรของจังหวัด (Zoning) | F16: 1.2.4.1 จำนวนเกษตรกรที่ขึ้นทะเบียน จำแนกตามการจัดพื้นที่เกษตรของจังหวัด (Zoning) | G16: ราย | H16: 66458 | I16: 59254 | J16: 55879 | K16: 49319 | L16: 43800 | O16: เกษตรจังหวัด
A17: ยุทธศาสตร์ที่ 1 พัฒนาศักยภาพที่มุ่งเน้นการผลิตสินค้าเกษตรและอาหารปลอดภัย | B17: ผลิตภัณฑ์ที่มีศักยภาพ (Product Champion: PC)) : อ้อยโรงงาน | C17: 1.2 ปัจจัยพื้นฐานและการพัฒนาเกษตรกร | D17: CSF2.2 การบริหารจัดการ การใช้ที่ดิน (Zoning) | E17: 1.2.4 จำนวนเกษตรกรที่ขึ้นทะเบียน จำแนกตามการจัดพื้นที่เกษตรของจังหวัด (Zoning) | F17: 1.2.4.2 จำนวนเกษตรกรทั้งสิ้นในจังหวัด | G17: ราย | H17: 251975 | I17: 248849 | J17: 220130 | K17: 246453 | L17: 292092 | O17: เกษตรจังหวัด
A18: ยุทธศาสตร์ที่ 1 พัฒนาศักยภาพที่มุ่งเน้นการผลิตสินค้าเกษตรและอาหารปลอดภัย | B18: ผลิตภัณฑ์ที่มีศักยภาพ (Product Champion: PC)) : อ้อยโรงงาน | C18: 1.2 ปัจจัยพื้นฐานและการพัฒนาเกษตรกร | D18: CSF2.3 การจัดหาและกระจายพันธุ์อ้อยที่ดีให้เกษตรกร | E18: 1.2.5 ร้อยละที่เพิ่มขึ้นของเกษตรกรที่ได้รับการสนับสนุนเมล็ดพันธุ์ที่ดี | F18: 1.2.5.1 จำนวนเกษตรกรที่ได้รับการสนับสนุนพันธุ์ที่ดี | G18: ราย | H18: 0 | I18: 0 | J18: 0 | K18: 0 | L18: 0 | M18: - | O18: เกษตรจังหวัด
A19: ยุทธศาสตร์ที่ 1 พัฒนาศักยภาพที่มุ่งเน้นการผลิตสินค้าเกษตรและอาหารปลอดภัย | B19: ผลิตภัณฑ์ที่มีศักยภาพ (Product Champion: PC)) : อ้อยโรงงาน | C19: 1.2 ปัจจัยพื้นฐานและการพัฒนาเกษตรกร | D19: CSF2.3 การจัดหาและกระจายพันธุ์อ้อยที่ดีให้เกษตรกร | E19: 1.2.5 ร้อยละที่เพิ่มขึ้นของเกษตรกรที่ได้รับการสนับสนุนเมล็ดพันธุ์ที่ดี | F19: 1.2.5.2 .จำนวนเกษตรกรที่ปลูกอ้อยทั้งสิ้นในจังหวัด | G19: ราย | H19: 29004 | I19: 31640 | J19: 28566 | K19: 26992 | L19: 19443 | O19: เกษตรจังหวัด
A20: ยุทธศาสตร์ที่ 1 พัฒนาศักยภาพที่มุ่งเน้นการผลิตสินค้าเกษตรและอาหารปลอดภัย | B20: ผลิตภัณฑ์ที่มีศักยภาพ (Product Champion: PC)) : อ้อยโรงงาน | C20: 1.2 ปัจจัยพื้นฐานและการพัฒนาเกษตรกร | D20: CSF2.3 การจัดหาและกระจายพันธุ์อ้อยที่ดีให้เกษตรกร | E20: 1.2.6 ร้อยละที่เพิ่มขึ้นของจำนวนพื้นที่ปลูกอ้อยที่ได้รับการสนับสนุนเมล็ดพันธ์ที่ดี | F20: 1.2.6.1 จำนวนพื้นที่ปลูกอ้อยที่ได้รับการสนับสนุนเมล็ดพันธ์ที่ดี | G20: ตร.กม./ไร่ | H20: 0 | O20: เกษตรจังหวัด
A21: ยุทธศาสตร์ที่ 1 พัฒนาศักยภาพที่มุ่งเน้นการผลิตสินค้าเกษตรและอาหารปลอดภัย | B21: ผลิตภัณฑ์ที่มีศักยภาพ (Product Champion: PC)) : อ้อยโรงงาน | C21: 1.2 ปัจจัยพื้นฐานและการพัฒนาเกษตรกร | D21: CSF2.3 การจัดหาและกระจายพันธุ์อ้อยที่ดีให้เกษตรกร | E21: 1.2.6 ร้อยละที่เพิ่มขึ้นของจำนวนพื้นที่ปลูกอ้อยที่ได้รับการสนับสนุนเมล็ดพันธ์ที่ดี | F21: 1.2.6.2 จำนวนเนื้อที่ปลูกอ้อยทั้งสิ้นในจังหวัด | G21: ตร.กม./ไร่ | H21: 422330 | I21: 435000 | J21: 412366 | K21: 440091 | L21: 432111 | O21: เกษตรจังหวัด
A22: ยุทธศาสตร์ที่ 1 พัฒนาศักยภาพที่มุ่งเน้นการผลิตสินค้าเกษตรและอาหารปลอดภัย | B22: ผลิตภัณฑ์ที่มีศักยภาพ (Product Champion: PC)) : อ้อยโรงงาน | C22: 1.2 ปัจจัยพื้นฐานและการพัฒนาเกษตรกร | D22: CSF2.3 การจัดหาและกระจายพันธุ์อ้อยที่ดีให้เกษตรกร | E22: 1.2.7.จำนวนร้านค้า/สถานประกอบการที่จำหน่ายพันธุ์อ้อย | F22: 1.2.7.1 จำนวนร้านค้า/สถานประกอบการที่จำหน่ายพันธุ์อ้อย | G22: แห่ง | H22: 1 | I22: 1 | J22: 1 | K22: 1 | L22: 1 | O22: เกษตรจังหวัด
A23: ยุทธศาสตร์ที่ 1 พัฒนาศักยภาพที่มุ่งเน้นการผลิตสินค้าเกษตรและอาหารปลอดภัย | B23: ผลิตภัณฑ์ที่มีศักยภาพ (Product Champion: PC)) : อ้อยโรงงาน | C23: 1.2 ปัจจัยพื้นฐานและการพัฒนาเกษตรกร | D23: CSF2.4 การเตรียมพื้นที่เพาะปลูก และปรับปรุงคุณภาพดิน | E23: 1.2.8.ร้อยละที่เพิ่มขึ้นของจำนวนพื้นที่ที่มีความเหมาะสมในการเพาะปลูก | F23: 1.2.8.1จำนวนพื้นที่ที่มีความเหมาะสมในการเพาะปลูก | G23: ตร.กม./ไร่ | H23: 4341715.6 | I23: 2832413 | J23: 2833181 | K23: 2833181 | L23: 2833269 | O23: เกษตรจังหวัด
A24: ยุทธศาสตร์ที่ 1 พัฒนาศักยภาพที่มุ่งเน้นการผลิตสินค้าเกษตรและอาหารปลอดภัย | B24: ผลิตภัณฑ์ที่มีศักยภาพ (Product Champion: PC)) : อ้อยโรงงาน | C24: 1.2 ปัจจัยพื้นฐานและการพัฒนาเกษตรกร | D24: CSF2.4 การเตรียมพื้นที่เพาะปลูก และปรับปรุงคุณภาพดิน | E24: 1.2.8.ร้อยละที่เพิ่มขึ้นของจำนวนพื้นที่ที่มีความเหมาะสมในการเพาะปลูก | F24: 1.2.8.2 .จำนวนเนื้อที่ทั้งสิ้นในจังหวัด | G24: ตร.กม./ไร่ | H24: 627409.67 | I24: 627409.67 | J24: 627409.67 | K24: 627409.67 | L24: 627409.67 | M24: 627409.67 | O24: เกษตรจังหวัด
A25: ยุทธศาสตร์ที่ 1 พัฒนาศักยภาพที่มุ่งเน้นการผลิตสินค้าเกษตรและอาหารปลอดภัย | B25: ผลิตภัณฑ์ที่มีศักยภาพ (Product Champion: PC)) : อ้อยโรงงาน | C25: 1.2 ปัจจัยพื้นฐานและการพัฒนาเกษตรกร | D25: CSF2.4 การเตรียมพื้นที่เพาะปลูก และปรับปรุงคุณภาพดิน | E25: 1.2.9 ร้อยละที่เพิ่มขึ้นของพื้นที่ที่ได้รับการปรับปรุงคุณภาพดิน | F25: 1.2.9.1 พื้นที่ที่ได้รับการปรับปรุงคุณภาพดิน | G25: ตร.กม./ไร่ | H25: 12000 | I25: 10000 | J25: 13000 | K25: 12000 | L25: 11000 | M25: 11000 | O25: สถานีพัฒนาที่ดินจังหวัด
A26: ยุทธศาสตร์ที่ 1 พัฒนาศักยภาพที่มุ่งเน้นการผลิตสินค้าเกษตรและอาหารปลอดภัย | B26: ผลิตภัณฑ์ที่มีศักยภาพ (Product Champion: PC)) : อ้อยโรงงาน | C26: 1.2 ปัจจัยพื้นฐานและการพัฒนาเกษตรกร | D26: CSF2.4 การเตรียมพื้นที่เพาะปลูก และปรับปรุงคุณภาพดิน | E26: 1.2.10 .จำนวนพื้นที่ ที่คุณภาพดินและลักษณะพื้นที่ มีความเหมาะสมในการเพาะปลูกพืชผลการเกษตร | F26: 1.2.10.1 จำนวนพื้นที่ ที่คุณภาพดินและลักษณะพื้นที่ มีความเหมาะสมในการเพาะปลูกพืชผลการเกษตร | G26: ตร.กม./ไร่ | H26: 701171 | I26: 274013 | J26: 274013 | K26: 274013 | L26: 274013 | M26: 274037 | O26: สถานีพัฒนาที่ดินจังหวัด
A27: ยุทธศาสตร์ที่ 1 พัฒนาศักยภาพที่มุ่งเน้นการผลิตสินค้าเกษตรและอาหารปลอดภัย | B27: ผลิตภัณฑ์ที่มีศักยภาพ (Product Champion: PC)) : อ้อยโรงงาน | C27: 1.2 ปัจจัยพื้นฐานและการพัฒนาเกษตรกร | D27: CSF2.4 การเตรียมพื้นที่เพาะปลูก และปรับปรุงคุณภาพดิน | E27: 1.2.11.สัดส่วนพื้นที่ที่ได้รับการพัฒนาคุณภาพดิน | F27: 1.2.11.1 จำนวนพื้นที่ที่ได้รับการพัฒนาคุณภาพดิน | G27: ตร.กม./ไร่ | H27: 12000 | I27: 10000 | J27: 13000 | K27: 12000 | L27: 11000 | M27: 11000 | O27: สถานีพัฒนาที่ดินจังหวัด
A28: ยุทธศาสตร์ที่ 1 พัฒนาศักยภาพที่มุ่งเน้นการผลิตสินค้าเกษตรและอาหารปลอดภัย | B28: ผลิตภัณฑ์ที่มีศักยภาพ (Product Champion: PC)) : อ้อยโรงงาน | C28: 1.2 ปัจจัยพื้นฐานและการพัฒนาเกษตรกร | D28: CSF2.4 การเตรียมพื้นที่เพาะปลูก และปรับปรุงคุณภาพดิน | E28: 1.2.11.สัดส่วนพื้นที่ที่ได้รับการพัฒนาคุณภาพดิน | F28: 1.2.11.2 เนื้อที่เกษตรกรรมทั้งหมดของจังหวัด | G28: ตร.กม./ไร่ | H28: 4341715.6 | I28: 2832413 | J28: 2833181 | K28: 2833181 | L28: 2833269 | O28: เกษตรจังหวัด
A29: ยุทธศาสตร์ที่ 1 พัฒนาศักยภาพที่มุ่งเน้นการผลิตสินค้าเกษตรและอาหารปลอดภัย | B29: ผลิตภัณฑ์ที่มีศักยภาพ (Product Champion: PC)) : อ้อยโรงงาน | C29: 1.2 ปัจจัยพื้นฐานและการพัฒนาเกษตรกร | D29: CSF2.4 การเตรียมพื้นที่เพาะปลูก และปรับปรุงคุณภาพดิน | E29: 1.2.12 ร้อยละที่ลดลงของพื้นที่ดินเค็ม | F29: 1.2.12.1 จำนวนเนื้อที่ดินเค็ม (ตารางกิโลเมตร/ไร่) | G29: ตร.กม./ไร่ | H29: 301275 | I29: 301275 | J29: 301275 | K29: 301275 | L29: 301275 | M29: 301275 | O29: สถานีพัฒนาที่ดินจังหวัด
A30: ยุทธศาสตร์ที่ 1 พัฒนาศักยภาพที่มุ่งเน้นการผลิตสินค้าเกษตรและอาหารปลอดภัย | B30: ผลิตภัณฑ์ที่มีศักยภาพ (Product Champion: PC)) : อ้อยโรงงาน | C30: 1.2 ปัจจัยพื้นฐานและการพัฒนาเกษตรกร | D30: CSF2.4 การเตรียมพื้นที่เพาะปลูก และปรับปรุงคุณภาพดิน | E30: 1.2.12 ร้อยละที่ลดลงของพื้นที่ดินเค็ม | F30: 1.2.12.2 จำนวนเนื้อที่ทั้งสิ้นในจังหวัด | G30: ตร.กม./ไร่ | H30: 627409.67 | I30: 627409.67 | J30: 627409.67 | K30: 627409.67 | L30: 627409.67 | M30: 627409.67 | O30: สถานีพัฒนาที่ดินจังหวัด
A31: ยุทธศาสตร์ที่ 1 พัฒนาศักยภาพที่มุ่งเน้นการผลิตสินค้าเกษตรและอาหารปลอดภัย | B31: ผลิตภัณฑ์ที่มีศักยภาพ (Product Champion: PC)) : อ้อยโรงงาน | C31: 1.2 ปัจจัยพื้นฐานและการพัฒนาเกษตรกร | D31: CSF2.4 การเตรียมพื้นที่เพาะปลูก และปรับปรุงคุณภาพดิน | E31: 1.2.13สัดส่วนพื้นที่ที่ได้รับการพัฒนาลดปัญหาดินเค็มต่อพื้นที่เกษตรกรรมทั้งหมดของจังหวัด | F31: 1.2.13.1 พื้นที่ที่ได้รับการพัฒนาลดปัญหาดินเค็ม | G31: ตร.กม./ไร่ | H31: 2500 | I31: 4000 | J31: 4000 | K31: 4000 | L31: 3100 | M31: 3050 | O31: สถานีพัฒนาที่ดินจังหวัด
A32: ยุทธศาสตร์ที่ 1 พัฒนาศักยภาพที่มุ่งเน้นการผลิตสินค้าเกษตรและอาหารปลอดภัย | B32: ผลิตภัณฑ์ที่มีศักยภาพ (Product Champion: PC)) : อ้อยโรงงาน | C32: 1.2 ปัจจัยพื้นฐานและการพัฒนาเกษตรกร | D32: CSF2.4 การเตรียมพื้นที่เพาะปลูก และปรับปรุงคุณภาพดิน | E32: 1.2.13สัดส่วนพื้นที่ที่ได้รับการพัฒนาลดปัญหาดินเค็มต่อพื้นที่เกษตรกรรมทั้งหมดของจังหวัด | F32: 1.2.13.2 พื้นที่เกษตรกรรมทั้งหมดของจังหวัด | G32: ตร.กม./ไร่ | H32: 2833408 | I32: 2832413 | J32: 2833181 | K32: 2833181 | L32: 2833269 | O32: เกษตรจังหวัด
A33: ยุทธศาสตร์ที่ 1 พัฒนาศักยภาพที่มุ่งเน้นการผลิตสินค้าเกษตรและอาหารปลอดภัย | B33: ผลิตภัณฑ์ที่มีศักยภาพ (Product Champion: PC)) : อ้อยโรงงาน | C33: 1.2 ปัจจัยพื้นฐานและการพัฒนาเกษตรกร | D33: CSF2.5 การรวมกลุ่มเกษตรกรและสร้างเครือข่าย | E33: 1.2.14 ร้อยละที่เพิ่มขึ้นของกลุ่มเกษตรกร และจำนวนสมาชิก จำแนกตามประเภทการจัดตั้ง และเขตการปกครอง | F33: 1.2.14.1 จำนวนกลุ่มเกษตรกร และจำนวนสมาชิก จำแนกตามประเภทการจัดตั้ง และเขตการปกครอง | G33: กลุ่ม/ราย | I33: 92กลุ่ม/143,069 ราย | J33: 73กลุ่ม/143,711ราย | K33: 68กลุ่ม/143,350ราย | L33: 58กลุ่ม/140,044ราย | O33: เกษตรจังหวัด/สหกรณ์จังหวัด
A34: ยุทธศาสตร์ที่ 1 พัฒนาศักยภาพที่มุ่งเน้นการผลิตสินค้าเกษตรและอาหารปลอดภัย | B34: ผลิตภัณฑ์ที่มีศักยภาพ (Product Champion: PC)) : อ้อยโรงงาน | C34: 1.2 ปัจจัยพื้นฐานและการพัฒนาเกษตรกร | D34: CSF2.6 การสร้างองค์ความรู้และขีดความสามารถให้เกษตรกร | E34: 1.2.15 .ร้อยละที่เพิ่มขึ้นของเกษตรกรที่ได้รับองค์ความรู้และเพิ่มขีดความสามารถด้านเกษตรกรรม | F34: 1.2.15.1 จำนวนเกษตรกรที่ได้รับองค์ความรู้และเพิ่มขีดความสามารถด้านเกษตรกรรม | G34: ราย | I34: 400 | O34: เกษตรจังหวัด/โรงงานอ้อย
A35: ยุทธศาสตร์ที่ 1 พัฒนาศักยภาพที่มุ่งเน้นการผลิตสินค้าเกษตรและอาหารปลอดภัย | B35: ผลิตภัณฑ์ที่มีศักยภาพ (Product Champion: PC)) : อ้อยโรงงาน | C35: 1.2 ปัจจัยพื้นฐานและการพัฒนาเกษตรกร | D35: CSF2.6 การสร้างองค์ความรู้และขีดความสามารถให้เกษตรกร | E35: 1.2.16 จำนวนโครงการด้านองค์ความรู้และเพิ่มขีดความสามารถด้านเกษตรกรรม | F35: 1.2.16.1 จำนวนโครงการด้านองค์ความรู้และเพิ่มขีดความสามารถด้านเกษตรกรรม | G35: โครงการ | I35: 1 | O35: เกษตรจังหวัด/โรงงานอ้อย
A36: ยุทธศาสตร์ที่ 1 พัฒนาศักยภาพที่มุ่งเน้นการผลิตสินค้าเกษตรและอาหารปลอดภัย | B36: ผลิตภัณฑ์ที่มีศักยภาพ (Product Champion: PC)) : อ้อยโรงงาน | C36: 1.2 ปัจจัยพื้นฐานและการพัฒนาเกษตรกร | D36: CSF2.7 มีเครือข่ายสถาบันการเงิน/กองทุนเพื่อช่วยเหลือด้านการเงินให้เกษตรกร | E36: 1.2.17 .ร้อยละที่เพิ่มขึ้นของจำนวนเกษตรกรที่ได้รับสินเชื่อ/เงินทุนเพื่อช่วยเหลือด้านการเงินให้เกษตรกร | F36: 1.2.17.1 .โครงการสินเชื่อ/กองทุนเพื่อช่วยเหลือด้านการเงินให้เกษตรกร | G36: โครงการ | H36: 1 | I36: 1 | J36: 1 | K36: 1 | L36: 1 | M36: 1 | O36: ธกส.
A37: ยุทธศาสตร์ที่ 1 พัฒนาศักยภาพที่มุ่งเน้นการผลิตสินค้าเกษตรและอาหารปลอดภัย | B37: ผลิตภัณฑ์ที่มีศักยภาพ (Product Champion: PC)) : อ้อยโรงงาน | C37: 1.2 ปัจจัยพื้นฐานและการพัฒนาเกษตรกร | D37: CSF2.7 มีเครือข่ายสถาบันการเงิน/กองทุนเพื่อช่วยเหลือด้านการเงินให้เกษตรกร | E37: 1.2.17 .ร้อยละที่เพิ่มขึ้นของจำนวนเกษตรกรที่ได้รับสินเชื่อ/เงินทุนเพื่อช่วยเหลือด้านการเงินให้เกษตรกร | F37: 1.2.17.2 จำนวนวงเงินสินเชื่อ/กองทุนเพื่อช่วยเหลือด้านการเงินให้เกษตรกร | G37: บาท | H37: 2137680054 | I37: 2634491217 | J37: 1435095420 | K37: 4219272673 | L37: 4591552279 | M37: 5193418864 | O37: ธกส.
A38: ยุทธศาสตร์ที่ 1 พัฒนาศักยภาพที่มุ่งเน้นการผลิตสินค้าเกษตรและอาหารปลอดภัย | B38: ผลิตภัณฑ์ที่มีศักยภาพ (Product Champion: PC)) : อ้อยโรงงาน | C38: 1.3 การเพิ่มผลผลิต พัฒนาคุณภาพ และลดต้นทุน | D38: CSF3.1 ส่งเสริมระบบการผลิตที่ดีและเหมาะสม (GAP) | E38: 1.3.1 ร้อยละที่เพิ่มขึ้นของจำนวนเกษตรกรที่ได้รับการส่งเสริมกระบวนการผลิตตามวิธีการเกษตรดีที่เหมาะสม (GAP) | F38: 1.3.1.1.จำนวนเกษตรกรที่ได้รับการส่งเสริมกระบวนการผลิตตามวิธีการเกษตรดีที่เหมาะสม (GAP) | G38: ราย | H38: - | I38: 400 | O38: เกษตรจังหวัด
A39: ยุทธศาสตร์ที่ 1 พัฒนาศักยภาพที่มุ่งเน้นการผลิตสินค้าเกษตรและอาหารปลอดภัย | B39: ผลิตภัณฑ์ที่มีศักยภาพ (Product Champion: PC)) : อ้อยโรงงาน | C39: 1.3 การเพิ่มผลผลิต พัฒนาคุณภาพ และลดต้นทุน | D39: CSF3.1 ส่งเสริมระบบการผลิตที่ดีและเหมาะสม (GAP) | E39: 1.3.1 ร้อยละที่เพิ่มขึ้นของจำนวนเกษตรกรที่ได้รับการส่งเสริมกระบวนการผลิตตามวิธีการเกษตรดีที่เหมาะสม (GAP) | F39: 1.3.1.2 จำนวนเกษตรกรทั้งสิ้นในจังหวัด | G39: ราย | H39: 251975 | I39: 248849 | J39: 220130 | K39: 246453 | L39: 292092 | O39: เกษตรจังหวัด
A40: ยุทธศาสตร์ที่ 1 พัฒนาศักยภาพที่มุ่งเน้นการผลิตสินค้าเกษตรและอาหารปลอดภัย | B40: ผลิตภัณฑ์ที่มีศักยภาพ (Product Champion: PC)) : อ้อยโรงงาน | C40: 1.3 การเพิ่มผลผลิต พัฒนาคุณภาพ และลดต้นทุน | D40: CSF3.2 การใส่ปุ๋ย การใช้สารเคมี และการกำจัดศัตรูพืช | E40: 1.3.2.ร้อยละที่เพิ่มขึ้นของจำนวนเกษตรกรที่ที่ใช้สารอินทรีย์ / ลดการใช้สารเคมีทางการเกษตร | F40: 1.3.2.1 จำนวนเกษตรกรที่ที่ใช้สารอินทรีย์ / ลดการใช้สารเคมีทางการเกษตร | G40: ราย | H40: - | I40: 400 | O40: เกษตรจังหวัด
A41: ยุทธศาสตร์ที่ 1 พัฒนาศักยภาพที่มุ่งเน้นการผลิตสินค้าเกษตรและอาหารปลอดภัย | B41: ผลิตภัณฑ์ที่มีศักยภาพ (Product Champion: PC)) : อ้อยโรงงาน | C41: 1.3 การเพิ่มผลผลิต พัฒนาคุณภาพ และลดต้นทุน | D41: CSF3.3 เกษตรกรมีแผนการผลิตและแผนการเก็บเกี่ยวที่เหมาะสม (Crop Planning) | E41: 1.3.3การคัดเลือกพันธุ์อ้อยที่เหมาะสมกับฤดูกาลเพาะปลูกและให้ผลผลิตต่อไร่สูง | F41: 1.3.3.1 จำนวนชนิดพันธุ์อ้อยที่เหมาะสมกับฤดูกาลเพาะปลูกและให้ผลผลิตต่อไร่สูง | G41: ชนิดพันธุ์ | H41: 9 | I41: 9 | J41: 9 | K41: 5 | L41: 5 | O41: ศูนย์วิจัยและพัฒนาการเกษตรกาฬสินธุ์
A42: ยุทธศาสตร์ที่ 1 พัฒนาศักยภาพที่มุ่งเน้นการผลิตสินค้าเกษตรและอาหารปลอดภัย | B42: ผลิตภัณฑ์ที่มีศักยภาพ (Product Champion: PC)) : อ้อยโรงงาน | C42: 1.3 การเพิ่มผลผลิต พัฒนาคุณภาพ และลดต้นทุน | D42: CSF3.4 การเพิ่มผลิตภาพการปลูกอ้อย | E42: 1.3.4.ร้อยละที่เพิ่มขึ้นของผลิตภาพการปลูกอ้อย | F42: 1.3.4.1 .จำนวนผลผลิตของพืชผลการเกษตร (อ้อย) จำแนกตาม อำเภอ ตำบล | G42: ตัน | H42: 3708766 | I42: 4158440 | J42: 4115022 | K42: 4147590 | L42: 4936871 | O42: เกษตรจังหวัด
...

Sheet สรุป
A1: Row Labels | B1: Count of รายการสถิติทางการ
A2: ยุทธศาสตร์ที่ 1 พัฒนาศักยภาพที่มุ่งเน้นการผลิตสินค้าเกษตรและอาหารปลอดภัย | B2: 106
A3: ผลิตภัณฑ์ที่มีศักยภาพ (Product Champion: PC)) : อ้อยโรงงาน | B3: 53
A4: 1.1 การวิจัยและพัฒนา (R&D) | B4: 6
A5: CSF1.1 การวิจัยและพัฒนาพันธุ์อ้อยที่ดีและเหมาะสมกับพื้นที่ | B5: 3
A6: 1.1.1 ชนิดพันธุ์อ้อยคุณภาพดีและทนต่อโรคเหมาะกับพื้นที่ | B6: 1
A7: 1.1.2.พันธุ์อ้อยที่เกษตรกรนิยมปลูก | B7: 1
A8: 1.1.3.จำนวนแหล่งวิจัยและผลิตพันธุ์อ้อยคุณภาพดีและทนต่อโรค | B8: 1
A9: CSF1.2 การจัดทำข้อมูลต้นทุนการผลิต | B9: 1
A10: 1.1.4 โครงการงานวิจัยเพื่อลดต้นทุนการผลิต | B10: 1
A11: CSF1.3 การวิจัยเทคโนโลยีและนวัตกรรมเพื่อเพิ่มผลผลิต | B11: 1
A12: 1.1.5 งานวิจัยเทคโนโลยีและนวัตกรรมเพื่อเพิ่มผลผลิตที่เหมาะสมกับการปลูกอ้อยในพื้นที่ | B12: 1
A13: CSF1.4 การวิเคราะห์ความต้องการของตลาดและแนวโน้มสถานการณ์อ้อย ทั้งในและต่างประเทศ | B13: 1
... A320: Grand Total | B320: 271

Sheet สรุป 1_63
A1: Row Labels | B1: Count of รายการสถิติทางการ | D1: Row Labels | E1: Count of รายการสถิติทางการ
A2: ประเด็นปัญหาสำคัญ (Critical Issue : CI) : กาฬสินธุ์ 3 ดี "คนดี สุขภาพดี รายได้ดี" | B2: 77 | D2: ยุทธศาสตร์ที่ 1 พัฒนาศักยภาพที่มุ่งเน้นการผลิตสินค้าเกษตรและอาหารปลอดภัย | E2: 106
A3: ประเด็นปัญหาสำคัญ (Critical Issue : CI) : ท่องเที่ยวภูไท | B3: 60 | D3: ผลิตภัณฑ์ที่มีศักยภาพ (Product Champion: PC)) : มันสำปะหลัง | E3: 53
A4: ประเด็นปัญหาสำคัญ (Critical Issue : CI) : บริหารจัดการน้ำ | B4: 28 | D4: 1.1. การวิจัยและพัฒนา (R&D) | E4: 6
A5: ผลิตภัณฑ์ที่มีศักยภาพ (Product Champion: PC)) : แพรวาสู่สากล | B5: 37 | D5: (blank) | E5: 6
A6: ผลิตภัณฑ์ที่มีศักยภาพ (Product Champion: PC)) : มันสำปะหลัง | B6: 53 | D6: 1.1.1.ชนิดพันธุ์มันสำปะหลังคุณภาพดีและทนต่อโรคเหมาะกับพื้นที่ | E6: 1
A7: ผลิตภัณฑ์ที่มีศักยภาพ (Product Champion: PC)) : อ้อยโรงงาน | B7: 53 | D7: 1.1.2.พันธุ์มันสำปะหลังที่เกษตรกรนิยมปลูก | E7: 1
A8: Grand Total | B8: 308 | D8: 1.1.3.จำนวนแหล่งวิจัยและผลิตพันธุ์มันสำปะหลังคุณภาพดีและทนต่อโรค | E8: 1
D9: 1.1.4 โครงการงานวิจัยเพื่อลดต้นทุนการผลิต | E9: 1
A10: Row Labels | B10: Count of หน่วยวัด | D10: 1.1.5 งานวิจัยเทคโนโลยีและนวัตกรรมเพื่อเพิ่มผลผลิตที่เหมาะสมกับการปลูกมันสำปะหลังในพื้นที่ | E10: 1
A11: c | B11: 1 | D11: 1.1.6 รายงานการศึกษาความต้องการของตลาดและแนวโน้มสถานการณ์มันสำปะหลัง ทั้งในและต่างประเทศ | E11: 1
A12: ก.ก | B12: 2 | D12: 1.2. ปัจจัยพื้นฐานและการพัฒนาเกษตรกร | E12: 26
A13: กม | B13: 2 | D13: (blank) | E13: 26
A14: กลุ่ม | B14: 1 | D14: 1.2.1 ร้อยละที่เพิ่มขึ้นของจำนวนพื้นที่ที่ได้รับการพัฒนาระบบกักเก็บน้ำและ ระบบชลประทาน | E14: 1
A15: กลุ่ม/ราย | B15: 2 | D15: 1.2.10.จำนวนพื้นที่ ที่คุณภาพดินและลักษณะพื้นที่ มีความเหมาะสมในการเพาะปลูกพืชผลการเกษตร | E15: 1
A16: กิจกรรม | B16: 11 | D16: 1.2.11 สัดส่วนพื้นที่ที่ได้รับการพัฒนาคุณภาพดิน | E16: 2
A17: คดี | B17: 4 | D17: 1.2.12 ร้อยละที่ลดลงของพื้นที่ดินเค็ม | E17: 2
A18: คน | B18: 28 | D18: 1.2.13 สัดส่วนพื้นที่ที่ได้รับการพัฒนาลดปัญหาดินเค็มต่อพื้นที่เกษตรกรรมทั้งหมดของจังหวัด | E18: 2
A19: ครั้ง | B19: 2 | D19: 1.2.14 ร้อยละที่เพิ่มขึ้นของกลุ่มเกษตรกร และจำนวนสมาชิก จำแนกตามประเภทการจัดตั้ง และเขตการปกครอง | E19: 1
A20: ครัวเรือน | B20: 16 | D20: 1.2.15 ร้อยละที่เพิ่มขึ้นของเกษตรกรที่ได้รับองค์ความรู้และเพิ่มขีดความสามารถด้านเกษตรกรรม | E20: 1
A21: คะแนน | B21: 1 | D21: 1.2.16 จำนวนโครงการด้านองค์ความรู้และเพิ่มขีดความสามารถด้านเกษตรกรรม | E21: 1
A22: ค่า DO | B22: 3 | D22: 1.2.17 ร้อยละที่เพิ่มขึ้นของจำนวนเกษตรกรที่ได้รับสินเชื่อ/เงินทุนเพื่อช่วยเหลือด้านการเงินให้เกษตรกร | E22: 2
... A55: อันดับ | B55: 7 | D55: CSF1.1 การวิจัยและพัฒนาพันธุ์อ้อยที่ดีและเหมาะสมกับพื้นที่ | E55: 3
A56: (blank) | D56: 1.1.1 ชนิดพันธุ์อ้อยคุณภาพดีและทนต่อโรคเหมาะกับพื้นที่ | E56: 1
A57: Grand Total | B57: 307 | D57: 1.1.2.พันธุ์อ้อยที่เกษตรกรนิยมปลูก | E57: 1
D58: 1.1.3.จำนวนแหล่งวิจัยและผลิตพันธุ์อ้อยคุณภาพดีและทนต่อโรค | E58: 1
A59: Row Labels | B59: Count of หน่วยงานเจ้าของข้อมูล | D59: CSF1.2 การจัดทำข้อมูลต้นทุนการผลิต | E59: 1
A60: กรมศุลกากร | B60: 3 | D60: 1.1.4 โครงการงานวิจัยเพื่อลดต้นทุนการผลิต | E60: 1
A61: กลุ่มยุทธศาสตร์สำนักงานจังหวัด | B61: 4 | D61: CSF1.3 การวิจัยเทคโนโลยีและนวัตกรรมเพื่อเพิ่มผลผลิต | E61: 1
A62: กลุ่มยุทธศาสตร์สำนักงานจังหวัด/แขวงการทาง/ทางหลวงชนบท | B62: 2 | D62: 1.1.5 งานวิจัยเทคโนโลยีและนวัตกรรมเพื่อเพิ่มผลผลิตที่เหมาะสมกับการปลูกอ้อยในพื้นที่ | E62: 1
A63: เกษตร/สาธรณสุขจังหวัด | B63: 1 | D63: CSF1.4 การวิเคราะห์ความต้องการของตลาดและแนวโน้มสถานการณ์อ้อย ทั้งในและต่างประเทศ | E63: 1
A64: เกษตรจังหวัด | B64: 44 | D64: 1.1.6 รายงานการศึกษาความต้องการของตลาดและแนวโน้มสถานการณ์อ้อย ทั้งในและต่างประเทศ | E64: 1
A65: เกษตรจังหวัด/ขนส่งจังหวัด | B65: 1 | D65: 1.2 ปัจจัยพื้นฐานและการพัฒนาเกษตรกร | E65: 26
A66: เกษตรจังหวัด/โรงงานมัน | B66: 2 | D66: CSF2.1 การบริหารจัดการน้ำเพื่อการเพาะปลูก | E66: 1
A67: เกษตรจังหวัด/โรงงานอ้อย | B67: 2 | D67: 1.2.1 ร้อยละที่เพิ่มขึ้นของจำนวนพื้นที่ที่ได้รับการพัฒนาระบบกักเก็บน้ำและ ระบบชลประทาน | E67: 1
A68: เกษตรจังหวัด/สหกรณ์จังหวัด | B68: 2 | D68: CSF2.2 การบริหารจัดการ การใช้ที่ดิน (Zoning) | E68: 5
A69: เขตพื้นที่การศึกษา 1 /เขต2/เขต3/มัธยมที่24/กศน. | B69: 7 | D69: 1.2.2 เนื้อที่เกษตรกรรมโดยรวมของจังหวัด | E69: 1
A70: เขตพื้นที่การศึกษา 1, 2, 3 และ กศน. | B70: 1 | D70: 1.2.3 สัดส่วนของจำนวนพื้นที่ที่เหมาะกับการเพาะปลูกพืชแต่ละชนิด (ข้าว อ้อย มันสำปะหลัง) | E70: 2
A71: เขตพื้นที่การศึกษา เขต1 | B71: 1 | D71: 1.2.4 จำนวนเกษตรกรที่ขึ้นทะเบียน จำแนกตามการจัดพื้นที่เกษตรของจังหวัด (Zoning) | E71: 2
... A114: Grand Total | B114: 308 | D114: CSF6.1 พัฒนาตลาดกลางและศูนย์จำหน่ายสินค้า | E114: 4
...
